BEGIN:VCALENDAR
VERSION:2.0
PRODID:-//Ibiza Fun Family - ECPv6.15.17.1//NONSGML v1.0//EN
CALSCALE:GREGORIAN
METHOD:PUBLISH
X-WR-CALNAME:Ibiza Fun Family
X-ORIGINAL-URL:https://ibizafunfamily.com
X-WR-CALDESC:Eventos para Ibiza Fun Family
REFRESH-INTERVAL;VALUE=DURATION:PT1H
X-Robots-Tag:noindex
X-PUBLISHED-TTL:PT1H
BEGIN:VTIMEZONE
TZID:Europe/Madrid
BEGIN:DAYLIGHT
TZOFFSETFROM:+0100
TZOFFSETTO:+0200
TZNAME:CEST
DTSTART:20230326T010000
END:DAYLIGHT
BEGIN:STANDARD
TZOFFSETFROM:+0200
TZOFFSETTO:+0100
TZNAME:CET
DTSTART:20231029T010000
END:STANDARD
BEGIN:DAYLIGHT
TZOFFSETFROM:+0100
TZOFFSETTO:+0200
TZNAME:CEST
DTSTART:20240331T010000
END:DAYLIGHT
BEGIN:STANDARD
TZOFFSETFROM:+0200
TZOFFSETTO:+0100
TZNAME:CET
DTSTART:20241027T010000
END:STANDARD
BEGIN:DAYLIGHT
TZOFFSETFROM:+0100
TZOFFSETTO:+0200
TZNAME:CEST
DTSTART:20250330T010000
END:DAYLIGHT
BEGIN:STANDARD
TZOFFSETFROM:+0200
TZOFFSETTO:+0100
TZNAME:CET
DTSTART:20251026T010000
END:STANDARD
END:VTIMEZONE
BEGIN:VEVENT
DTSTART;TZID=Europe/Madrid:20241116T193000
DTEND;TZID=Europe/Madrid:20241116T193000
DTSTAMP:20260423T153129
CREATED:20241106T222609Z
LAST-MODIFIED:20241106T222609Z
UID:26592-1731785400-1731785400@ibizafunfamily.com
SUMMARY:Concierto de Santa Cecilia
DESCRIPTION:El Sábado 16 de Noviembre de 2024 a las 19:30 en del Palacio de Congresos d’Eivissa \nEntrada gratuita hasta completar aforo \nPrimera parte \nBanda juvenil de la escuela de Música de Santa Eulària dirección Francisco Martinez Florencio \nEl Cascanueces P.I Tchaikovski \nLos planetas G. Holst \nLa Pantera Rosa H.Mancini \nThe Oregon Trail M.Story \nSegunda parte \nBanda municipal de Música dirección Frank Cogollos Martínez \nRafael\, Paco y José Antonio / Ferrer Ferran \nFate of Gods / Steven Reineke \nLexicon of the Gods / Edwin Hawkins
URL:https://ibizafunfamily.com/agenda/concierto-de-santa-cecilia/
LOCATION:Palacio de Congresos de Santa Eulalia\, Avenida Salvador Camacho\, n9-11\, Santa Eulària des Riu\, Islas Baleares\, 07840\, España
CATEGORIES:Concierto
ATTACH;FMTTYPE=image/jpeg:https://ibizafunfamily.com/wp-content/uploads/2024/11/conciert.jpg
ORGANIZER;CN="Ajuntament de Santa Eul%C3%A0ria des Riu":MAILTO:alcaldia@santaeularia.com
END:VEVENT
END:VCALENDAR