BEGIN:VCALENDAR
VERSION:2.0
PRODID:-//Ibiza Fun Family - ECPv6.15.17.1//NONSGML v1.0//EN
CALSCALE:GREGORIAN
METHOD:PUBLISH
X-ORIGINAL-URL:https://ibizafunfamily.com
X-WR-CALDESC:Eventos para Ibiza Fun Family
REFRESH-INTERVAL;VALUE=DURATION:PT1H
X-Robots-Tag:noindex
X-PUBLISHED-TTL:PT1H
BEGIN:VTIMEZONE
TZID:Europe/Madrid
BEGIN:DAYLIGHT
TZOFFSETFROM:+0100
TZOFFSETTO:+0200
TZNAME:CEST
DTSTART:20230326T010000
END:DAYLIGHT
BEGIN:STANDARD
TZOFFSETFROM:+0200
TZOFFSETTO:+0100
TZNAME:CET
DTSTART:20231029T010000
END:STANDARD
BEGIN:DAYLIGHT
TZOFFSETFROM:+0100
TZOFFSETTO:+0200
TZNAME:CEST
DTSTART:20240331T010000
END:DAYLIGHT
BEGIN:STANDARD
TZOFFSETFROM:+0200
TZOFFSETTO:+0100
TZNAME:CET
DTSTART:20241027T010000
END:STANDARD
BEGIN:DAYLIGHT
TZOFFSETFROM:+0100
TZOFFSETTO:+0200
TZNAME:CEST
DTSTART:20250330T010000
END:DAYLIGHT
BEGIN:STANDARD
TZOFFSETFROM:+0200
TZOFFSETTO:+0100
TZNAME:CET
DTSTART:20251026T010000
END:STANDARD
END:VTIMEZONE
BEGIN:VEVENT
DTSTART;TZID=Europe/Madrid:20240607T200000
DTEND;TZID=Europe/Madrid:20240607T200000
DTSTAMP:20260424T213530
CREATED:20240507T081406Z
LAST-MODIFIED:20240507T082141Z
UID:23037-1717790400-1717790400@ibizafunfamily.com
SUMMARY:Concierto de la Banda Juvenil
DESCRIPTION:El Vieres 7 de Mayo de 2024 a las 20:00 en la Plaza de detrás de la Iglesia \nConcierto de la Banda Juvenil de la Escuela Municipal de Música de Santa Eulària \n\n				\n					\n						Ver programa completo
URL:https://ibizafunfamily.com/agenda/concierto-de-la-banda-juvenil/
LOCATION:Islas Baleares
CATEGORIES:Concierto
ATTACH;FMTTYPE=image/jpeg:https://ibizafunfamily.com/wp-content/uploads/2024/05/festes-de-puig-2024.jpg
ORGANIZER;CN="Ajuntament de Santa Eul%C3%A0ria des Riu":MAILTO:alcaldia@santaeularia.com
END:VEVENT
BEGIN:VEVENT
DTSTART;TZID=Europe/Madrid:20240624T210000
DTEND;TZID=Europe/Madrid:20240624T210000
DTSTAMP:20260424T213530
CREATED:20240620T232711Z
LAST-MODIFIED:20240620T232711Z
UID:23886-1719262800-1719262800@ibizafunfamily.com
SUMMARY:Concierto de la Banda Municipal de Música
DESCRIPTION:El Lunes 24 de Junio de 2024 en Sant Carles \n12:00 Missa \n21:00 Concierto de la Banda Municipal de Música en la Plaza de la Iglesia
URL:https://ibizafunfamily.com/agenda/concierto-de-la-banda-municipal-de-musica/
LOCATION:Plaza San Carlos\, Plaza San Carlos\,\, Sant Carles de Peralta\, islas baleares\, 07850\, España
CATEGORIES:Concierto
ATTACH;FMTTYPE=image/jpeg:https://ibizafunfamily.com/wp-content/uploads/2024/06/sant-joan-1.jpg
ORGANIZER;CN="Ajuntament de Santa Eul%C3%A0ria des Riu":MAILTO:alcaldia@santaeularia.com
END:VEVENT
BEGIN:VEVENT
DTSTART;TZID=Europe/Madrid:20240629T213000
DTEND;TZID=Europe/Madrid:20240629T213000
DTSTAMP:20260424T213530
CREATED:20240622T083358Z
LAST-MODIFIED:20240622T083358Z
UID:23900-1719696600-1719696600@ibizafunfamily.com
SUMMARY:Concierto a la llum de les espelmes
DESCRIPTION:El Sábado 29 de Junio de 21:30 en la Punta des Molí ( Sant Antoni) \nConcierto a la luz de las velas \nEntrada libre hasta completa aforo \nUna experiencia con violín\, violonchelo y piano
URL:https://ibizafunfamily.com/agenda/concierto-a-la-llum-de-les-espelmes/
LOCATION:Sa Punta des Molí\, Sa Punta des Molí\, Sant Antoni de Portmany\, Islas Baleares\, 07820\, España
CATEGORIES:Concierto
ATTACH;FMTTYPE=image/jpeg:https://ibizafunfamily.com/wp-content/uploads/2024/06/a-la-llum-de-les-espelmes.jpg
END:VEVENT
END:VCALENDAR