BEGIN:VCALENDAR
VERSION:2.0
PRODID:-//Ibiza Fun Family - ECPv6.15.17.1//NONSGML v1.0//EN
CALSCALE:GREGORIAN
METHOD:PUBLISH
X-WR-CALNAME:Ibiza Fun Family
X-ORIGINAL-URL:https://ibizafunfamily.com
X-WR-CALDESC:Eventos para Ibiza Fun Family
REFRESH-INTERVAL;VALUE=DURATION:PT1H
X-Robots-Tag:noindex
X-PUBLISHED-TTL:PT1H
BEGIN:VTIMEZONE
TZID:Europe/Madrid
BEGIN:DAYLIGHT
TZOFFSETFROM:+0100
TZOFFSETTO:+0200
TZNAME:CEST
DTSTART:20230326T010000
END:DAYLIGHT
BEGIN:STANDARD
TZOFFSETFROM:+0200
TZOFFSETTO:+0100
TZNAME:CET
DTSTART:20231029T010000
END:STANDARD
BEGIN:DAYLIGHT
TZOFFSETFROM:+0100
TZOFFSETTO:+0200
TZNAME:CEST
DTSTART:20240331T010000
END:DAYLIGHT
BEGIN:STANDARD
TZOFFSETFROM:+0200
TZOFFSETTO:+0100
TZNAME:CET
DTSTART:20241027T010000
END:STANDARD
BEGIN:DAYLIGHT
TZOFFSETFROM:+0100
TZOFFSETTO:+0200
TZNAME:CEST
DTSTART:20250330T010000
END:DAYLIGHT
BEGIN:STANDARD
TZOFFSETFROM:+0200
TZOFFSETTO:+0100
TZNAME:CET
DTSTART:20251026T010000
END:STANDARD
END:VTIMEZONE
BEGIN:VEVENT
DTSTART;TZID=Europe/Madrid:20241116T193000
DTEND;TZID=Europe/Madrid:20241116T193000
DTSTAMP:20260424T082130
CREATED:20241105T212924Z
LAST-MODIFIED:20241105T212924Z
UID:26550-1731785400-1731785400@ibizafunfamily.com
SUMMARY:Ciclo cine joven
DESCRIPTION:Los Sábados de Noviembre de 2024 a las 19:30 en el Centro Cultural de Can Jeroni \nSábado 9: Animales Fantásticos y dónde encontrarlos\, no recomendado para menores de 13 años \nSábado 16: El diario de Greg\, no recomendado para menores de 6 años \nSábado 23 : Chicos buenos\, no recomendado para menores de 16 años \nSábado 30: Escuadrón Suicida\, no recomendado para menores de 12 años
URL:https://ibizafunfamily.com/agenda/ciclo-cine-joven-3-2/
LOCATION:Can Jeroni\, Sant Josep\, Carrer sa Talaia\, 16\,\, Sant Josep de Sa Talaia\, islas baleares\, 07830\, España
CATEGORIES:Cine
ATTACH;FMTTYPE=image/jpeg:https://ibizafunfamily.com/wp-content/uploads/2024/11/ciclo-peli.jpg
ORGANIZER;CN="Ajuntament de Sant Josep de Sa Talaia":MAILTO:alcaldia@santjosep.org
END:VEVENT
END:VCALENDAR