BEGIN:VCALENDAR
VERSION:2.0
PRODID:-//Ibiza Fun Family - ECPv6.15.17.1//NONSGML v1.0//EN
CALSCALE:GREGORIAN
METHOD:PUBLISH
X-WR-CALNAME:Ibiza Fun Family
X-ORIGINAL-URL:https://ibizafunfamily.com
X-WR-CALDESC:Eventos para Ibiza Fun Family
REFRESH-INTERVAL;VALUE=DURATION:PT1H
X-Robots-Tag:noindex
X-PUBLISHED-TTL:PT1H
BEGIN:VTIMEZONE
TZID:Europe/Madrid
BEGIN:DAYLIGHT
TZOFFSETFROM:+0100
TZOFFSETTO:+0200
TZNAME:CEST
DTSTART:20230326T010000
END:DAYLIGHT
BEGIN:STANDARD
TZOFFSETFROM:+0200
TZOFFSETTO:+0100
TZNAME:CET
DTSTART:20231029T010000
END:STANDARD
BEGIN:DAYLIGHT
TZOFFSETFROM:+0100
TZOFFSETTO:+0200
TZNAME:CEST
DTSTART:20240331T010000
END:DAYLIGHT
BEGIN:STANDARD
TZOFFSETFROM:+0200
TZOFFSETTO:+0100
TZNAME:CET
DTSTART:20241027T010000
END:STANDARD
BEGIN:DAYLIGHT
TZOFFSETFROM:+0100
TZOFFSETTO:+0200
TZNAME:CEST
DTSTART:20250330T010000
END:DAYLIGHT
BEGIN:STANDARD
TZOFFSETFROM:+0200
TZOFFSETTO:+0100
TZNAME:CET
DTSTART:20251026T010000
END:STANDARD
END:VTIMEZONE
BEGIN:VEVENT
DTSTART;TZID=Europe/Madrid:20240816T220000
DTEND;TZID=Europe/Madrid:20240816T220000
DTSTAMP:20260426T012819
CREATED:20240709T211954Z
LAST-MODIFIED:20240709T212613Z
UID:24157-1723845600-1723845600@ibizafunfamily.com
SUMMARY:La vida de Pi\, cine familiar
DESCRIPTION:El Viernes 16 de Agosto de 2024 a las 22:00 en la Plaza de la Iglesia de Sant Jordi \nLa vida de Pi\, Ang Lee\, 2012 cine familiar \nEUA\, duración de 127 minutos\, doblaje en castellano \nTras un naufragio en medio del océano Pacífico\, el joven hindú Pi\, hijo de un guarda de zoo que viajaba de la India a Canadá\, se encuentra en un bote salvavidas con un único superviviente\, un tigre de bengala con quien labrará una emocionante\, increíble e inesperada relación \n\n				\n					\n						Ver programa
URL:https://ibizafunfamily.com/agenda/la-vida-de-pi-cine-familiar/
LOCATION:Plaza de Sant Jordi\, Carrer Cementeri\, 1\, Sant Jordi de ses Salines\, islas baleares\, 07817\, España
CATEGORIES:Cine
ATTACH;FMTTYPE=image/jpeg:https://ibizafunfamily.com/wp-content/uploads/2024/07/sant-jordi.jpg
ORGANIZER;CN="Ajuntament de Sant Josep de Sa Talaia":MAILTO:alcaldia@santjosep.org
END:VEVENT
END:VCALENDAR