BEGIN:VCALENDAR
VERSION:2.0
PRODID:-//Ibiza Fun Family - ECPv6.15.17.1//NONSGML v1.0//EN
CALSCALE:GREGORIAN
METHOD:PUBLISH
X-WR-CALNAME:Ibiza Fun Family
X-ORIGINAL-URL:https://ibizafunfamily.com
X-WR-CALDESC:Eventos para Ibiza Fun Family
REFRESH-INTERVAL;VALUE=DURATION:PT1H
X-Robots-Tag:noindex
X-PUBLISHED-TTL:PT1H
BEGIN:VTIMEZONE
TZID:Europe/Madrid
BEGIN:DAYLIGHT
TZOFFSETFROM:+0100
TZOFFSETTO:+0200
TZNAME:CEST
DTSTART:20230326T010000
END:DAYLIGHT
BEGIN:STANDARD
TZOFFSETFROM:+0200
TZOFFSETTO:+0100
TZNAME:CET
DTSTART:20231029T010000
END:STANDARD
BEGIN:DAYLIGHT
TZOFFSETFROM:+0100
TZOFFSETTO:+0200
TZNAME:CEST
DTSTART:20240331T010000
END:DAYLIGHT
BEGIN:STANDARD
TZOFFSETFROM:+0200
TZOFFSETTO:+0100
TZNAME:CET
DTSTART:20241027T010000
END:STANDARD
BEGIN:DAYLIGHT
TZOFFSETFROM:+0100
TZOFFSETTO:+0200
TZNAME:CEST
DTSTART:20250330T010000
END:DAYLIGHT
BEGIN:STANDARD
TZOFFSETFROM:+0200
TZOFFSETTO:+0100
TZNAME:CET
DTSTART:20251026T010000
END:STANDARD
END:VTIMEZONE
BEGIN:VEVENT
DTSTART;TZID=Europe/Madrid:20240730T220000
DTEND;TZID=Europe/Madrid:20240730T220000
DTSTAMP:20260425T235338
CREATED:20240714T210609Z
LAST-MODIFIED:20240714T210609Z
UID:24289-1722376800-1722376800@ibizafunfamily.com
SUMMARY:Cine a la fresca\, El intendente Sansho
DESCRIPTION:El Martes 30  de Julio de 2024 a las 22:00 en Jardí de ses Eres en Sant Francesc \nCine a la fresca\, El intendente Sansho \nNo recomendada para menores de 12 años \nLas peliculas son en versión original subtituladas en castellano
URL:https://ibizafunfamily.com/agenda/cine-a-la-fresca-el-intendente-sansho/
LOCATION:Jardí de Ses Eres.\, detrás de la Iglesia de Sant Francesc\, Formentera\, Islas Baleares\, 07860\, España
CATEGORIES:Cine
ATTACH;FMTTYPE=image/jpeg:https://ibizafunfamily.com/wp-content/uploads/2024/07/formentera.jpg
ORGANIZER;CN="Consell de Formentera":MAILTO:presidencia@conselldeformentera.cat
END:VEVENT
BEGIN:VEVENT
DTSTART;TZID=Europe/Madrid:20240730T220000
DTEND;TZID=Europe/Madrid:20240730T220000
DTSTAMP:20260425T235338
CREATED:20240714T212118Z
LAST-MODIFIED:20240714T212118Z
UID:24296-1722376800-1722376800@ibizafunfamily.com
SUMMARY:Cine a la fresca\, Super Mario Bros: La Pelicula
DESCRIPTION:El Martes 13 de Agosto de 2024 a las 22:00 en la Playa de Talamanca \nCine a la fresca\, Super Mario Bros: La Pelicula (CAT)
URL:https://ibizafunfamily.com/agenda/cine-a-la-fresca-super-mario-bros-la-pelicula/
LOCATION:Playa Ses Figueres Talamanca\, Calle ses Figueres\, Eivissa\, islas baleares\, 07800\, España
CATEGORIES:Cine
ATTACH;FMTTYPE=image/jpeg:https://ibizafunfamily.com/wp-content/uploads/2024/07/cine.jpg
END:VEVENT
BEGIN:VEVENT
DTSTART;TZID=Europe/Madrid:20240730T220000
DTEND;TZID=Europe/Madrid:20240730T223000
DTSTAMP:20260425T235338
CREATED:20240714T211931Z
LAST-MODIFIED:20240714T211931Z
UID:24293-1722376800-1722378600@ibizafunfamily.com
SUMMARY:Cine a la fresca\, Cásate conmigo
DESCRIPTION:El MArtes 30 de Julio de 2024 a las 22:00 e el Local social Ses Figueretes \nCine a la fresca\, Cásate conmigo (CAST)
URL:https://ibizafunfamily.com/agenda/cine-a-la-fresca-casate-conmigo/
LOCATION:AAVV Ses Figueretes\, Avenida de Sant Jordi\, 18\, Eivissa\, Islas Baleares\, 07800\, España
CATEGORIES:Cine
ATTACH;FMTTYPE=image/jpeg:https://ibizafunfamily.com/wp-content/uploads/2024/07/cine.jpg
END:VEVENT
END:VCALENDAR