BEGIN:VCALENDAR
VERSION:2.0
PRODID:-//Ibiza Fun Family - ECPv6.15.17.1//NONSGML v1.0//EN
CALSCALE:GREGORIAN
METHOD:PUBLISH
X-WR-CALNAME:Ibiza Fun Family
X-ORIGINAL-URL:https://ibizafunfamily.com
X-WR-CALDESC:Eventos para Ibiza Fun Family
REFRESH-INTERVAL;VALUE=DURATION:PT1H
X-Robots-Tag:noindex
X-PUBLISHED-TTL:PT1H
BEGIN:VTIMEZONE
TZID:Europe/Madrid
BEGIN:DAYLIGHT
TZOFFSETFROM:+0100
TZOFFSETTO:+0200
TZNAME:CEST
DTSTART:20240331T010000
END:DAYLIGHT
BEGIN:STANDARD
TZOFFSETFROM:+0200
TZOFFSETTO:+0100
TZNAME:CET
DTSTART:20241027T010000
END:STANDARD
BEGIN:DAYLIGHT
TZOFFSETFROM:+0100
TZOFFSETTO:+0200
TZNAME:CEST
DTSTART:20250330T010000
END:DAYLIGHT
BEGIN:STANDARD
TZOFFSETFROM:+0200
TZOFFSETTO:+0100
TZNAME:CET
DTSTART:20251026T010000
END:STANDARD
BEGIN:DAYLIGHT
TZOFFSETFROM:+0100
TZOFFSETTO:+0200
TZNAME:CEST
DTSTART:20260329T010000
END:DAYLIGHT
BEGIN:STANDARD
TZOFFSETFROM:+0200
TZOFFSETTO:+0100
TZNAME:CET
DTSTART:20261025T010000
END:STANDARD
END:VTIMEZONE
BEGIN:VEVENT
DTSTART;TZID=Europe/Madrid:20250111T190000
DTEND;TZID=Europe/Madrid:20250111T190000
DTSTAMP:20260423T115621
CREATED:20241229T231442Z
LAST-MODIFIED:20250109T205243Z
UID:28081-1736622000-1736622000@ibizafunfamily.com
SUMMARY:Danza\, Chelo y Pasión
DESCRIPTION:El Sábado 11 de Enero de 2024 a las 17:00 en el Teatro España \nDanza\, «Chelo y Pasión». Un viaje cultural a través de la danza\, a cargo de María José Minguez\, Eva Ruiz y Sussana Rozsa. Entradas a 6€ ( Más gastos de gestión) y en taquilla 8€ más gastos de gestión\, menores de 12 años 50% de descuento \nEn esta web sólo mostramos eventos para familias y niños\, puedes consultar el programa completo de fiestas en el siguiente enlace \n\n				\n					\n						Ver programa completo
URL:https://ibizafunfamily.com/agenda/danza-chelo-y-pasion/
LOCATION:Teatro España\, Santa Eulalia\, C/ de Sant Jaume\, 81\,\, Santa Eulària des Riu\, Islas Baleares\, 07840\, España
CATEGORIES:Baile
ATTACH;FMTTYPE=image/jpeg:https://ibizafunfamily.com/wp-content/uploads/2024/12/chelo-y-pasion.jpg
ORGANIZER;CN="Ajuntament de Santa Eul%C3%A0ria des Riu":MAILTO:alcaldia@santaeularia.com
END:VEVENT
END:VCALENDAR