BEGIN:VCALENDAR
VERSION:2.0
PRODID:-//Ibiza Fun Family - ECPv6.15.17.1//NONSGML v1.0//EN
CALSCALE:GREGORIAN
METHOD:PUBLISH
X-ORIGINAL-URL:https://ibizafunfamily.com
X-WR-CALDESC:Eventos para Ibiza Fun Family
REFRESH-INTERVAL;VALUE=DURATION:PT1H
X-Robots-Tag:noindex
X-PUBLISHED-TTL:PT1H
BEGIN:VTIMEZONE
TZID:Europe/Madrid
BEGIN:DAYLIGHT
TZOFFSETFROM:+0100
TZOFFSETTO:+0200
TZNAME:CEST
DTSTART:20220327T010000
END:DAYLIGHT
BEGIN:STANDARD
TZOFFSETFROM:+0200
TZOFFSETTO:+0100
TZNAME:CET
DTSTART:20221030T010000
END:STANDARD
BEGIN:DAYLIGHT
TZOFFSETFROM:+0100
TZOFFSETTO:+0200
TZNAME:CEST
DTSTART:20230326T010000
END:DAYLIGHT
BEGIN:STANDARD
TZOFFSETFROM:+0200
TZOFFSETTO:+0100
TZNAME:CET
DTSTART:20231029T010000
END:STANDARD
BEGIN:DAYLIGHT
TZOFFSETFROM:+0100
TZOFFSETTO:+0200
TZNAME:CEST
DTSTART:20240331T010000
END:DAYLIGHT
BEGIN:STANDARD
TZOFFSETFROM:+0200
TZOFFSETTO:+0100
TZNAME:CET
DTSTART:20241027T010000
END:STANDARD
END:VTIMEZONE
BEGIN:VEVENT
DTSTART;TZID=Europe/Madrid:20230427T130000
DTEND;TZID=Europe/Madrid:20230504T140000
DTSTAMP:20260420T011758
CREATED:20230320T094527Z
LAST-MODIFIED:20230421T102211Z
UID:11802-1682600400-1683208800@ibizafunfamily.com
SUMMARY:Puertas abiertas CEIP Sant Ciriac
DESCRIPTION:El 27 de Abril y el 4 de Mayo tendremos puertas abiertas en el CEIP Sant Ciriac de 13:00 a 14:00 \n  \n\n				\n					\n						CEIP Sant Ciriac
URL:https://ibizafunfamily.com/agenda/puertas-abiertas-ceip-sant-ciriac-2023-2/
LOCATION:CEIP Sant Ciriac\, Vénda des Coloms\, n5\, Santa Eulària des Riu\, Islas Baleares\, 97840\, España
CATEGORIES:Agenda para padres,Inscripciones
ATTACH;FMTTYPE=image/jpeg:https://ibizafunfamily.com/wp-content/uploads/2023/03/sant-ciriac-e1679306541790.jpg
ORGANIZER;CN="CEIP Sant Ciriac":MAILTO:ceipsantciriac@educaib.eu
END:VEVENT
BEGIN:VEVENT
DTSTART;VALUE=DATE:20230502
DTEND;VALUE=DATE:20230511
DTSTAMP:20260420T011759
CREATED:20230412T103927Z
LAST-MODIFIED:20230424T173308Z
UID:12524-1682985600-1683763199@ibizafunfamily.com
SUMMARY:Inscripciones\, Escuela de Verano municipio de Ibiza
DESCRIPTION:Insripciones del 2 al 10 de Mayo \nDesde las 8:00 del día 2 a las 20:00  del día 10 \nEdad: peques de 3 a 12 años ( escolarizados en infantil y primaria) \nDonde: CEIP Sa Bodega\, CEIP Sa Graduada y CEIP Sa Joveria \nMás información en su web \n\n				\n					\n						Ver más información\n					\n				\n			  \n\n				\n					\n						Inscripciones
URL:https://ibizafunfamily.com/agenda/escuela-de-verano-del-c19/
LOCATION:Centre de Creación Joven C19\, C/ Castilla\, n19\, Eivissa\, Islas Baleares\, 07800\, España
CATEGORIES:Agenda para padres,Inscripciones
ATTACH;FMTTYPE=image/jpeg:https://ibizafunfamily.com/wp-content/uploads/2023/04/estiu.jpg
END:VEVENT
BEGIN:VEVENT
DTSTART;TZID=Europe/Madrid:20230504T130000
DTEND;TZID=Europe/Madrid:20230504T140000
DTSTAMP:20260420T011759
CREATED:20230320T100617Z
LAST-MODIFIED:20230421T102157Z
UID:11808-1683205200-1683208800@ibizafunfamily.com
SUMMARY:Puertas abiertas  CEIP Sant Ciriac
DESCRIPTION:El 27 de Abril y el 4 de Mayo tendremos puertas abiertas en el CEIP Sant Ciriac de 13:00 a 14:00 \n  \n\n				\n					\n						CEIP Sant Ciriac
URL:https://ibizafunfamily.com/agenda/puertas-abiertas-ceip-sant-ciriac-2023/
LOCATION:CEIP Sant Ciriac\, Vénda des Coloms\, n5\, Santa Eulària des Riu\, Islas Baleares\, 97840\, España
CATEGORIES:Agenda para padres,Inscripciones
ATTACH;FMTTYPE=image/jpeg:https://ibizafunfamily.com/wp-content/uploads/2023/03/sant-ciriac-e1679306541790.jpg
ORGANIZER;CN="CEIP Sant Ciriac":MAILTO:ceipsantciriac@educaib.eu
END:VEVENT
END:VCALENDAR