BEGIN:VCALENDAR
VERSION:2.0
PRODID:-//Ibiza Fun Family - ECPv6.15.17.1//NONSGML v1.0//EN
CALSCALE:GREGORIAN
METHOD:PUBLISH
X-ORIGINAL-URL:https://ibizafunfamily.com
X-WR-CALDESC:Eventos para Ibiza Fun Family
REFRESH-INTERVAL;VALUE=DURATION:PT1H
X-Robots-Tag:noindex
X-PUBLISHED-TTL:PT1H
BEGIN:VTIMEZONE
TZID:Europe/Madrid
BEGIN:DAYLIGHT
TZOFFSETFROM:+0100
TZOFFSETTO:+0200
TZNAME:CEST
DTSTART:20220327T010000
END:DAYLIGHT
BEGIN:STANDARD
TZOFFSETFROM:+0200
TZOFFSETTO:+0100
TZNAME:CET
DTSTART:20221030T010000
END:STANDARD
BEGIN:DAYLIGHT
TZOFFSETFROM:+0100
TZOFFSETTO:+0200
TZNAME:CEST
DTSTART:20230326T010000
END:DAYLIGHT
BEGIN:STANDARD
TZOFFSETFROM:+0200
TZOFFSETTO:+0100
TZNAME:CET
DTSTART:20231029T010000
END:STANDARD
BEGIN:DAYLIGHT
TZOFFSETFROM:+0100
TZOFFSETTO:+0200
TZNAME:CEST
DTSTART:20240331T010000
END:DAYLIGHT
BEGIN:STANDARD
TZOFFSETFROM:+0200
TZOFFSETTO:+0100
TZNAME:CET
DTSTART:20241027T010000
END:STANDARD
END:VTIMEZONE
BEGIN:VEVENT
DTSTART;TZID=Europe/Madrid:20230418T100000
DTEND;TZID=Europe/Madrid:20230424T170000
DTSTAMP:20260420T011801
CREATED:20230315T090633Z
LAST-MODIFIED:20230315T160408Z
UID:11630-1681812000-1682355600@ibizafunfamily.com
SUMMARY:Puertas Abiertas CEIP Can Misses
DESCRIPTION:Los días 18 y 24 de Abril a las 10h el colegio de educación infantil y primaria CEIP Can Mises organiza su jornada de puertas abiertas \nNecesario reservar plaza al correo ceipcanmisses@educaib.eu o al teléfono 971 31 43 76
URL:https://ibizafunfamily.com/agenda/puertas-abiertas-ceip-can-misses/
LOCATION:CEIP Can Misses\, C/ Corona\, n25\, Eivissa\, Islas Baleares\, 07800\, España
CATEGORIES:Agenda para padres,Colegios,Inscripciones
ATTACH;FMTTYPE=image/jpeg:https://ibizafunfamily.com/wp-content/uploads/2023/03/puertas-abiertas-can-misses-2023.jpeg
END:VEVENT
BEGIN:VEVENT
DTSTART;TZID=Europe/Madrid:20230424T160000
DTEND;TZID=Europe/Madrid:20230424T170000
DTSTAMP:20260420T011801
CREATED:20230315T083219Z
LAST-MODIFIED:20230315T083219Z
UID:11597-1682352000-1682355600@ibizafunfamily.com
SUMMARY:Puertas Abiertas CEIP Santa Agnès
DESCRIPTION:El próximo 24 de Abril a las 16h el colegio de educación infantil y primario CEIP Santa Agnès de Corona abre sus puertas para  que las familias interesadas puedan visitar el centro \nPara más información contactar al 971 80 50 21
URL:https://ibizafunfamily.com/agenda/puertas-abiertas-ceip-santa-agnes/
LOCATION:Escola de Sta Agnes de Corona\, Diseminado es Pla de Corona\, 61\, Sant Antoni de Portmany\, Islas Baleares\, 07828\, España
CATEGORIES:Agenda para padres,Colegios,Inscripciones
ATTACH;FMTTYPE=image/jpeg:https://ibizafunfamily.com/wp-content/uploads/2023/03/puertas-abertas-CEIP-Santa-Agnes.jpeg
END:VEVENT
END:VCALENDAR