BEGIN:VCALENDAR
VERSION:2.0
PRODID:-//Ibiza Fun Family - ECPv6.15.17.1//NONSGML v1.0//EN
CALSCALE:GREGORIAN
METHOD:PUBLISH
X-WR-CALNAME:Ibiza Fun Family
X-ORIGINAL-URL:https://ibizafunfamily.com
X-WR-CALDESC:Eventos para Ibiza Fun Family
REFRESH-INTERVAL;VALUE=DURATION:PT1H
X-Robots-Tag:noindex
X-PUBLISHED-TTL:PT1H
BEGIN:VTIMEZONE
TZID:Europe/Madrid
BEGIN:DAYLIGHT
TZOFFSETFROM:+0100
TZOFFSETTO:+0200
TZNAME:CEST
DTSTART:20220327T010000
END:DAYLIGHT
BEGIN:STANDARD
TZOFFSETFROM:+0200
TZOFFSETTO:+0100
TZNAME:CET
DTSTART:20221030T010000
END:STANDARD
BEGIN:DAYLIGHT
TZOFFSETFROM:+0100
TZOFFSETTO:+0200
TZNAME:CEST
DTSTART:20230326T010000
END:DAYLIGHT
BEGIN:STANDARD
TZOFFSETFROM:+0200
TZOFFSETTO:+0100
TZNAME:CET
DTSTART:20231029T010000
END:STANDARD
BEGIN:DAYLIGHT
TZOFFSETFROM:+0100
TZOFFSETTO:+0200
TZNAME:CEST
DTSTART:20240331T010000
END:DAYLIGHT
BEGIN:STANDARD
TZOFFSETFROM:+0200
TZOFFSETTO:+0100
TZNAME:CET
DTSTART:20241027T010000
END:STANDARD
END:VTIMEZONE
BEGIN:VEVENT
DTSTART;VALUE=DATE:20230301
DTEND;VALUE=DATE:20230321
DTSTAMP:20260422T171633
CREATED:20230303T095504Z
LAST-MODIFIED:20230308T204330Z
UID:11065-1677628800-1679356799@ibizafunfamily.com
SUMMARY:Inscripción Curso Monitor de apoyo a NEE
DESCRIPTION:Inscribete del 1 al 20 de marzo de 2023 en  ocioyvoluntariado@apneef.org \nCurso de monitor/a de apoyo a N.E.E ( necesidades educativas especiales). \nLugar centro c19\, en calle de Castella 19\, Ibiza. \nHorarios\, Sábado  1 de Abril de 9 a 13:30 y 15  a 18:30h. \nDomingo 2 de Abril de 9:30 a 14:00 \nCurso gratuito- Plazas limitadas. \n\n				\n					\n						Correo electrónico
URL:https://ibizafunfamily.com/agenda/jornadas-de-formacion-al-voluntariado/
LOCATION:Centre de Creación Joven C19\, C/ Castilla\, n19\, Eivissa\, Islas Baleares\, 07800\, España
CATEGORIES:Agenda para padres,Inscripciones
ATTACH;FMTTYPE=image/jpeg:https://ibizafunfamily.com/wp-content/uploads/2023/03/561f932a-4281-49b3-a1bf-3f7e7b572727.jpg
END:VEVENT
BEGIN:VEVENT
DTSTART;TZID=Europe/Madrid:20230309T160000
DTEND;TZID=Europe/Madrid:20230309T180000
DTSTAMP:20260422T171633
CREATED:20230303T161157Z
LAST-MODIFIED:20230303T161157Z
UID:11107-1678377600-1678384800@ibizafunfamily.com
SUMMARY:Puertas Abiertas\, Escoleta de Vila
DESCRIPTION:El próximo Jueves 9 de Marzo de 16  a 18h la escoleta de Vila abrirá sus puertas para que conozcáis la guardería los interesados en matricular a sus hijos en estas instalaciones \nNo os lo perdáis
URL:https://ibizafunfamily.com/agenda/puertas-abiertas-escoleta-de-vila/
LOCATION:Escoleta de Vila\, Carrer de Fra Vicent Nicolau\, n7\, Eivissa\, Islas Baleares\, 07800\, España
CATEGORIES:Agenda para padres,Guardería,Inscripciones
ATTACH;FMTTYPE=image/jpeg:https://ibizafunfamily.com/wp-content/uploads/2023/03/WhatsApp-Image-2023-03-03-at-14.30.40-e1677858757720.jpeg
END:VEVENT
BEGIN:VEVENT
DTSTART;TZID=Europe/Madrid:20230309T173000
DTEND;TZID=Europe/Madrid:20230309T173000
DTSTAMP:20260422T171633
CREATED:20230303T162515Z
LAST-MODIFIED:20230303T162515Z
UID:11110-1678383000-1678383000@ibizafunfamily.com
SUMMARY:Puertas Abiertas\, Escoleta Es Vedranell
DESCRIPTION:Los próximos Jueves 9 y 16 de Marzo a las 17:30h la escoleta de Es Vedranell abre sus puertas para que podáis visitar en centro las familias  interesadas en escolarizar a vuestros hijos en este centro \nNiños nacidos en 2021\, 2022 o 2023 \nContacto al 657 364 031 o por email a escoletaesvedranell@gmail.com \nNo os lo perdáis
URL:https://ibizafunfamily.com/agenda/puertas-abiertas-escoleta-es-vedranell/
LOCATION:Escoleta Es Vedranell\, Cami Pu den Mosson\, s/n\, Sant Agustí\, Islas Baleares\, 07830\, España
CATEGORIES:Agenda para padres,Guardería,Inscripciones
ATTACH;FMTTYPE=image/jpeg:https://ibizafunfamily.com/wp-content/uploads/2023/03/WhatsApp-Image-2023-03-02-at-12.34.19-e1677860691241.jpeg
ORGANIZER;CN="Ajuntament de Sant Josep de Sa Talaia":MAILTO:alcaldia@santjosep.org
END:VEVENT
END:VCALENDAR