BEGIN:VCALENDAR
VERSION:2.0
PRODID:-//Ibiza Fun Family - ECPv6.15.17.1//NONSGML v1.0//EN
CALSCALE:GREGORIAN
METHOD:PUBLISH
X-ORIGINAL-URL:https://ibizafunfamily.com
X-WR-CALDESC:Eventos para Ibiza Fun Family
REFRESH-INTERVAL;VALUE=DURATION:PT1H
X-Robots-Tag:noindex
X-PUBLISHED-TTL:PT1H
BEGIN:VTIMEZONE
TZID:Europe/Madrid
BEGIN:DAYLIGHT
TZOFFSETFROM:+0100
TZOFFSETTO:+0200
TZNAME:CEST
DTSTART:20220327T010000
END:DAYLIGHT
BEGIN:STANDARD
TZOFFSETFROM:+0200
TZOFFSETTO:+0100
TZNAME:CET
DTSTART:20221030T010000
END:STANDARD
BEGIN:DAYLIGHT
TZOFFSETFROM:+0100
TZOFFSETTO:+0200
TZNAME:CEST
DTSTART:20230326T010000
END:DAYLIGHT
BEGIN:STANDARD
TZOFFSETFROM:+0200
TZOFFSETTO:+0100
TZNAME:CET
DTSTART:20231029T010000
END:STANDARD
BEGIN:DAYLIGHT
TZOFFSETFROM:+0100
TZOFFSETTO:+0200
TZNAME:CEST
DTSTART:20240331T010000
END:DAYLIGHT
BEGIN:STANDARD
TZOFFSETFROM:+0200
TZOFFSETTO:+0100
TZNAME:CET
DTSTART:20241027T010000
END:STANDARD
END:VTIMEZONE
BEGIN:VEVENT
DTSTART;VALUE=DATE:20230508
DTEND;VALUE=DATE:20230516
DTSTAMP:20260419T190251
CREATED:20230425T104028Z
LAST-MODIFIED:20230509T204211Z
UID:13144-1683504000-1684195199@ibizafunfamily.com
SUMMARY:Preincripciones Escuela de Verano Sant Josep
DESCRIPTION:Desde el 8 al 15 de Mayo se abre periodo de inscripción para las Escuelas de Verano del municipio de Sant Josep organizadas por el ayuntamiento \nPre inscripciones y pagos online en la web santjosep.org \nOs dejamos enlace a toda la información sobre la escuela \n\n				\n					\n						Ver más información sobre la escuela en su web
URL:https://ibizafunfamily.com/agenda/preincripciones-escuela-de-verano-sant-josep/
CATEGORIES:Agenda para padres,Escuelas en Vacaciones
ATTACH;FMTTYPE=image/png:https://ibizafunfamily.com/wp-content/uploads/2023/04/Baner-2.png
END:VEVENT
END:VCALENDAR