BEGIN:VCALENDAR
VERSION:2.0
PRODID:-//Ibiza Fun Family - ECPv6.15.17.1//NONSGML v1.0//EN
CALSCALE:GREGORIAN
METHOD:PUBLISH
X-ORIGINAL-URL:https://ibizafunfamily.com
X-WR-CALDESC:Eventos para Ibiza Fun Family
REFRESH-INTERVAL;VALUE=DURATION:PT1H
X-Robots-Tag:noindex
X-PUBLISHED-TTL:PT1H
BEGIN:VTIMEZONE
TZID:Europe/Madrid
BEGIN:DAYLIGHT
TZOFFSETFROM:+0100
TZOFFSETTO:+0200
TZNAME:CEST
DTSTART:20240331T010000
END:DAYLIGHT
BEGIN:STANDARD
TZOFFSETFROM:+0200
TZOFFSETTO:+0100
TZNAME:CET
DTSTART:20241027T010000
END:STANDARD
BEGIN:DAYLIGHT
TZOFFSETFROM:+0100
TZOFFSETTO:+0200
TZNAME:CEST
DTSTART:20250330T010000
END:DAYLIGHT
BEGIN:STANDARD
TZOFFSETFROM:+0200
TZOFFSETTO:+0100
TZNAME:CET
DTSTART:20251026T010000
END:STANDARD
BEGIN:DAYLIGHT
TZOFFSETFROM:+0100
TZOFFSETTO:+0200
TZNAME:CEST
DTSTART:20260329T010000
END:DAYLIGHT
BEGIN:STANDARD
TZOFFSETFROM:+0200
TZOFFSETTO:+0100
TZNAME:CET
DTSTART:20261025T010000
END:STANDARD
END:VTIMEZONE
BEGIN:VEVENT
DTSTART;TZID=Europe/Madrid:20250508T080000
DTEND;TZID=Europe/Madrid:20250508T110000
DTSTAMP:20260420T062805
CREATED:20250320T220834Z
LAST-MODIFIED:20250320T220834Z
UID:29284-1746691200-1746702000@ibizafunfamily.com
SUMMARY:Jornada de puertas abiertas en Ceip Sant Ciriac
DESCRIPTION:El martes 6 y jueves 8 de Mayo de 2025 en el Ceip Sant Ciriac \nInformación al 971331200 o ceipsantciriac@educaib.eu \nSe necesita cita previa
URL:https://ibizafunfamily.com/agenda/jornada-de-puertas-abiertas-en-ceip-sant-ciriac-2/
LOCATION:CEIP Sant Ciriac\, Vénda des Coloms\, n5\, Santa Eulària des Riu\, Islas Baleares\, 97840\, España
CATEGORIES:Agenda para padres,Colegios
ATTACH;FMTTYPE=image/jpeg:https://ibizafunfamily.com/wp-content/uploads/2025/03/puertas-abiertas-santa-y-sant-joan.jpg
ORGANIZER;CN="CEIP Sant Ciriac":MAILTO:ceipsantciriac@educaib.eu
END:VEVENT
BEGIN:VEVENT
DTSTART;TZID=Europe/Madrid:20250508T173000
DTEND;TZID=Europe/Madrid:20250508T173000
DTSTAMP:20260420T062805
CREATED:20250505T221122Z
LAST-MODIFIED:20250507T051343Z
UID:30569-1746725400-1746725400@ibizafunfamily.com
SUMMARY:Jornada de puertas abiertas en Ceip Sant Ferran
DESCRIPTION:El Jueves 8 de mayo de 2025 a las 17:30 en el Ceip Sant Ferran de Ses Roques \nJornada de puertas abiertas \n 
URL:https://ibizafunfamily.com/agenda/jornada-de-puertas-abiertas-en-ceip-sant-ferran/
LOCATION:CEIP Sant Ferran de Ses Roques\, Carrer Mestra Maria Mayans Ferrer\, Formentera\, Islas Baleares\, 07871\, España
CATEGORIES:Agenda para padres,Colegios
ATTACH;FMTTYPE=image/jpeg:https://ibizafunfamily.com/wp-content/uploads/2025/05/ses-roques-e1746482811623.jpg
ORGANIZER;CN="CEIP Sant Ferran de Ses Roques":MAILTO:ceipsantferran@educaib.eu
END:VEVENT
END:VCALENDAR