BEGIN:VCALENDAR
VERSION:2.0
PRODID:-//Ibiza Fun Family - ECPv6.15.17.1//NONSGML v1.0//EN
CALSCALE:GREGORIAN
METHOD:PUBLISH
X-ORIGINAL-URL:https://ibizafunfamily.com
X-WR-CALDESC:Eventos para Ibiza Fun Family
REFRESH-INTERVAL;VALUE=DURATION:PT1H
X-Robots-Tag:noindex
X-PUBLISHED-TTL:PT1H
BEGIN:VTIMEZONE
TZID:Europe/Madrid
BEGIN:DAYLIGHT
TZOFFSETFROM:+0100
TZOFFSETTO:+0200
TZNAME:CEST
DTSTART:20240331T010000
END:DAYLIGHT
BEGIN:STANDARD
TZOFFSETFROM:+0200
TZOFFSETTO:+0100
TZNAME:CET
DTSTART:20241027T010000
END:STANDARD
BEGIN:DAYLIGHT
TZOFFSETFROM:+0100
TZOFFSETTO:+0200
TZNAME:CEST
DTSTART:20250330T010000
END:DAYLIGHT
BEGIN:STANDARD
TZOFFSETFROM:+0200
TZOFFSETTO:+0100
TZNAME:CET
DTSTART:20251026T010000
END:STANDARD
BEGIN:DAYLIGHT
TZOFFSETFROM:+0100
TZOFFSETTO:+0200
TZNAME:CEST
DTSTART:20260329T010000
END:DAYLIGHT
BEGIN:STANDARD
TZOFFSETFROM:+0200
TZOFFSETTO:+0100
TZNAME:CET
DTSTART:20261025T010000
END:STANDARD
END:VTIMEZONE
BEGIN:VEVENT
DTSTART;VALUE=DATE:20250428
DTEND;VALUE=DATE:20250508
DTSTAMP:20260420T062803
CREATED:20250404T205826Z
LAST-MODIFIED:20250404T205943Z
UID:29763-1745798400-1746662399@ibizafunfamily.com
SUMMARY:Jornada puertas abiertas en Cei Trenet Blau
DESCRIPTION:Del 28 de Abril al 7 de Mayo de 2025 en CEI Trenet Blau \nJornada de puertas abiertas \nCita previa \n971306755
URL:https://ibizafunfamily.com/agenda/jornada-puertas-abiertas-en-cei-trenet-blau/
LOCATION:El Trenet Blau\, Carrer Riu Minyo\, 7\, Sant Jordi de ses Salines\, islas baleares\, 07817\, España
CATEGORIES:Agenda para padres,Colegios
ATTACH;FMTTYPE=image/jpeg:https://ibizafunfamily.com/wp-content/uploads/2023/04/sant-josep.jpg
END:VEVENT
BEGIN:VEVENT
DTSTART;TZID=Europe/Madrid:20250506T093000
DTEND;TZID=Europe/Madrid:20250507T100000
DTSTAMP:20260420T062804
CREATED:20250317T230239Z
LAST-MODIFIED:20250317T230239Z
UID:29232-1746523800-1746612000@ibizafunfamily.com
SUMMARY:Jornada de puertas abiertas en Ceip Can Missses
DESCRIPTION:Los días 6 y 7 de mayo de 2025 a las 9:30 en el Ceip Can Misses \nJornada de puertas abiertas \nSe necesita coger cita en el correo ceipcanmisses@educaib.eu o en le Whassap 623964463 \nSe ruega visitar sin peques
URL:https://ibizafunfamily.com/agenda/jornada-de-puertas-abiertas-en-ceip-can-missses/
LOCATION:CEIP Can Misses\, C/ Corona\, n25\, Eivissa\, Islas Baleares\, 07800\, España
CATEGORIES:Agenda para padres,Colegios
ATTACH;FMTTYPE=image/jpeg:https://ibizafunfamily.com/wp-content/uploads/2025/03/vila-e1742250766370.jpg
END:VEVENT
BEGIN:VEVENT
DTSTART;TZID=Europe/Madrid:20250506T100000
DTEND;TZID=Europe/Madrid:20250506T110000
DTSTAMP:20260420T062804
CREATED:20250320T220637Z
LAST-MODIFIED:20250320T220656Z
UID:29280-1746525600-1746529200@ibizafunfamily.com
SUMMARY:Jornada de puertas abiertas en Ceip Sant Ciriac
DESCRIPTION:El martes 6 y jueves 8 de Mayo de 2025 en el Ceip Sant Ciriac \nInformación al 971331200 o ceipsantciriac@educaib.eu \nSe necesita cita previa
URL:https://ibizafunfamily.com/agenda/jornada-de-puertas-abiertas-en-ceip-sant-ciriac/
LOCATION:CEIP Sant Ciriac\, Vénda des Coloms\, n5\, Santa Eulària des Riu\, Islas Baleares\, 97840\, España
CATEGORIES:Agenda para padres,Colegios
ATTACH;FMTTYPE=image/jpeg:https://ibizafunfamily.com/wp-content/uploads/2025/03/puertas-abiertas-santa-y-sant-joan.jpg
ORGANIZER;CN="CEIP Sant Ciriac":MAILTO:ceipsantciriac@educaib.eu
END:VEVENT
END:VCALENDAR