BEGIN:VCALENDAR
VERSION:2.0
PRODID:-//Ibiza Fun Family - ECPv6.15.17.1//NONSGML v1.0//EN
CALSCALE:GREGORIAN
METHOD:PUBLISH
X-ORIGINAL-URL:https://ibizafunfamily.com
X-WR-CALDESC:Eventos para Ibiza Fun Family
REFRESH-INTERVAL;VALUE=DURATION:PT1H
X-Robots-Tag:noindex
X-PUBLISHED-TTL:PT1H
BEGIN:VTIMEZONE
TZID:Europe/Madrid
BEGIN:DAYLIGHT
TZOFFSETFROM:+0100
TZOFFSETTO:+0200
TZNAME:CEST
DTSTART:20240331T010000
END:DAYLIGHT
BEGIN:STANDARD
TZOFFSETFROM:+0200
TZOFFSETTO:+0100
TZNAME:CET
DTSTART:20241027T010000
END:STANDARD
BEGIN:DAYLIGHT
TZOFFSETFROM:+0100
TZOFFSETTO:+0200
TZNAME:CEST
DTSTART:20250330T010000
END:DAYLIGHT
BEGIN:STANDARD
TZOFFSETFROM:+0200
TZOFFSETTO:+0100
TZNAME:CET
DTSTART:20251026T010000
END:STANDARD
BEGIN:DAYLIGHT
TZOFFSETFROM:+0100
TZOFFSETTO:+0200
TZNAME:CEST
DTSTART:20260329T010000
END:DAYLIGHT
BEGIN:STANDARD
TZOFFSETFROM:+0200
TZOFFSETTO:+0100
TZNAME:CET
DTSTART:20261025T010000
END:STANDARD
END:VTIMEZONE
BEGIN:VEVENT
DTSTART;TZID=Europe/Madrid:20250403T160000
DTEND;TZID=Europe/Madrid:20250403T173000
DTSTAMP:20260425T171002
CREATED:20250327T114943Z
LAST-MODIFIED:20250327T114943Z
UID:29435-1743696000-1743701400@ibizafunfamily.com
SUMMARY:Jornada de puertas abiertas en Ei Es Vedranell
DESCRIPTION:El jueves 3 de abril de 2025 de 16:00 a 17:30 EI Es Vedranell \nJornada de puertas abiertas en Ei Es Vedranell \nLos interesados deberán apuntarse por mail \nescoletaesvedranell@gmail.com
URL:https://ibizafunfamily.com/agenda/jornada-de-puertas-abiertas-en-ei-es-vedranell/
LOCATION:Escoleta Es Vedranell\, Cami Pu den Mosson\, s/n\, Sant Agustí\, Islas Baleares\, 07830\, España
CATEGORIES:Agenda para padres,Colegios
ATTACH;FMTTYPE=image/jpeg:https://ibizafunfamily.com/wp-content/uploads/2025/03/efameliar.jpg
ORGANIZER;CN="Escoleta Es Vedranell":MAILTO:eiesvedranell@estudi6.com
END:VEVENT
END:VCALENDAR