BEGIN:VCALENDAR
VERSION:2.0
PRODID:-//Ibiza Fun Family - ECPv6.15.17.1//NONSGML v1.0//EN
CALSCALE:GREGORIAN
METHOD:PUBLISH
X-ORIGINAL-URL:https://ibizafunfamily.com
X-WR-CALDESC:Eventos para Ibiza Fun Family
REFRESH-INTERVAL;VALUE=DURATION:PT1H
X-Robots-Tag:noindex
X-PUBLISHED-TTL:PT1H
BEGIN:VTIMEZONE
TZID:Europe/Madrid
BEGIN:DAYLIGHT
TZOFFSETFROM:+0100
TZOFFSETTO:+0200
TZNAME:CEST
DTSTART:20250330T010000
END:DAYLIGHT
BEGIN:STANDARD
TZOFFSETFROM:+0200
TZOFFSETTO:+0100
TZNAME:CET
DTSTART:20251026T010000
END:STANDARD
BEGIN:DAYLIGHT
TZOFFSETFROM:+0100
TZOFFSETTO:+0200
TZNAME:CEST
DTSTART:20260329T010000
END:DAYLIGHT
BEGIN:STANDARD
TZOFFSETFROM:+0200
TZOFFSETTO:+0100
TZNAME:CET
DTSTART:20261025T010000
END:STANDARD
BEGIN:DAYLIGHT
TZOFFSETFROM:+0100
TZOFFSETTO:+0200
TZNAME:CEST
DTSTART:20270328T010000
END:DAYLIGHT
BEGIN:STANDARD
TZOFFSETFROM:+0200
TZOFFSETTO:+0100
TZNAME:CET
DTSTART:20271031T010000
END:STANDARD
END:VTIMEZONE
BEGIN:VEVENT
DTSTART;TZID=Europe/Madrid:20260227T173000
DTEND;TZID=Europe/Madrid:20260227T173000
DTSTAMP:20260422T124338
CREATED:20260203T222215Z
LAST-MODIFIED:20260203T222215Z
UID:35176-1772213400-1772213400@ibizafunfamily.com
SUMMARY:Taller para familias\, El Cau de les Sargantanes
DESCRIPTION:El próximo Viernes 27 de Febrero a las 17:30h se organiza un taller para familias con niños y niñas de 3 a 6 años en la Biblioteca de Cala de Bou. \nTendremos juegos literarios\, experimentación grupal y lectura compartida en familia \nEs necesario inscripción previa\nTeléfono y WhatsApp al 971 348 630\nEmail: biblioteca.caladebou@santjosep.org
URL:https://ibizafunfamily.com/agenda/taller-para-familias-el-cau-de-les-sargantanes/
LOCATION:Biblioteca Municipal de Cala de Bou\, C/ es calo\, n 127\, Cala de Bou\, Islas Baleares\, 07829\, España
CATEGORIES:Talleres
ATTACH;FMTTYPE=image/jpeg:https://ibizafunfamily.com/wp-content/uploads/2026/02/taller-biblioteca-cala-de-bou-febrero-2026.jpeg
ORGANIZER;CN="Ajuntament de Sant Josep de Sa Talaia":MAILTO:alcaldia@santjosep.org
END:VEVENT
BEGIN:VEVENT
DTSTART;TZID=Europe/Madrid:20260227T193000
DTEND;TZID=Europe/Madrid:20260227T193000
DTSTAMP:20260422T124338
CREATED:20260225T113558Z
LAST-MODIFIED:20260225T113612Z
UID:35423-1772220600-1772220600@ibizafunfamily.com
SUMMARY:Nit de LLuna - Observación con telescopio
DESCRIPTION:El próximo Viernes 27 de Febrero a las 19:30h se ha organizado una observación a la Luna con telescopio que organiza la Biblioteca de Sant Miquel. \nGratuita\, sin inscripción previa. \nMás información en bibliotecas@santjoandelabritja.com \nLugar: Puig de Missa de Sant Miquel. \nActividad para todos los públicos.\nLos menores han de ir acompañados de una persona adulta.
URL:https://ibizafunfamily.com/agenda/nit-de-lluna-observacion-con-telescopio/
LOCATION:Puig de Missa de Sant Miquel
CATEGORIES:Talleres
ATTACH;FMTTYPE=image/jpeg:https://ibizafunfamily.com/wp-content/uploads/2026/02/nit-de-lluna-sant-miquel-febrero-2026.jpeg
ORGANIZER;CN="Biblioteca Sant Miquel":MAILTO:bibliotecastjoan@yahoo.es
END:VEVENT
BEGIN:VEVENT
DTSTART;TZID=Europe/Madrid:20260227T203000
DTEND;TZID=Europe/Madrid:20260227T233000
DTSTAMP:20260422T124338
CREATED:20260129T201046Z
LAST-MODIFIED:20260129T201046Z
UID:35000-1772224200-1772235000@ibizafunfamily.com
SUMMARY:Noche de sueños y risas
DESCRIPTION:Cada viernes de 20:30 a 23:30 en Espacio Creativo del Blanco Producciones \nNoche de sueños y risas \nCada semana será una temática diferente \, entre manualidades\, juegos\, peli y picoteo \nA partir de 6 años \nPrecio 30€ \nReservas a Miriam al 645149728
URL:https://ibizafunfamily.com/agenda/noche-de-suenos-y-risas-5/
LOCATION:Del Blanco Espacio Creativo\, Calle Murcia 10\, Eivissa\, Islas Baleares\, 07800\, España
ATTACH;FMTTYPE=image/jpeg:https://ibizafunfamily.com/wp-content/uploads/2026/01/noche-de-buo.jpg
ORGANIZER;CN="Del Blanco Producciones":MAILTO:delblanco.espaciocreativo@gmail.com
END:VEVENT
END:VCALENDAR