BEGIN:VCALENDAR
VERSION:2.0
PRODID:-//Ibiza Fun Family - ECPv6.15.17.1//NONSGML v1.0//EN
CALSCALE:GREGORIAN
METHOD:PUBLISH
X-ORIGINAL-URL:https://ibizafunfamily.com
X-WR-CALDESC:Eventos para Ibiza Fun Family
REFRESH-INTERVAL;VALUE=DURATION:PT1H
X-Robots-Tag:noindex
X-PUBLISHED-TTL:PT1H
BEGIN:VTIMEZONE
TZID:Europe/Madrid
BEGIN:DAYLIGHT
TZOFFSETFROM:+0100
TZOFFSETTO:+0200
TZNAME:CEST
DTSTART:20250330T010000
END:DAYLIGHT
BEGIN:STANDARD
TZOFFSETFROM:+0200
TZOFFSETTO:+0100
TZNAME:CET
DTSTART:20251026T010000
END:STANDARD
BEGIN:DAYLIGHT
TZOFFSETFROM:+0100
TZOFFSETTO:+0200
TZNAME:CEST
DTSTART:20260329T010000
END:DAYLIGHT
BEGIN:STANDARD
TZOFFSETFROM:+0200
TZOFFSETTO:+0100
TZNAME:CET
DTSTART:20261025T010000
END:STANDARD
BEGIN:DAYLIGHT
TZOFFSETFROM:+0100
TZOFFSETTO:+0200
TZNAME:CEST
DTSTART:20270328T010000
END:DAYLIGHT
BEGIN:STANDARD
TZOFFSETFROM:+0200
TZOFFSETTO:+0100
TZNAME:CET
DTSTART:20271031T010000
END:STANDARD
END:VTIMEZONE
BEGIN:VEVENT
DTSTART;TZID=Europe/Madrid:20260125T100000
DTEND;TZID=Europe/Madrid:20260125T140000
DTSTAMP:20260423T003819
CREATED:20260123T225942Z
LAST-MODIFIED:20260125T131309Z
UID:34920-1769335200-1769349600@ibizafunfamily.com
SUMMARY:XXXIII Pujada al Puig de Missa
DESCRIPTION:El domingo 25 de Enero de 2025 \nXXXIII Pujada al Puig de Missa \nApúntate!!!! \nCarrera
URL:https://ibizafunfamily.com/agenda/cararrera/
LOCATION:Puig de Missa\, Puig de Missa\, Santa Eulària des Riu\, islas baleares\, 07840\, España
ATTACH;FMTTYPE=image/jpeg:https://ibizafunfamily.com/wp-content/uploads/2026/01/pujada.jpg
ORGANIZER;CN="Ajuntament de Santa Eul%C3%A0ria des Riu":MAILTO:alcaldia@santaeularia.com
END:VEVENT
BEGIN:VEVENT
DTSTART;TZID=Europe/Madrid:20260125T110000
DTEND;TZID=Europe/Madrid:20260125T210000
DTSTAMP:20260423T003819
CREATED:20260124T073919Z
LAST-MODIFIED:20260124T073919Z
UID:34927-1769338800-1769374800@ibizafunfamily.com
SUMMARY:Actividades\, personajes\, juegos de mesa\, talleres infantiles y juveniles\, gincanas y mucho más
DESCRIPTION:El Domingo 25 de Enero de 2026 todo el día en Sant Antonio \n11 a 13.30 h i de 15.30 a 18.30h WizarDracs.\nFin de semana mágico con los Dracs de Eivissa dedicados al universo de Harry Potter. Actividades\, personajes\, juegos de mesa\, talleres infantiles y juveniles\, gincanas\, quidditch\, funkobingo\, concurso de Cosplay\, Quiz\, Chroma y fotocall. En el Espai Jove. \n13.30 h Paella musical. A cargo de la Asociación Músico-Cultural Retro. Actuaciones en vivo\, rifas y diversión. En el restaurante Es Cruce. Más info: amcretro@gmail.com \n\n				\n					\n						Ver programa completo
URL:https://ibizafunfamily.com/agenda/actividades-personajes-juegos-de-mesa-talleres-infantiles-y-juveniles-gincanas-y-mucho-mas/
LOCATION:Espai Jove Sant Antoni\, Carrer Bisbe Torres\, 13\,\, Sant Antoni de Portmany\, Islas Baleares\, 07820\, España
ATTACH;FMTTYPE=image/jpeg:https://ibizafunfamily.com/wp-content/uploads/2026/01/festes-patronals.jpg
END:VEVENT
END:VCALENDAR