BEGIN:VCALENDAR
VERSION:2.0
PRODID:-//Ibiza Fun Family - ECPv6.15.17.1//NONSGML v1.0//EN
CALSCALE:GREGORIAN
METHOD:PUBLISH
X-ORIGINAL-URL:https://ibizafunfamily.com
X-WR-CALDESC:Eventos para Ibiza Fun Family
REFRESH-INTERVAL;VALUE=DURATION:PT1H
X-Robots-Tag:noindex
X-PUBLISHED-TTL:PT1H
BEGIN:VTIMEZONE
TZID:Europe/Madrid
BEGIN:DAYLIGHT
TZOFFSETFROM:+0100
TZOFFSETTO:+0200
TZNAME:CEST
DTSTART:20240331T010000
END:DAYLIGHT
BEGIN:STANDARD
TZOFFSETFROM:+0200
TZOFFSETTO:+0100
TZNAME:CET
DTSTART:20241027T010000
END:STANDARD
BEGIN:DAYLIGHT
TZOFFSETFROM:+0100
TZOFFSETTO:+0200
TZNAME:CEST
DTSTART:20250330T010000
END:DAYLIGHT
BEGIN:STANDARD
TZOFFSETFROM:+0200
TZOFFSETTO:+0100
TZNAME:CET
DTSTART:20251026T010000
END:STANDARD
BEGIN:DAYLIGHT
TZOFFSETFROM:+0100
TZOFFSETTO:+0200
TZNAME:CEST
DTSTART:20260329T010000
END:DAYLIGHT
BEGIN:STANDARD
TZOFFSETFROM:+0200
TZOFFSETTO:+0100
TZNAME:CET
DTSTART:20261025T010000
END:STANDARD
BEGIN:DAYLIGHT
TZOFFSETFROM:+0100
TZOFFSETTO:+0200
TZNAME:CEST
DTSTART:20270328T010000
END:DAYLIGHT
BEGIN:STANDARD
TZOFFSETFROM:+0200
TZOFFSETTO:+0100
TZNAME:CET
DTSTART:20271031T010000
END:STANDARD
END:VTIMEZONE
BEGIN:VEVENT
DTSTART;TZID=Europe/Madrid:20251230T170000
DTEND;TZID=Europe/Madrid:20260107T191500
DTSTAMP:20260423T123605
CREATED:20251222T105828Z
LAST-MODIFIED:20251222T105828Z
UID:34655-1767114000-1767813300@ibizafunfamily.com
SUMMARY:Vincles\, Espectáculo familiar
DESCRIPTION:El Martes 30  de Diciembre de 2025 a las 17:00 a las 18:15 y a las 19:15 en el Faro de Ses Coves Blanques de Sant Antoni \nEspectáculo familiar teatralizado e interactivo. Una familia vive en la casa del Far de ses Coves  Blanques. Guillem\, el padre de familia\, os recibirá e invitará a entrar dentro del libro del laberinto ‘Las Historias Vinculantes’\, punto de partida del viaje. A cargo de la compañía Almavisible\,\ndirigida por Celia Ruiz. \nEntrada con reserva anticipada en almavisible3@gmail.com \nRecomendado para niños y niñas a partir de 6 años ( entrada por grupos) \n\n				\n					\n						Ver programa completo\n					\n				\n			  \n  \n 
URL:https://ibizafunfamily.com/agenda/vincles-espectaculo-familiar-4/
LOCATION:Far de Ses Coves Blanques\, Carrer d'Alemanya\, 1\, Sant Antoni de Portmany\, Islas baleares\, 07820\, España
ATTACH;FMTTYPE=image/jpeg:https://ibizafunfamily.com/wp-content/uploads/2025/12/almavisible.jpg
END:VEVENT
BEGIN:VEVENT
DTSTART;TZID=Europe/Madrid:20260107T110000
DTEND;TZID=Europe/Madrid:20260107T233000
DTSTAMP:20260423T123606
CREATED:20251121T082855Z
LAST-MODIFIED:20251121T082855Z
UID:34118-1767783600-1767828600@ibizafunfamily.com
SUMMARY:Feria de Atracciones
DESCRIPTION:Feria de Atracciones de Navidad a partir del 21 de Noviembre en el parking de Sa Joveria \nHorario \nDe Lunes a jueves de 17:00 a 23:00 \nViernes\, sábado\, domingo y festivos de 11:00 a 14:00 y de 17:00 a 00:00 \nJueves de 17:00 a 19:00 Jornada inclusiva con reducción de impacto visual y sonido \nMartes y miércoles precio especial reducido a partir del 8 de Diciembre
URL:https://ibizafunfamily.com/agenda/feria-de-atracciones-47/
LOCATION:Parking Sa Joveria\, Carrer de Corona\, 14-16 entrada cerca Recinto Ferial\, Eivissa\, Islas Baleares\, 07800\, Spain
ATTACH;FMTTYPE=image/jpeg:https://ibizafunfamily.com/wp-content/uploads/2025/11/feria-de-navidad-1.jpg
END:VEVENT
END:VCALENDAR