BEGIN:VCALENDAR
VERSION:2.0
PRODID:-//Ibiza Fun Family - ECPv6.15.17.1//NONSGML v1.0//EN
CALSCALE:GREGORIAN
METHOD:PUBLISH
X-WR-CALNAME:Ibiza Fun Family
X-ORIGINAL-URL:https://ibizafunfamily.com
X-WR-CALDESC:Eventos para Ibiza Fun Family
REFRESH-INTERVAL;VALUE=DURATION:PT1H
X-Robots-Tag:noindex
X-PUBLISHED-TTL:PT1H
BEGIN:VTIMEZONE
TZID:Europe/Madrid
BEGIN:DAYLIGHT
TZOFFSETFROM:+0100
TZOFFSETTO:+0200
TZNAME:CEST
DTSTART:20240331T010000
END:DAYLIGHT
BEGIN:STANDARD
TZOFFSETFROM:+0200
TZOFFSETTO:+0100
TZNAME:CET
DTSTART:20241027T010000
END:STANDARD
BEGIN:DAYLIGHT
TZOFFSETFROM:+0100
TZOFFSETTO:+0200
TZNAME:CEST
DTSTART:20250330T010000
END:DAYLIGHT
BEGIN:STANDARD
TZOFFSETFROM:+0200
TZOFFSETTO:+0100
TZNAME:CET
DTSTART:20251026T010000
END:STANDARD
BEGIN:DAYLIGHT
TZOFFSETFROM:+0100
TZOFFSETTO:+0200
TZNAME:CEST
DTSTART:20260329T010000
END:DAYLIGHT
BEGIN:STANDARD
TZOFFSETFROM:+0200
TZOFFSETTO:+0100
TZNAME:CET
DTSTART:20261025T010000
END:STANDARD
BEGIN:DAYLIGHT
TZOFFSETFROM:+0100
TZOFFSETTO:+0200
TZNAME:CEST
DTSTART:20270328T010000
END:DAYLIGHT
BEGIN:STANDARD
TZOFFSETFROM:+0200
TZOFFSETTO:+0100
TZNAME:CET
DTSTART:20271031T010000
END:STANDARD
END:VTIMEZONE
BEGIN:VEVENT
DTSTART;VALUE=DATE:20251213
DTEND;VALUE=DATE:20260107
DTSTAMP:20260423T042147
CREATED:20251216T105744Z
LAST-MODIFIED:20251216T195350Z
UID:34520-1765584000-1767743999@ibizafunfamily.com
SUMMARY:Pista de Hielo en Sant Josep
DESCRIPTION:Del 13 de Diciembre al 6 de enero en Sant Josep \nPista de Hielo \n*Es obligatorio el uso de guantes \n \n\n				\n					\n						Ver programa completo
URL:https://ibizafunfamily.com/agenda/pista-de-hielo-en-sant-josep/
LOCATION:Plaza de la Iglesia Sant Josep\, Avinguda de Pere Escanellas\, Sant Josep de Sa Talaia\, Islas Baleares\, 07830\, España
ATTACH;FMTTYPE=image/jpeg:https://ibizafunfamily.com/wp-content/uploads/2025/12/pista-de-patinaje.jpeg
ORGANIZER;CN="Ajuntament de Sant Josep de Sa Talaia":MAILTO:alcaldia@santjosep.org
END:VEVENT
BEGIN:VEVENT
DTSTART;TZID=Europe/Madrid:20251230T170000
DTEND;TZID=Europe/Madrid:20260107T191500
DTSTAMP:20260423T042147
CREATED:20251222T105828Z
LAST-MODIFIED:20251222T105828Z
UID:34655-1767114000-1767813300@ibizafunfamily.com
SUMMARY:Vincles\, Espectáculo familiar
DESCRIPTION:El Martes 30  de Diciembre de 2025 a las 17:00 a las 18:15 y a las 19:15 en el Faro de Ses Coves Blanques de Sant Antoni \nEspectáculo familiar teatralizado e interactivo. Una familia vive en la casa del Far de ses Coves  Blanques. Guillem\, el padre de familia\, os recibirá e invitará a entrar dentro del libro del laberinto ‘Las Historias Vinculantes’\, punto de partida del viaje. A cargo de la compañía Almavisible\,\ndirigida por Celia Ruiz. \nEntrada con reserva anticipada en almavisible3@gmail.com \nRecomendado para niños y niñas a partir de 6 años ( entrada por grupos) \n\n				\n					\n						Ver programa completo\n					\n				\n			  \n  \n 
URL:https://ibizafunfamily.com/agenda/vincles-espectaculo-familiar-4/
LOCATION:Far de Ses Coves Blanques\, Carrer d'Alemanya\, 1\, Sant Antoni de Portmany\, Islas baleares\, 07820\, España
ATTACH;FMTTYPE=image/jpeg:https://ibizafunfamily.com/wp-content/uploads/2025/12/almavisible.jpg
END:VEVENT
BEGIN:VEVENT
DTSTART;TZID=Europe/Madrid:20260106T100000
DTEND;TZID=Europe/Madrid:20260106T200000
DTSTAMP:20260423T042147
CREATED:20251226T211815Z
LAST-MODIFIED:20251226T211815Z
UID:34746-1767693600-1767729600@ibizafunfamily.com
SUMMARY:Feria gratis\, espacios mágicos y concierto
DESCRIPTION:El Martes 6 de Enero de 2026 a partir de las 10:00 en el Passeig de Ses Fonts \n10 a 14 h / 15:30 a 19:30 h Espacios Mágicos\, abiertos. \n11:00 a 14:00 Atracciones gratis\n13 h Concierto en el Mercado\, a cargo del grupo Flawless\, con armonías sublimes\, elegancia\, carisma y poder en el escenario. Disfrutan creando un ambiente íntimo y conectan con el\npúblico y la belleza del momento. \n\n				\n					\n						Ver programa completo
URL:https://ibizafunfamily.com/agenda/feria-gratis-espacios-magicos-y-concierto/
LOCATION:Passeig de Ses Fonts\, Passeig de ses fonts\, Sant Antoni de Portmany\, Islas Baleares\, 07820\, España
ATTACH;FMTTYPE=image/jpeg:https://ibizafunfamily.com/wp-content/uploads/2025/11/sant-antoni.jpg
END:VEVENT
BEGIN:VEVENT
DTSTART;TZID=Europe/Madrid:20260106T103000
DTEND;TZID=Europe/Madrid:20260106T133000
DTSTAMP:20260423T042147
CREATED:20260102T230333Z
LAST-MODIFIED:20260102T230333Z
UID:34827-1767695400-1767706200@ibizafunfamily.com
SUMMARY:Cabalgata de Reyes Magos en Puig d'en Valls y Jesús
DESCRIPTION:El Martes 6 de Enero de 2026 \n10:30 Los Reyes Magos llegan a Es Puig d’en Valls. Salida de Can Negre y llegada y entrega de regalos a las 11:30 en la Plaza de la Iglesia. \n13:00 Llegada de los Reyes Magos en Jesús \n\n				\n					\n						Ver programa completo
URL:https://ibizafunfamily.com/agenda/cabalgata-de-reyes-magos-en-puig-den-valls-y-jesus/
LOCATION:Islas Baleares
ATTACH;FMTTYPE=image/jpeg:https://ibizafunfamily.com/wp-content/uploads/2025/11/la-magia-de-la-navidad-santa.jpg
ORGANIZER;CN="Ajuntament de Santa Eul%C3%A0ria des Riu":MAILTO:alcaldia@santaeularia.com
END:VEVENT
BEGIN:VEVENT
DTSTART;TZID=Europe/Madrid:20260106T103000
DTEND;TZID=Europe/Madrid:20260106T210000
DTSTAMP:20260423T042147
CREATED:20260104T225635Z
LAST-MODIFIED:20260104T225835Z
UID:34865-1767695400-1767733200@ibizafunfamily.com
SUMMARY:Cabalgatas en Santa Eulària
DESCRIPTION:El Martes 6 de Enero de 2026 todas las Cabalgatas del Municipio de Santa Eulària \n10:30 Puig d’en Valls ( Salidadesde Can Negre) \n12:30 Jesús (salida desde el Campo de Futbol) \n17:00 Cabalgata y llegada de los Reyes Magos en Sant Carlos ( entrega de regalos en la parroquia) \n18:30 Llegada de los Reyes en la Escuela de Vela de Santa Eulària \n19:00 Cabalgata real por las calles de San Lorenzo\, San Jaime\, San Juan Huesca\, con parada en la Capilla de Lourdes para la adoración \n20:00 Entrega de regalos en la Plaza España ( los regalos se pueden depositar en el Teatro España de 15:00 a 17:00) \n20:00 Sorteo y anuncio de ganadores del Sorteo Grandes regalos \n19:30 Llegada de los Reyes Magos a Santa Gertrudis y entrega de regalos en la plaza de la Iglesia \nEn Caso de que haya mal tiempo se hará en el Palacio de Congresos de Santa Eulària ( se informará a través de los canales oficiales del Ayuntamiento) \n\n				\n					\n						Ver programa completo
URL:https://ibizafunfamily.com/agenda/cabalgatas-en-santa-eularia/
LOCATION:Islas Baleares
ATTACH;FMTTYPE=image/jpeg:https://ibizafunfamily.com/wp-content/uploads/2026/01/santa-eularia.jpg
ORGANIZER;CN="Ajuntament de Santa Eul%C3%A0ria des Riu":MAILTO:alcaldia@santaeularia.com
END:VEVENT
BEGIN:VEVENT
DTSTART;TZID=Europe/Madrid:20260106T110000
DTEND;TZID=Europe/Madrid:20260106T233000
DTSTAMP:20260423T042147
CREATED:20251121T082854Z
LAST-MODIFIED:20251121T082854Z
UID:34117-1767697200-1767742200@ibizafunfamily.com
SUMMARY:Feria de Atracciones
DESCRIPTION:Feria de Atracciones de Navidad a partir del 21 de Noviembre en el parking de Sa Joveria \nHorario \nDe Lunes a jueves de 17:00 a 23:00 \nViernes\, sábado\, domingo y festivos de 11:00 a 14:00 y de 17:00 a 00:00 \nJueves de 17:00 a 19:00 Jornada inclusiva con reducción de impacto visual y sonido \nMartes y miércoles precio especial reducido a partir del 8 de Diciembre
URL:https://ibizafunfamily.com/agenda/feria-de-atracciones-46/
LOCATION:Parking Sa Joveria\, Carrer de Corona\, 14-16 entrada cerca Recinto Ferial\, Eivissa\, Islas Baleares\, 07800\, Spain
ATTACH;FMTTYPE=image/jpeg:https://ibizafunfamily.com/wp-content/uploads/2025/11/feria-de-navidad-1.jpg
END:VEVENT
BEGIN:VEVENT
DTSTART;TZID=Europe/Madrid:20260106T123000
DTEND;TZID=Europe/Madrid:20260106T130000
DTSTAMP:20260423T042147
CREATED:20260104T222729Z
LAST-MODIFIED:20260104T222729Z
UID:34861-1767702600-1767704400@ibizafunfamily.com
SUMMARY:Entrega de regalos en Formentera por los Reyes Magos
DESCRIPTION:El martes 6 de Enero de 2026 en Formentera \n10:00 a 12:00 diferentes misas por as Iglesias de Formentera \nY  las 12:00 después de la misa de Sant Francesc Entrega de regalos por los Reyes Magos en la carpa de Jardí de ses Eres
URL:https://ibizafunfamily.com/agenda/entrega-de-regalos-en-formentera-por-los-reyes-magos/
LOCATION:Jardí de Ses Eres.\, detrás de la Iglesia de Sant Francesc\, Formentera\, Islas Baleares\, 07860\, España
ATTACH;FMTTYPE=image/jpeg:https://ibizafunfamily.com/wp-content/uploads/2025/12/formetera.jpg
ORGANIZER;CN="Consell de Formentera":MAILTO:presidencia@conselldeformentera.cat
END:VEVENT
BEGIN:VEVENT
DTSTART;TZID=Europe/Madrid:20260106T160000
DTEND;TZID=Europe/Madrid:20260106T173000
DTSTAMP:20260423T042147
CREATED:20250919T220328Z
LAST-MODIFIED:20250919T220328Z
UID:33088-1767715200-1767720600@ibizafunfamily.com
SUMMARY:Club de lectura infantil
DESCRIPTION:Los Martes a partir del 7 de Octubre hasta el 26 de Mayo de 2025 de 16:00 a 17:30 en la Biblioteca de Ses Figueretes \nClub de lectura\, para peques de a partir de 6 años \nLos clubs de lectura son una herramienta para la promoción lectora en el ámbito académico y escolar. La asociación de vecinos nos propone un plan aceesible a través de la biblioteca y la dinamización a cargo de MaritzaTejecuentos
URL:https://ibizafunfamily.com/agenda/club-de-lectura-infantil-36-14/
LOCATION:Biblioteca de Ses Figueretes\, C/ de Navarra\, 26\, baixos\, Eivissa\, Islas Baleares\, 07800\, España
ATTACH;FMTTYPE=image/jpeg:https://ibizafunfamily.com/wp-content/uploads/2025/09/curso-de-lectura.jpeg
END:VEVENT
BEGIN:VEVENT
DTSTART;TZID=Europe/Madrid:20260106T180000
DTEND;TZID=Europe/Madrid:20260106T190000
DTSTAMP:20260423T042147
CREATED:20251226T223029Z
LAST-MODIFIED:20251226T223029Z
UID:34788-1767722400-1767726000@ibizafunfamily.com
SUMMARY:Cabalgada de los Reyes Magos en Es Cubells
DESCRIPTION:El Martes 6 de enero de 2026 \n18.00 h Llegada de la cabalgata de los Reyes Magos a la plaza des Cubells. Cantos de villancicos a cargo del Cor des Cubells en la iglesia\, durante la adoración. A continuación\, cabalgata hasta la galería de tiro con arco\, donde se realizará la entrega de regalos a los más pequeños. Organiza el Club de Tir amb Arc Es Cubells. Colaboran la Associació deVesins des Cubells y el Cor des Cubells. \n\n				\n					\n						Ver programa completo
URL:https://ibizafunfamily.com/agenda/cabalgada-de-los-reyes-magos-en-es-cubells/
LOCATION:Plaza Es Cubells\, Plaça Pere Francc Palau i Quer\, Sant Josep de Sa Talaia\, islas baleares\, 07839\, España
ATTACH;FMTTYPE=image/png:https://ibizafunfamily.com/wp-content/uploads/2025/11/Captura-de-pantalla-2025-12-04-220217.png
ORGANIZER;CN="Ajuntament de Sant Josep de Sa Talaia":MAILTO:alcaldia@santjosep.org
END:VEVENT
BEGIN:VEVENT
DTSTART;TZID=Europe/Madrid:20260106T180000
DTEND;TZID=Europe/Madrid:20260106T190000
DTSTAMP:20260423T042147
CREATED:20260102T235122Z
LAST-MODIFIED:20260102T235122Z
UID:34842-1767722400-1767726000@ibizafunfamily.com
SUMMARY:Llegada de los Reyes Magos a San Juan y a San Lorenzo
DESCRIPTION:El Martes 6 de  Enero de 2025 a las 18:00 a Sant Joan y Sant Llorenç \n18:00 llegada de los Reyes Magos a San Juan y a San Lorenzo \nA las 18:30 Llegada de los Reyes de Oriente por las calles del pueblo\, los regalos se repartirán en el escenario \n  \n\n				\n					\n						Ver programa completo
URL:https://ibizafunfamily.com/agenda/llegada-de-los-reyes-magos-a-san-juan-y-a-san-lorenzo/
LOCATION:Islas Baleares
ATTACH;FMTTYPE=image/png:https://ibizafunfamily.com/wp-content/uploads/2025/11/Captura-de-pantalla-2025-12-04-220054.png
END:VEVENT
END:VCALENDAR