BEGIN:VCALENDAR
VERSION:2.0
PRODID:-//Ibiza Fun Family - ECPv6.15.17.1//NONSGML v1.0//EN
CALSCALE:GREGORIAN
METHOD:PUBLISH
X-ORIGINAL-URL:https://ibizafunfamily.com
X-WR-CALDESC:Eventos para Ibiza Fun Family
REFRESH-INTERVAL;VALUE=DURATION:PT1H
X-Robots-Tag:noindex
X-PUBLISHED-TTL:PT1H
BEGIN:VTIMEZONE
TZID:Europe/Madrid
BEGIN:DAYLIGHT
TZOFFSETFROM:+0100
TZOFFSETTO:+0200
TZNAME:CEST
DTSTART:20240331T010000
END:DAYLIGHT
BEGIN:STANDARD
TZOFFSETFROM:+0200
TZOFFSETTO:+0100
TZNAME:CET
DTSTART:20241027T010000
END:STANDARD
BEGIN:DAYLIGHT
TZOFFSETFROM:+0100
TZOFFSETTO:+0200
TZNAME:CEST
DTSTART:20250330T010000
END:DAYLIGHT
BEGIN:STANDARD
TZOFFSETFROM:+0200
TZOFFSETTO:+0100
TZNAME:CET
DTSTART:20251026T010000
END:STANDARD
BEGIN:DAYLIGHT
TZOFFSETFROM:+0100
TZOFFSETTO:+0200
TZNAME:CEST
DTSTART:20260329T010000
END:DAYLIGHT
BEGIN:STANDARD
TZOFFSETFROM:+0200
TZOFFSETTO:+0100
TZNAME:CET
DTSTART:20261025T010000
END:STANDARD
BEGIN:DAYLIGHT
TZOFFSETFROM:+0100
TZOFFSETTO:+0200
TZNAME:CEST
DTSTART:20270328T010000
END:DAYLIGHT
BEGIN:STANDARD
TZOFFSETFROM:+0200
TZOFFSETTO:+0100
TZNAME:CET
DTSTART:20271031T010000
END:STANDARD
END:VTIMEZONE
BEGIN:VEVENT
DTSTART;VALUE=DATE:20251213
DTEND;VALUE=DATE:20260107
DTSTAMP:20260423T231449
CREATED:20251216T105744Z
LAST-MODIFIED:20251216T195350Z
UID:34520-1765584000-1767743999@ibizafunfamily.com
SUMMARY:Pista de Hielo en Sant Josep
DESCRIPTION:Del 13 de Diciembre al 6 de enero en Sant Josep \nPista de Hielo \n*Es obligatorio el uso de guantes \n \n\n				\n					\n						Ver programa completo
URL:https://ibizafunfamily.com/agenda/pista-de-hielo-en-sant-josep/
LOCATION:Plaza de la Iglesia Sant Josep\, Avinguda de Pere Escanellas\, Sant Josep de Sa Talaia\, Islas Baleares\, 07830\, España
ATTACH;FMTTYPE=image/jpeg:https://ibizafunfamily.com/wp-content/uploads/2025/12/pista-de-patinaje.jpeg
ORGANIZER;CN="Ajuntament de Sant Josep de Sa Talaia":MAILTO:alcaldia@santjosep.org
END:VEVENT
BEGIN:VEVENT
DTSTART;VALUE=DATE:20251226
DTEND;VALUE=DATE:20260104
DTSTAMP:20260423T231449
CREATED:20251216T200043Z
LAST-MODIFIED:20251229T153450Z
UID:34530-1766707200-1767484799@ibizafunfamily.com
SUMMARY:Diver Espai 2025-26
DESCRIPTION:Un año más vuelve Diver-Espai al recinto ferial \nDel 26 de Diciembre al  3 de Enero en horario de 10:30 a 14h y por la tarde de 17 a 20:30h \nDías cerrados por descanso el 31 de Diciembre por la tarde y el 1 de Enero por la mañana \nEl pabellón se ha destinado a actividades para niños y niñas hasta los 12 años con talleres creativos y atracciones como juegos e hinchables y la parta para jóvenes hasta 17 años con juegos de aventura\, deportes y realidad virtual \n¿Te lo vas a perder? \nEntrada al día por 2€ que sólo pagarán los niños o también se puede comprar un abono para todos los días que dura Diver Espai por un precio de 10€ por niño. \nPreguntar por descuentos para familias numerosas.
URL:https://ibizafunfamily.com/agenda/diver-espai-2025-26/
LOCATION:Recinto Ferial Ibiza\, Carretera San Antonio\, Eivissa\, Islas Baleares\, 07800\, España
CATEGORIES:Fiesta
ATTACH;FMTTYPE=image/jpeg:https://ibizafunfamily.com/wp-content/uploads/2025/12/diverespai-2025-26-ibiza.jpg
ORGANIZER;CN="Consell d' Eivissa":MAILTO:oamr@conselldeivissa.es
END:VEVENT
BEGIN:VEVENT
DTSTART;VALUE=DATE:20251227
DTEND;VALUE=DATE:20251231
DTSTAMP:20260423T231449
CREATED:20251211T212017Z
LAST-MODIFIED:20251216T214748Z
UID:34471-1766793600-1767139199@ibizafunfamily.com
SUMMARY:Divernadal 2025
DESCRIPTION:Este año del 27 al 30 de Diciembre el polideportivo de Can Guerxo vuelve a convertirse en un gran escenario mágico donde los niños y niñas y jóvenes podrán jugar\, crear y soñar.\nMañanas de 10 a 13:30h\nTardes de 16:30 a 19:30h \nTalleres infantiles\, cuentacuentos\, hinchables gigantes\, escape rooms y zona de videojuegos\nEntre ellos\, el suelo es lava de Cachirulo y sus Amigos \nEntrada gratuita para niños y niñas de 0 a 16 años \nMenores de 12 años acompañados siempre de un adulto \n \nOs esperamos!
URL:https://ibizafunfamily.com/agenda/divernadal-2025/
LOCATION:Polideportivo de Can Guerxo\, C/ Arner n9\, Sant Josep de Sa Talaia\, Islas Baleares\, 07817\, España
CATEGORIES:Fiesta
ATTACH;FMTTYPE=image/jpeg:https://ibizafunfamily.com/wp-content/uploads/2025/12/WhatsApp-Image-2025-12-11-at-13.09.30.jpeg
ORGANIZER;CN="Ajuntament de Sant Josep de Sa Talaia":MAILTO:alcaldia@santjosep.org
END:VEVENT
BEGIN:VEVENT
DTSTART;VALUE=DATE:20251227
DTEND;VALUE=DATE:20260105
DTSTAMP:20260423T231449
CREATED:20251216T202708Z
LAST-MODIFIED:20251216T202708Z
UID:34543-1766793600-1767571199@ibizafunfamily.com
SUMMARY:Diverespai en Formentera
DESCRIPTION:Del 27 de Diciembre al 4 de Enero os espera un Diverespai en Formentera\, ubicado en el Módulo deportivo con muchos hinchables y otras actividades
URL:https://ibizafunfamily.com/agenda/diverespai-en-formentera-2/
LOCATION:Islas Baleares
CATEGORIES:Fiesta
ATTACH;FMTTYPE=image/jpeg:https://ibizafunfamily.com/wp-content/uploads/2025/12/Fiesta-de-Navidad-formentera-2025.jpeg
END:VEVENT
BEGIN:VEVENT
DTSTART;TZID=Europe/Madrid:20251227T100000
DTEND;TZID=Europe/Madrid:20251227T140000
DTSTAMP:20260423T231449
CREATED:20251222T111807Z
LAST-MODIFIED:20251227T084418Z
UID:34668-1766829600-1766844000@ibizafunfamily.com
SUMMARY:SUSPENDIDO -Jornada de Educación Viaria
DESCRIPTION:Suspendido por causas meteorológicas\, se pondra nueva fecha. \nEl sábado 27 de Diciembre de 2025 de 10:00 a 14:00 en  Parque Infantil de Trànsito (PIT)\,al lado de la carpa  del \nJornada de Educación Viaria \nCentre Social de Can Bonet\nMini-karts a pedales\nPatinetes\nBicicletas sin pedales \n 
URL:https://ibizafunfamily.com/agenda/jornada-de-educacion-viaria-4/
LOCATION:CC Can Bonet\, Carrer dels Llimoners\,\, Sant Antoni de Portmany\, Islas Baleares\, 07820\, España
ATTACH;FMTTYPE=image/jpeg:https://ibizafunfamily.com/wp-content/uploads/2025/12/jornada-vial.jpg
END:VEVENT
BEGIN:VEVENT
DTSTART;TZID=Europe/Madrid:20251227T100000
DTEND;TZID=Europe/Madrid:20251227T200000
DTSTAMP:20260423T231449
CREATED:20251226T204454Z
LAST-MODIFIED:20251226T204532Z
UID:34725-1766829600-1766865600@ibizafunfamily.com
SUMMARY:Espacios mágicos y conciertos
DESCRIPTION:10 a 14 h / 15:30 a 19:30 h Espacios mágicos\, abiertos.\n13 h Concierto en el Mercado. A cargo del grupo The Dudes. Temas clásicos de rock\, soul y funk.\n17 h\, 18:15 h y 19:15 h  ‘Vincles’ – Espectáculo familiar\nteatralizado e interactivo. En el Far de ses Coves Blanques.\n18 h Presentación Trofeo bwi Illes Balears\nde futbol base Eivissa\, en el Passeig de ses Fonts.\n20 h Concierto en el Mercado\, a cargo del grupo Ibosim Flamenco. Un conjunto de músicos de larga trayectoria nacional e internacional\, que nos transporta al corazón del flamenco con pasión\, ritmo y una interpretación llena de\nsentimiento. \n\n				\n					\n						Ver programa completo
URL:https://ibizafunfamily.com/agenda/34725/
LOCATION:Passeig de Ses Fonts\, Passeig de ses fonts\, Sant Antoni de Portmany\, Islas Baleares\, 07820\, España
ATTACH;FMTTYPE=image/jpeg:https://ibizafunfamily.com/wp-content/uploads/2025/11/sant-antoni.jpg
END:VEVENT
BEGIN:VEVENT
DTSTART;TZID=Europe/Madrid:20251227T100000
DTEND;TZID=Europe/Madrid:20251228T170000
DTSTAMP:20260423T231449
CREATED:20251204T222557Z
LAST-MODIFIED:20251204T222557Z
UID:34361-1766829600-1766941200@ibizafunfamily.com
SUMMARY:Taller de decoración navidela y face painting
DESCRIPTION:Todos los sábados de 10:00 a 17:00 y los domingos de 11:00 a 19:00 en las Dalias \nTaller de decoración navideña y face painting \nMercadillo Navideño \n 
URL:https://ibizafunfamily.com/agenda/taller-de-decoracion-navidela-y-face-painting-4/
LOCATION:Las Dalias\, Carretera San Carlos\, Km. 12\, Sant Carles de Peralta\, Islas Baleares\, 07850\, España
ATTACH;FMTTYPE=image/jpeg:https://ibizafunfamily.com/wp-content/uploads/2025/12/navidad-enlas-dalias.jpg
END:VEVENT
BEGIN:VEVENT
DTSTART;TZID=Europe/Madrid:20251227T103000
DTEND;TZID=Europe/Madrid:20251227T200000
DTSTAMP:20260423T231449
CREATED:20251222T175552Z
LAST-MODIFIED:20251222T180230Z
UID:34688-1766831400-1766865600@ibizafunfamily.com
SUMMARY:Talleres infantiles\, juegos tradicionales\, teatro infantil con Del Blanco Producciones y tarde de Castillos
DESCRIPTION:El sábado 27 de Diciembre de 2025 a partir de las 10:30 en Santa Eulària \n10:30 a 13:30 y de 16:30 a 20:00 Mercado Navideño \n10:00 a 20:00 juegos tradicionales con Jugueroix y talleres infantiles \n11:30 Teatro infantil «¡Qué fiestón! con del Blanco Producciones \n17:00 a 19:00 exhibición y masterclass de nivel básico de bailes latinos en el Paseo S’Alamera \n17:00 a 21:00 Tarde de Castillos hinchables y talleres en la Pistas cubiertas de Es Puig d’en Valls \n20:00 Villancicos con el Coro en la Iglesia de Santa Gertrudis \n21:00 Música y humor con Ibiza Comedí y Band en el Centro de es Puig d’en Valls \n\n				\n					\n						Ver programa completo
URL:https://ibizafunfamily.com/agenda/34688/
LOCATION:Islas Baleares
ATTACH;FMTTYPE=image/jpeg:https://ibizafunfamily.com/wp-content/uploads/2025/11/la-magia-de-la-navidad-santa.jpg
ORGANIZER;CN="Ajuntament de Santa Eul%C3%A0ria des Riu":MAILTO:alcaldia@santaeularia.com
END:VEVENT
BEGIN:VEVENT
DTSTART;TZID=Europe/Madrid:20251227T103000
DTEND;TZID=Europe/Madrid:20251227T210000
DTSTAMP:20260423T231449
CREATED:20251226T224558Z
LAST-MODIFIED:20251226T224558Z
UID:34765-1766831400-1766869200@ibizafunfamily.com
SUMMARY:Castillos hinchables\, maquillaje artístico\, espectáculo musical y personajes gigantes
DESCRIPTION:El Sábado 27 de Diciembre de 2025 \nSanta’s Band On The Road \nConcierto de música navideña itinerante\nVivo el Nadal más rockero de tu barrio \nDe 10.30 a 14.30 h\nItinerario: Eivissa Centro\, Ca n’Escandell\,\nses Figueretes y Platja d’en Bossa.\nNadal A Pedal\nPaseo  en ciclo carro navideño para tota la familia.\nVenir a pedalear por las calles de la ciudad con vuestros elfos favoritos\nDe 17.00 a 20.00 h. Plaça del Parc\nCiudad Navideña\nEl mundo de los castillos inflables. \nDe 11.00 a 14.00 h.\nParc Reina Sofia \nMaquillaje artistico con Cristina Méndez ( de pago)\nFotoreclam Navideño con mágicos personajes gigantes\nDe 11.00 a 12.30 h. Parc Reina Sofia\nTallerrs Creativos Infantiles\nDe 12.00 a 14.00 h. Parc Reina Sofia.\nMercado Gastronomico\nPuestos de gastronomía y restauración.\nPasseig de Vara de Rey\n13.00 h Los del varadero\n20.00 h Sunset Vives\nEls Follets De Santa \nEspectáculo musical infantil.\n18.00 h. Carpa de Navidad en el Paseo de Vara de Rey \n\n				\n					\n						Ver programa completo
URL:https://ibizafunfamily.com/agenda/castillos-hinchables-maquillaje-artistico-espectaculo-musical-y-personajes-gigantes/
LOCATION:Islas Baleares
ATTACH;FMTTYPE=image/jpeg:https://ibizafunfamily.com/wp-content/uploads/2025/11/eivissa-nadal.jpg
END:VEVENT
BEGIN:VEVENT
DTSTART;TZID=Europe/Madrid:20251227T110000
DTEND;TZID=Europe/Madrid:20251227T170000
DTSTAMP:20260423T231449
CREATED:20251216T203824Z
LAST-MODIFIED:20251226T195226Z
UID:34548-1766833200-1766854800@ibizafunfamily.com
SUMMARY:III Fira de Sa Sobrasada con Talleres Infantiles con Sueños de Ibiza
DESCRIPTION:El próximo 27 de Diciembre en Sant Jordi se celebrará el segundo día de la Feria de La Sobrasada en la Plaza de Sant Jordi. \nLa programación será la siguiente: \nA partir de las 11h habrá una elaboración de sobrasada\nA las 12h baile pagés con la colla de Sant Jordi\, showcooking\, mercado artesano y talleres infantiles con Sueños de Ibiza\nA las 13:30h se elaborarán tapas con sobrasada en las casetas de Navidad \n¿Te lo vas a perder?
URL:https://ibizafunfamily.com/agenda/iii-fira-de-sa-sobrasada-con-talleres-infantiles-2/
LOCATION:Plaza de Sant Jordi\, Carrer Cementeri\, 1\, Sant Jordi de ses Salines\, islas baleares\, 07817\, España
CATEGORIES:Fiesta
ATTACH;FMTTYPE=image/jpeg:https://ibizafunfamily.com/wp-content/uploads/2025/12/III-Fira-de-sa-Sobrassada.jpg
ORGANIZER;CN="Ajuntament de Sant Josep de Sa Talaia":MAILTO:alcaldia@santjosep.org
END:VEVENT
BEGIN:VEVENT
DTSTART;TZID=Europe/Madrid:20251227T110000
DTEND;TZID=Europe/Madrid:20251227T233000
DTSTAMP:20260423T231449
CREATED:20251121T082849Z
LAST-MODIFIED:20251121T082849Z
UID:34107-1766833200-1766878200@ibizafunfamily.com
SUMMARY:Feria de Atracciones
DESCRIPTION:Feria de Atracciones de Navidad a partir del 21 de Noviembre en el parking de Sa Joveria \nHorario \nDe Lunes a jueves de 17:00 a 23:00 \nViernes\, sábado\, domingo y festivos de 11:00 a 14:00 y de 17:00 a 00:00 \nJueves de 17:00 a 19:00 Jornada inclusiva con reducción de impacto visual y sonido \nMartes y miércoles precio especial reducido a partir del 8 de Diciembre
URL:https://ibizafunfamily.com/agenda/feria-de-atracciones-36/
LOCATION:Parking Sa Joveria\, Carrer de Corona\, 14-16 entrada cerca Recinto Ferial\, Eivissa\, Islas Baleares\, 07800\, Spain
ATTACH;FMTTYPE=image/jpeg:https://ibizafunfamily.com/wp-content/uploads/2025/11/feria-de-navidad-1.jpg
END:VEVENT
BEGIN:VEVENT
DTSTART;TZID=Europe/Madrid:20251227T120000
DTEND;TZID=Europe/Madrid:20251227T133000
DTSTAMP:20260423T231449
CREATED:20251226T212558Z
LAST-MODIFIED:20251226T212558Z
UID:34748-1766836800-1766842200@ibizafunfamily.com
SUMMARY:Teatro de Títeres de Navidad
DESCRIPTION:El Sábado 27 de Diciembre de 2025 a las 12:00 en el Mercadillo de las Dalias \nTeatro de Títeres de Navidad \nEl Nacimiento del Mayor influencer del mundo \nCanciones y villancicos de la Abuela Ana \nEntrada gratuita
URL:https://ibizafunfamily.com/agenda/teatro-de-titeres-de-navidad/
LOCATION:Las Dalias\, Carretera San Carlos\, Km. 12\, Sant Carles de Peralta\, Islas Baleares\, 07850\, España
ATTACH;FMTTYPE=image/jpeg:https://ibizafunfamily.com/wp-content/uploads/2025/12/teatro-de-titeres.jpg
END:VEVENT
BEGIN:VEVENT
DTSTART;TZID=Europe/Madrid:20251227T170000
DTEND;TZID=Europe/Madrid:20251227T191500
DTSTAMP:20260423T231449
CREATED:20251222T103828Z
LAST-MODIFIED:20251222T103828Z
UID:34656-1766854800-1766862900@ibizafunfamily.com
SUMMARY:Vincles\, espectáculo familiar
DESCRIPTION:El Sábado 27 de Diciembre de 2025 a las 17:00 a las 18:15 y a las 19:15 en el Faro de Ses Coves Blanques de Sant Antoni \nEspectáculo familiar teatralizado e interactivo. Una familia vive en la casa del Far de ses Coves  Blanques. Guillem\, el padre de familia\, os recibirá e invitará a entrar dentro del libro del laberinto ‘Las Historias Vinculantes’\, punto de partida del viaje. A cargo de la compañía Almavisible\,\ndirigida por Celia Ruiz. \nEntrada con reserva anticipada en almavisible3@gmail.com \nRecomendado para niños y niñas a partir de 6 años ( entrada por grupos) \n\n				\n					\n						Ver programa completo\n					\n				\n			  \n 
URL:https://ibizafunfamily.com/agenda/vincles-espectaculo-familiar/
LOCATION:Far de Ses Coves Blanques\, Carrer d'Alemanya\, 1\, Sant Antoni de Portmany\, Islas baleares\, 07820\, España
ATTACH;FMTTYPE=image/jpeg:https://ibizafunfamily.com/wp-content/uploads/2025/12/almavisible.jpg
END:VEVENT
BEGIN:VEVENT
DTSTART;TZID=Europe/Madrid:20251227T170000
DTEND;TZID=Europe/Madrid:20251227T210000
DTSTAMP:20260423T231449
CREATED:20251216T214404Z
LAST-MODIFIED:20251216T214404Z
UID:34585-1766854800-1766869200@ibizafunfamily.com
SUMMARY:Castillos\, Laser Combat y Dance Battle
DESCRIPTION:El próximo día 27 de Diciembre de 17 a 21h en el Polideportivo de Puig d’en Valsls ven a disfrutar con castillos hinchables\, laser bombat\, dance battle y mucho más. \nQue no te lo cuenten!
URL:https://ibizafunfamily.com/agenda/castillos-laser-combat-y-dance-battle/
LOCATION:Centro Cultural des Puig d’en Valls\, Camp d'Esports\, Santa Eulària des Riu\, Islas Baleares\,\, 07800\, España
CATEGORIES:Fiesta
ATTACH;FMTTYPE=image/jpeg:https://ibizafunfamily.com/wp-content/uploads/2025/12/Nadal-Fest-Cachirulo-2025-programacion.jpeg
ORGANIZER;CN="Ajuntament de Santa Eul%C3%A0ria des Riu":MAILTO:alcaldia@santaeularia.com
END:VEVENT
END:VCALENDAR