BEGIN:VCALENDAR
VERSION:2.0
PRODID:-//Ibiza Fun Family - ECPv6.15.17.1//NONSGML v1.0//EN
CALSCALE:GREGORIAN
METHOD:PUBLISH
X-WR-CALNAME:Ibiza Fun Family
X-ORIGINAL-URL:https://ibizafunfamily.com
X-WR-CALDESC:Eventos para Ibiza Fun Family
REFRESH-INTERVAL;VALUE=DURATION:PT1H
X-Robots-Tag:noindex
X-PUBLISHED-TTL:PT1H
BEGIN:VTIMEZONE
TZID:Europe/Madrid
BEGIN:DAYLIGHT
TZOFFSETFROM:+0100
TZOFFSETTO:+0200
TZNAME:CEST
DTSTART:20240331T010000
END:DAYLIGHT
BEGIN:STANDARD
TZOFFSETFROM:+0200
TZOFFSETTO:+0100
TZNAME:CET
DTSTART:20241027T010000
END:STANDARD
BEGIN:DAYLIGHT
TZOFFSETFROM:+0100
TZOFFSETTO:+0200
TZNAME:CEST
DTSTART:20250330T010000
END:DAYLIGHT
BEGIN:STANDARD
TZOFFSETFROM:+0200
TZOFFSETTO:+0100
TZNAME:CET
DTSTART:20251026T010000
END:STANDARD
BEGIN:DAYLIGHT
TZOFFSETFROM:+0100
TZOFFSETTO:+0200
TZNAME:CEST
DTSTART:20260329T010000
END:DAYLIGHT
BEGIN:STANDARD
TZOFFSETFROM:+0200
TZOFFSETTO:+0100
TZNAME:CET
DTSTART:20261025T010000
END:STANDARD
BEGIN:DAYLIGHT
TZOFFSETFROM:+0100
TZOFFSETTO:+0200
TZNAME:CEST
DTSTART:20270328T010000
END:DAYLIGHT
BEGIN:STANDARD
TZOFFSETFROM:+0200
TZOFFSETTO:+0100
TZNAME:CET
DTSTART:20271031T010000
END:STANDARD
END:VTIMEZONE
BEGIN:VEVENT
DTSTART;VALUE=DATE:20251213
DTEND;VALUE=DATE:20260107
DTSTAMP:20260423T013402
CREATED:20251216T105744Z
LAST-MODIFIED:20251216T195350Z
UID:34520-1765584000-1767743999@ibizafunfamily.com
SUMMARY:Pista de Hielo en Sant Josep
DESCRIPTION:Del 13 de Diciembre al 6 de enero en Sant Josep \nPista de Hielo \n*Es obligatorio el uso de guantes \n \n\n				\n					\n						Ver programa completo
URL:https://ibizafunfamily.com/agenda/pista-de-hielo-en-sant-josep/
LOCATION:Plaza de la Iglesia Sant Josep\, Avinguda de Pere Escanellas\, Sant Josep de Sa Talaia\, Islas Baleares\, 07830\, España
ATTACH;FMTTYPE=image/jpeg:https://ibizafunfamily.com/wp-content/uploads/2025/12/pista-de-patinaje.jpeg
ORGANIZER;CN="Ajuntament de Sant Josep de Sa Talaia":MAILTO:alcaldia@santjosep.org
END:VEVENT
BEGIN:VEVENT
DTSTART;TZID=Europe/Madrid:20251218T080000
DTEND;TZID=Europe/Madrid:20251218T170000
DTSTAMP:20260423T013402
CREATED:20251218T222302Z
LAST-MODIFIED:20251218T222431Z
UID:34596-1766044800-1766077200@ibizafunfamily.com
SUMMARY:Boom box\, concierto con Esta me la sé\, juegos recicaldos
DESCRIPTION:El Sábado 20 de Diciembre de 2025 a partir de las 10:30 en Santa Eulària en el Mercado de Navidad \n10:30 a 13:30 y de 16:30 a 20:00 Juegos de «Lila Jocs Reciclats» \nBoom box con Cachirulo \nConcierto en acústico del Grupo Esta me la sé \n18:00 a 20:00 Taller de cocina en la Sala Polivalente de Puig d’en Valls \n19:00 a 21:00Proyección de Videomapping navideño en la fachada del Ayuntamiento \n\n				\n					\n						Ver programa completo\n					\n				\n			  \n 
URL:https://ibizafunfamily.com/agenda/34596/
LOCATION:Islas Baleares
ATTACH;FMTTYPE=image/jpeg:https://ibizafunfamily.com/wp-content/uploads/2025/11/la-magia-de-la-navidad-santa.jpg
ORGANIZER;CN="Ajuntament de Santa Eul%C3%A0ria des Riu":MAILTO:alcaldia@santaeularia.com
END:VEVENT
BEGIN:VEVENT
DTSTART;TZID=Europe/Madrid:20251218T110000
DTEND;TZID=Europe/Madrid:20251218T233000
DTSTAMP:20260423T013402
CREATED:20251121T082846Z
LAST-MODIFIED:20251121T082846Z
UID:34098-1766055600-1766100600@ibizafunfamily.com
SUMMARY:Feria de Atracciones
DESCRIPTION:Feria de Atracciones de Navidad a partir del 21 de Noviembre en el parking de Sa Joveria \nHorario \nDe Lunes a jueves de 17:00 a 23:00 \nViernes\, sábado\, domingo y festivos de 11:00 a 14:00 y de 17:00 a 00:00 \nJueves de 17:00 a 19:00 Jornada inclusiva con reducción de impacto visual y sonido \nMartes y miércoles precio especial reducido a partir del 8 de Diciembre
URL:https://ibizafunfamily.com/agenda/feria-de-atracciones-27/
LOCATION:Parking Sa Joveria\, Carrer de Corona\, 14-16 entrada cerca Recinto Ferial\, Eivissa\, Islas Baleares\, 07800\, Spain
ATTACH;FMTTYPE=image/jpeg:https://ibizafunfamily.com/wp-content/uploads/2025/11/feria-de-navidad-1.jpg
END:VEVENT
BEGIN:VEVENT
DTSTART;TZID=Europe/Madrid:20251218T160000
DTEND;TZID=Europe/Madrid:20251218T180000
DTSTAMP:20260423T013402
CREATED:20251126T234057Z
LAST-MODIFIED:20251126T234057Z
UID:34147-1766073600-1766080800@ibizafunfamily.com
SUMMARY:Minibiza Kids Club
DESCRIPTION:Todos los jueves de 16:00 a 18:00 en Minibiza Kids Club \nMamis & Minis ( 0 a 4 años) \nJuego libre y circulo musical \nInfo y reservas al 686185933
URL:https://ibizafunfamily.com/agenda/minibiza-kids-club-2-4/
LOCATION:Minibiza\, Carrer del Pica-Soques\, Sant Josep de Sa Talaia\, Islas Baleares\, 07817\, España
ATTACH;FMTTYPE=image/jpeg:https://ibizafunfamily.com/wp-content/uploads/2025/11/minikids-27.jpg
END:VEVENT
BEGIN:VEVENT
DTSTART;TZID=Europe/Madrid:20251218T163000
DTEND;TZID=Europe/Madrid:20251218T190000
DTSTAMP:20260423T013402
CREATED:20251215T130522Z
LAST-MODIFIED:20251215T130522Z
UID:34504-1766075400-1766084400@ibizafunfamily.com
SUMMARY:Visita de Papa Noel y chocolatada en Formentera
DESCRIPTION:El Jueves 18 de Diciembre de 2025 en Formentera en la Sala de Cultura \nDos sesiones a las 16:30 y a las 18:30 \nVisita de Papa Noel \nChocolatada y bizcocho ( sin gluten y sin lactosa)
URL:https://ibizafunfamily.com/agenda/visita-de-papa-noel-y-chocolatada-en-formentera/
LOCATION:Sala de Cultura Formentera\, Pius Tur Mayans\, 14\, Formentera\, islas baleares\, 07860\, España
ATTACH;FMTTYPE=image/jpeg:https://ibizafunfamily.com/wp-content/uploads/2025/12/papa-noel-visita.jpg
END:VEVENT
BEGIN:VEVENT
DTSTART;TZID=Europe/Madrid:20251218T163000
DTEND;TZID=Europe/Madrid:20251218T190000
DTSTAMP:20260423T013402
CREATED:20251216T201726Z
LAST-MODIFIED:20251216T201726Z
UID:34540-1766075400-1766084400@ibizafunfamily.com
SUMMARY:Visita de Papá Noel en Formentera
DESCRIPTION:El próximo Jueves 18 de Diciembre se espera la llegada de Papá Noel a cargo de Shows Ibiza con chocolatada y coca dulce sin gluten y sin lactosa. \nSe organizará en dos pases\, uno a las 16:30h y otro a las 18:30h\, ambos en la Sala de Cultura (Cinema) \nNecesita reservar entrada en www.entradesformetera.cat
URL:https://ibizafunfamily.com/agenda/visita-de-papa-noel-en-formentera/
LOCATION:Sala de Cultura Formentera\, Pius Tur Mayans\, 14\, Formentera\, islas baleares\, 07860\, España
CATEGORIES:Fiesta
ATTACH;FMTTYPE=image/jpeg:https://ibizafunfamily.com/wp-content/uploads/2025/12/Fiesta-de-Navidad-formentera-2025.jpeg
ORGANIZER;CN="Consell de Formentera":MAILTO:presidencia@conselldeformentera.cat
END:VEVENT
END:VCALENDAR