BEGIN:VCALENDAR
VERSION:2.0
PRODID:-//Ibiza Fun Family - ECPv6.15.17.1//NONSGML v1.0//EN
CALSCALE:GREGORIAN
METHOD:PUBLISH
X-WR-CALNAME:Ibiza Fun Family
X-ORIGINAL-URL:https://ibizafunfamily.com
X-WR-CALDESC:Eventos para Ibiza Fun Family
REFRESH-INTERVAL;VALUE=DURATION:PT1H
X-Robots-Tag:noindex
X-PUBLISHED-TTL:PT1H
BEGIN:VTIMEZONE
TZID:Europe/Madrid
BEGIN:DAYLIGHT
TZOFFSETFROM:+0100
TZOFFSETTO:+0200
TZNAME:CEST
DTSTART:20240331T010000
END:DAYLIGHT
BEGIN:STANDARD
TZOFFSETFROM:+0200
TZOFFSETTO:+0100
TZNAME:CET
DTSTART:20241027T010000
END:STANDARD
BEGIN:DAYLIGHT
TZOFFSETFROM:+0100
TZOFFSETTO:+0200
TZNAME:CEST
DTSTART:20250330T010000
END:DAYLIGHT
BEGIN:STANDARD
TZOFFSETFROM:+0200
TZOFFSETTO:+0100
TZNAME:CET
DTSTART:20251026T010000
END:STANDARD
BEGIN:DAYLIGHT
TZOFFSETFROM:+0100
TZOFFSETTO:+0200
TZNAME:CEST
DTSTART:20260329T010000
END:DAYLIGHT
BEGIN:STANDARD
TZOFFSETFROM:+0200
TZOFFSETTO:+0100
TZNAME:CET
DTSTART:20261025T010000
END:STANDARD
BEGIN:DAYLIGHT
TZOFFSETFROM:+0100
TZOFFSETTO:+0200
TZNAME:CEST
DTSTART:20270328T010000
END:DAYLIGHT
BEGIN:STANDARD
TZOFFSETFROM:+0200
TZOFFSETTO:+0100
TZNAME:CET
DTSTART:20271031T010000
END:STANDARD
END:VTIMEZONE
BEGIN:VEVENT
DTSTART;VALUE=DATE:20251213
DTEND;VALUE=DATE:20260107
DTSTAMP:20260423T013400
CREATED:20251216T105744Z
LAST-MODIFIED:20251216T195350Z
UID:34520-1765584000-1767743999@ibizafunfamily.com
SUMMARY:Pista de Hielo en Sant Josep
DESCRIPTION:Del 13 de Diciembre al 6 de enero en Sant Josep \nPista de Hielo \n*Es obligatorio el uso de guantes \n \n\n				\n					\n						Ver programa completo
URL:https://ibizafunfamily.com/agenda/pista-de-hielo-en-sant-josep/
LOCATION:Plaza de la Iglesia Sant Josep\, Avinguda de Pere Escanellas\, Sant Josep de Sa Talaia\, Islas Baleares\, 07830\, España
ATTACH;FMTTYPE=image/jpeg:https://ibizafunfamily.com/wp-content/uploads/2025/12/pista-de-patinaje.jpeg
ORGANIZER;CN="Ajuntament de Sant Josep de Sa Talaia":MAILTO:alcaldia@santjosep.org
END:VEVENT
BEGIN:VEVENT
DTSTART;TZID=Europe/Madrid:20251216T110000
DTEND;TZID=Europe/Madrid:20251216T233000
DTSTAMP:20260423T013400
CREATED:20251121T082845Z
LAST-MODIFIED:20251121T082845Z
UID:34096-1765882800-1765927800@ibizafunfamily.com
SUMMARY:Feria de Atracciones
DESCRIPTION:Feria de Atracciones de Navidad a partir del 21 de Noviembre en el parking de Sa Joveria \nHorario \nDe Lunes a jueves de 17:00 a 23:00 \nViernes\, sábado\, domingo y festivos de 11:00 a 14:00 y de 17:00 a 00:00 \nJueves de 17:00 a 19:00 Jornada inclusiva con reducción de impacto visual y sonido \nMartes y miércoles precio especial reducido a partir del 8 de Diciembre
URL:https://ibizafunfamily.com/agenda/feria-de-atracciones-25/
LOCATION:Parking Sa Joveria\, Carrer de Corona\, 14-16 entrada cerca Recinto Ferial\, Eivissa\, Islas Baleares\, 07800\, Spain
ATTACH;FMTTYPE=image/jpeg:https://ibizafunfamily.com/wp-content/uploads/2025/11/feria-de-navidad-1.jpg
END:VEVENT
BEGIN:VEVENT
DTSTART;TZID=Europe/Madrid:20251216T160000
DTEND;TZID=Europe/Madrid:20251216T173000
DTSTAMP:20260423T013400
CREATED:20250919T220328Z
LAST-MODIFIED:20250919T220328Z
UID:33085-1765900800-1765906200@ibizafunfamily.com
SUMMARY:Club de lectura infantil
DESCRIPTION:Los Martes a partir del 7 de Octubre hasta el 26 de Mayo de 2025 de 16:00 a 17:30 en la Biblioteca de Ses Figueretes \nClub de lectura\, para peques de a partir de 6 años \nLos clubs de lectura son una herramienta para la promoción lectora en el ámbito académico y escolar. La asociación de vecinos nos propone un plan aceesible a través de la biblioteca y la dinamización a cargo de MaritzaTejecuentos
URL:https://ibizafunfamily.com/agenda/club-de-lectura-infantil-36-11/
LOCATION:Biblioteca de Ses Figueretes\, C/ de Navarra\, 26\, baixos\, Eivissa\, Islas Baleares\, 07800\, España
ATTACH;FMTTYPE=image/jpeg:https://ibizafunfamily.com/wp-content/uploads/2025/09/curso-de-lectura.jpeg
END:VEVENT
END:VCALENDAR