BEGIN:VCALENDAR
VERSION:2.0
PRODID:-//Ibiza Fun Family - ECPv6.15.17.1//NONSGML v1.0//EN
CALSCALE:GREGORIAN
METHOD:PUBLISH
X-ORIGINAL-URL:https://ibizafunfamily.com
X-WR-CALDESC:Eventos para Ibiza Fun Family
REFRESH-INTERVAL;VALUE=DURATION:PT1H
X-Robots-Tag:noindex
X-PUBLISHED-TTL:PT1H
BEGIN:VTIMEZONE
TZID:Europe/Madrid
BEGIN:DAYLIGHT
TZOFFSETFROM:+0100
TZOFFSETTO:+0200
TZNAME:CEST
DTSTART:20240331T010000
END:DAYLIGHT
BEGIN:STANDARD
TZOFFSETFROM:+0200
TZOFFSETTO:+0100
TZNAME:CET
DTSTART:20241027T010000
END:STANDARD
BEGIN:DAYLIGHT
TZOFFSETFROM:+0100
TZOFFSETTO:+0200
TZNAME:CEST
DTSTART:20250330T010000
END:DAYLIGHT
BEGIN:STANDARD
TZOFFSETFROM:+0200
TZOFFSETTO:+0100
TZNAME:CET
DTSTART:20251026T010000
END:STANDARD
BEGIN:DAYLIGHT
TZOFFSETFROM:+0100
TZOFFSETTO:+0200
TZNAME:CEST
DTSTART:20260329T010000
END:DAYLIGHT
BEGIN:STANDARD
TZOFFSETFROM:+0200
TZOFFSETTO:+0100
TZNAME:CET
DTSTART:20261025T010000
END:STANDARD
END:VTIMEZONE
BEGIN:VEVENT
DTSTART;TZID=Europe/Madrid:20250709T090000
DTEND;TZID=Europe/Madrid:20250709T230000
DTSTAMP:20260419T215021
CREATED:20250628T222657Z
LAST-MODIFIED:20250628T222657Z
UID:31593-1752051600-1752102000@ibizafunfamily.com
SUMMARY:Hippy Market\, área infantil con pintacaras
DESCRIPTION:El Miércoles 9 de Julio de 2025 de 9:00 a 19:00 en Punta Arabí \nHippy Market\, área infantil con maquillaje artístico y mas de 400 puestos de artesanía\, food trucks\, música y mucho mas. \n19:00 a 23:00 Atracciones de feria con la AA de feriantes de Ibiza y Formentera\, que colabora con las fiestas de Es Canar a precios populares 2€ excepto jumping \n19:30 a 21:30 Pase de modelos. Moda selecta ibicenca de la mano de comercios de Es Canar y Santa Eulària \n\n				\n					\n						Ver programa completo
URL:https://ibizafunfamily.com/agenda/hippy-market-area-infantil-con-pintacaras/
LOCATION:Avenida d’ Es Canar\, av. es canar\, Es canar\, islas baleares\, 07849\, España
ATTACH;FMTTYPE=image/jpeg:https://ibizafunfamily.com/wp-content/uploads/2025/06/festes-es-canar.jpg
ORGANIZER;CN="Ajuntament de Santa Eul%C3%A0ria des Riu":MAILTO:alcaldia@santaeularia.com
END:VEVENT
BEGIN:VEVENT
DTSTART;TZID=Europe/Madrid:20250709T093000
DTEND;TZID=Europe/Madrid:20250709T133000
DTSTAMP:20260419T215021
CREATED:20250627T221529Z
LAST-MODIFIED:20250627T221604Z
UID:31561-1752053400-1752067800@ibizafunfamily.com
SUMMARY:Verano creativo
DESCRIPTION:El martes 9 de Julio de 9:30 a 13:30 en el Centro de música creativo Ibiza \nVerano creativo\, regala a tus peques experiencias inolvidables \nGrupos reducidos \nDirigido para peques de 6 a 13 años \nMúsica \nManualidades \nCanto \nTeatro \nJuegos \nY mucho más \nPrecio por niño 44€/ Descuento para hermanos o alumnos del centro 30€ \nMás información 647236259/ 658565305
URL:https://ibizafunfamily.com/agenda/verano-creativo/
LOCATION:Centro de música creativo Ibiza\, Avd. Isidoro Macabich 58\, Eivissa\, Islas Baleares\, 07800\, Spain
ATTACH;FMTTYPE=image/jpeg:https://ibizafunfamily.com/wp-content/uploads/2025/06/estiu-creatiu.jpg
END:VEVENT
BEGIN:VEVENT
DTSTART;TZID=Europe/Madrid:20250709T180000
DTEND;TZID=Europe/Madrid:20250709T220000
DTSTAMP:20260419T215021
CREATED:20250706T214218Z
LAST-MODIFIED:20250706T214218Z
UID:31733-1752084000-1752098400@ibizafunfamily.com
SUMMARY:Castillos hinchables\, talleres infantiles\, espectáculo con Cachirulo
DESCRIPTION:El Miércoles 9 de Julio de 2025 en Barrio de Sa Capelleta\, Ibiza en las Fiestas de Sant Cristòfol \n18:00 a 20:00 Castillos hinchables y talleres infantiles \n20:30 Espectáculo infantil a cargo de Cachirulo \n 
URL:https://ibizafunfamily.com/agenda/castillos-hinchables-talleres-infantiles-espectaculo-con-cachirulo/
LOCATION:AAVV Sa Capelleta\, Via Púnica\, 8\, Eivissa\, Islas Baleares\, 07800\, España
ATTACH;FMTTYPE=image/jpeg:https://ibizafunfamily.com/wp-content/uploads/2025/07/sa-capelleta.jpg
END:VEVENT
BEGIN:VEVENT
DTSTART;TZID=Europe/Madrid:20250709T190000
DTEND;TZID=Europe/Madrid:20250709T210000
DTSTAMP:20260419T215021
CREATED:20250630T212847Z
LAST-MODIFIED:20250630T212847Z
UID:31619-1752087600-1752094800@ibizafunfamily.com
SUMMARY:Sa Fireta\, castillos hinchables y juegos
DESCRIPTION:Del 1 de Julio al 31 de Agosto de 2025 de 19:00 a 21:00 en Formentera \nSa Fireta\, castillos hinchables y juegos \n*Festivos el 25 de Julio y el 5 de Agosto \nLos lunes  en Sant Francesc \nLos martes en la Savina \nLos miércoles en la Mola \nLos jueves en Es Pujols \nLos viernes en Sant Ferran
URL:https://ibizafunfamily.com/agenda/sa-fireta-castillos-hinchables-y-juegos-2/
LOCATION:Iglesia Pilar de la Mola\, Plaça del Pilar\, 4\, Formentera\, islas baleares\, 07872\, España
ATTACH;FMTTYPE=image/jpeg:https://ibizafunfamily.com/wp-content/uploads/2025/06/sa-fireta.jpg
ORGANIZER;CN="Consell de Formentera":MAILTO:presidencia@conselldeformentera.cat
END:VEVENT
END:VCALENDAR