BEGIN:VCALENDAR
VERSION:2.0
PRODID:-//Ibiza Fun Family - ECPv6.15.17.1//NONSGML v1.0//EN
CALSCALE:GREGORIAN
METHOD:PUBLISH
X-ORIGINAL-URL:https://ibizafunfamily.com
X-WR-CALDESC:Eventos para Ibiza Fun Family
REFRESH-INTERVAL;VALUE=DURATION:PT1H
X-Robots-Tag:noindex
X-PUBLISHED-TTL:PT1H
BEGIN:VTIMEZONE
TZID:Europe/Madrid
BEGIN:DAYLIGHT
TZOFFSETFROM:+0100
TZOFFSETTO:+0200
TZNAME:CEST
DTSTART:20240331T010000
END:DAYLIGHT
BEGIN:STANDARD
TZOFFSETFROM:+0200
TZOFFSETTO:+0100
TZNAME:CET
DTSTART:20241027T010000
END:STANDARD
BEGIN:DAYLIGHT
TZOFFSETFROM:+0100
TZOFFSETTO:+0200
TZNAME:CEST
DTSTART:20250330T010000
END:DAYLIGHT
BEGIN:STANDARD
TZOFFSETFROM:+0200
TZOFFSETTO:+0100
TZNAME:CET
DTSTART:20251026T010000
END:STANDARD
BEGIN:DAYLIGHT
TZOFFSETFROM:+0100
TZOFFSETTO:+0200
TZNAME:CEST
DTSTART:20260329T010000
END:DAYLIGHT
BEGIN:STANDARD
TZOFFSETFROM:+0200
TZOFFSETTO:+0100
TZNAME:CET
DTSTART:20261025T010000
END:STANDARD
END:VTIMEZONE
BEGIN:VEVENT
DTSTART;VALUE=DATE:20250425
DTEND;VALUE=DATE:20250428
DTSTAMP:20260419T140005
CREATED:20250422T092012Z
LAST-MODIFIED:20250425T211109Z
UID:30225-1745539200-1745798399@ibizafunfamily.com
SUMMARY:Feria Náutica con actividades familiares y talleres infantiles
DESCRIPTION:El Finde semana 25\, 26 y 27 de Abril en el Puerto de Santa Eulària \nFeria Náutica XXIX Edición \nEn el muelle de Santa Eulària encontraras: \nViernes 25 de 12:00 a 19:00 \nInauguración de la feria \nExposición de embarcaciones y alquileres \nAccesorios náuticos y servicios técnicos \nArtesanía local \nProyectos sostenibles como «Navegamos todos» y «P02idonia» \nSábado 26 de 11:00 a 19:00 \n12:00 a 13:00 Actividades familiares\, talleres infantiles a las 12:00 con Cachirulo \nExposición de embarcaciones y alquileres \nAccesorios náuticos y servicios técnicos \nArtesanía local \nProyectos sostenibles como «Navegamos todos» y «P02idonia» \nDomingo 27 de 11:00 a 19;00 \n12:00 a 1:00 Actividades familiares con Kairos Ibiza Eventos \nExposición de embarcaciones y alquileres \nAccesorios náuticos y servicios técnicos \nArtesanía local \nProyectos sostenibles como «Navegamos t:odos» y «P02idonia» \n18:30 Sorteos y premios de nuestros expositores \n\n				\n					\n						Ver programa completo \n					\n				\n			  \n \n  \n 
URL:https://ibizafunfamily.com/agenda/feria-nautica-3/
LOCATION:Marina Santa Eulària\, Edificio Capitanía\, s/n\, Santa Eulària des Riu\, Islas Baleares\, 07840\, España
ATTACH;FMTTYPE=image/jpeg:https://ibizafunfamily.com/wp-content/uploads/2025/04/IMG_20250422_123037_670.jpg
END:VEVENT
BEGIN:VEVENT
DTSTART;TZID=Europe/Madrid:20250426T193000
DTEND;TZID=Europe/Madrid:20250427T003000
DTSTAMP:20260419T140005
CREATED:20250421T212713Z
LAST-MODIFIED:20250421T212713Z
UID:30192-1745695800-1745713800@ibizafunfamily.com
SUMMARY:Feria Andaluza\, bailes de academias\, Esta me la sé
DESCRIPTION:El Sábado 26 de Abril de 2025 a partir de las 19:30 en el solar de Sa Joveria \n19:30 Academia de Baile Sabrina Dance Center & Art \n19:45 Academia de Baile Teresa Rojas \n22:00 Que te quiten lo bailao \n23:30 Álvaro Díaz \n00:30 Esta me la sé \n\n				\n					\n						Ver programa completo
URL:https://ibizafunfamily.com/agenda/feria-andaluza-bailes-de-academias-esta-me-la-se/
LOCATION:Islas Baleares
ATTACH;FMTTYPE=image/jpeg:https://ibizafunfamily.com/wp-content/uploads/2025/04/fira-andalusa.jpg
END:VEVENT
BEGIN:VEVENT
DTSTART;TZID=Europe/Madrid:20250427T100000
DTEND;TZID=Europe/Madrid:20250427T200000
DTSTAMP:20260419T140005
CREATED:20250415T204923Z
LAST-MODIFIED:20250415T204923Z
UID:30108-1745748000-1745784000@ibizafunfamily.com
SUMMARY:IV Gincana ciclista infantil\, teatro infantil y mucho más
DESCRIPTION:El Domingo 27 de Abril de 2025 a partir de las 10:00 en las Fiestas de Sant Jordi \n10:00 Salida de marcha nórdica por Sant Jordi\, punto de encuentro a las 9:30 en el aparcamiento del polodeportivo de Can Guerxo\, el ayuntamiento pondrá a disposición de los participantes bastones de marcha \n10:00 IV Gincana ciclista infantil en el circuito de Can Burgos. La organiza el grupo Esportiu Es Vedrá \n11:30 X memorial Toni Ramis\, tiro con honda detrás del bar Can Sala\, organiza club Jasa \n12:00 Teatro infantil «En busca de l’orelleta» a cargo de la Compañía Artes Pavón en la plaza de Sant Jordi \n18:00 taller de bachata abierto a todo el público en la plaza \n19:00 Acontecimiento social para bailar bachata – salsa 50-50 en la plaza \n\n				\n					\n						Ver programa completo
URL:https://ibizafunfamily.com/agenda/iv-gincana-ciclista-infantil-teatro-infantil-y-mucho-mas/
LOCATION:Plaza de Sant Jordi\, Carrer Cementeri\, 1\, Sant Jordi de ses Salines\, islas baleares\, 07817\, España
ATTACH;FMTTYPE=image/jpeg:https://ibizafunfamily.com/wp-content/uploads/2025/04/sant-jordi-1.jpg
ORGANIZER;CN="Ajuntament de Sant Josep de Sa Talaia":MAILTO:alcaldia@santjosep.org
END:VEVENT
BEGIN:VEVENT
DTSTART;TZID=Europe/Madrid:20250427T110000
DTEND;TZID=Europe/Madrid:20250427T180000
DTSTAMP:20260419T140005
CREATED:20250421T210642Z
LAST-MODIFIED:20250422T095022Z
UID:30176-1745751600-1745776800@ibizafunfamily.com
SUMMARY:Dia internacional de la tierra\, juegos infantiles\, mercado artesanal y conciertos
DESCRIPTION:El Domingo 27 de Abril de 2025 de 11:00 a 18:00 en el Passeig S’Alamera \nDia internacional de la tierra \nJuegos infantiles \nMercado artesanal \nConciertos de 12:00 a 18:00
URL:https://ibizafunfamily.com/agenda/dia-internacional-de-la-tierra-juegos-infantiles-mercado-artesanal-y-conciertos/
LOCATION:Passeig Salamera\, Passeig Salamera\, del Ayuntamiento hacia la playa\, Santa Eulària des Riu\, Islas Baleares\, 07840\, España
ATTACH;FMTTYPE=image/jpeg:https://ibizafunfamily.com/wp-content/uploads/2025/04/IMG-20250422-WA0043.jpg
ORGANIZER;CN="Ajuntament de Santa Eul%C3%A0ria des Riu":MAILTO:alcaldia@santaeularia.com
END:VEVENT
BEGIN:VEVENT
DTSTART;TZID=Europe/Madrid:20250427T110000
DTEND;TZID=Europe/Madrid:20250427T190000
DTSTAMP:20260419T140005
CREATED:20250416T221137Z
LAST-MODIFIED:20250422T074610Z
UID:30152-1745751600-1745780400@ibizafunfamily.com
SUMMARY:Cuentacuentos y actividades infantiles
DESCRIPTION:El Domingo 27 de Abril de 2025 de 11:00 a 19:00 en Sant Antoni \n11:00 a 19:00 Parada de venta de libros \n11:00 a 13:30 Cuentacuentos y actividades infantiles a cargo  de Sueños de Ibiza en el Paseig de Ses Fonts \nA las 12:30 y a las 18:00 Visitas teatralizadas en la Iglesia de Sant Antoni \nTodos a refugio! Iglesia de Portmany 1692\, Plazas limitadas e inscripción previa en la web municipal del 21 al 23 de abril
URL:https://ibizafunfamily.com/agenda/cuentacuentos-y-actividades-infantiles/
LOCATION:Passeig de Ses Fonts\, Passeig de ses fonts\, Sant Antoni de Portmany\, Islas Baleares\, 07820\, España
ATTACH;FMTTYPE=image/jpeg:https://ibizafunfamily.com/wp-content/uploads/2025/04/dia-del-libro-snaan.jpg
END:VEVENT
BEGIN:VEVENT
DTSTART;TZID=Europe/Madrid:20250427T113000
DTEND;TZID=Europe/Madrid:20250427T133000
DTSTAMP:20260419T140005
CREATED:20250425T212912Z
LAST-MODIFIED:20250425T212912Z
UID:30309-1745753400-1745760600@ibizafunfamily.com
SUMMARY:Centenario del Edificio de Can Ventosa\, actuaciones\, cuentacuentos...
DESCRIPTION:El Domingo 27  de Abril de 025 a partir de las 11:30 en Can Ventosa \n11:30 Descubrimiento de la plaza conmemorativo en el Auditorio de Can Ventosa \nInauguración de la exposición fotográfica \nProyección del video conmemorativo \nActuación interdisciplinar de Ibiza Escénica \n12:30 Puertas abiertas en la Biblioteca de Can Ventosa \nDavid y Monma cuentacuentos \n 
URL:https://ibizafunfamily.com/agenda/centenario-del-edificio-de-can-ventosa-actuaciones-cuentacuentos/
LOCATION:Auditori Can Ventosa\, Av. Ignasi Wallis\, 36\, Eivissa\, Islas Baleares\, 07800\, España
ATTACH;FMTTYPE=image/jpeg:https://ibizafunfamily.com/wp-content/uploads/2025/04/centernari.jpg
END:VEVENT
BEGIN:VEVENT
DTSTART;TZID=Europe/Madrid:20250427T113000
DTEND;TZID=Europe/Madrid:20250427T200000
DTSTAMP:20260419T140005
CREATED:20250421T213018Z
LAST-MODIFIED:20250421T213018Z
UID:30194-1745753400-1745784000@ibizafunfamily.com
SUMMARY:Feria Andaluza\, actividades para los más peques\, humor \, baile y arroz popular
DESCRIPTION:El Domingo 27 de Abril de 2025 a partir de las 11:30 en el Solar de Sa Joveria \n11:30 Actividades para los más pequeños \n13:00 Humor con Miki Dkai \, Luci Mendoza y Manu Baeza \n14:00 Arroz Popular \n17:00 Grupo de baile de la AV. Es Clot \n20:00 Grupo de baile » En clave de Flamenco» \n\n				\n					\n						Ver programa completo
URL:https://ibizafunfamily.com/agenda/feria-andaluza-actividades-para-los-mas-peques-humor-baile-y-arroz-popular/
LOCATION:Islas Baleares
ATTACH;FMTTYPE=image/jpeg:https://ibizafunfamily.com/wp-content/uploads/2025/04/fira-andalusa.jpg
END:VEVENT
BEGIN:VEVENT
DTSTART;TZID=Europe/Madrid:20250427T114500
DTEND;TZID=Europe/Madrid:20250427T180000
DTSTAMP:20260419T140005
CREATED:20250425T213959Z
LAST-MODIFIED:20250425T213959Z
UID:30315-1745754300-1745776800@ibizafunfamily.com
SUMMARY:Castillos hinchables\, cante y baile con los amigos y mucho más
DESCRIPTION:El Domingo 27 de Abril de 2025 en el Pilar de la Mola \nRomería de la Virgen de la Cabeza \n11:45 Salida del parking de Ca na Baixera hasta la Iglesia del Pilar \n12:00 Ofrenda floral a la Virgen del Pilar en la Iglesia y Ball pagés en la plaza \nCon motivo del XXX aniversario\, Gran Paella popular \nCastillos hinchables para niños y niñas de 2 a 12 años \nCante y baile con los amigos \n 
URL:https://ibizafunfamily.com/agenda/castillos-hinchables-cante-y-baile-con-los-amigos-y-mucho-mas/
LOCATION:Iglesia Pilar de la Mola\, Plaça del Pilar\, 4\, Formentera\, islas baleares\, 07872\, España
ATTACH;FMTTYPE=image/jpeg:https://ibizafunfamily.com/wp-content/uploads/2025/04/romeria.jpg
ORGANIZER;CN="Consell de Formentera":MAILTO:presidencia@conselldeformentera.cat
END:VEVENT
BEGIN:VEVENT
DTSTART;TZID=Europe/Madrid:20250427T120000
DTEND;TZID=Europe/Madrid:20250427T170000
DTSTAMP:20260419T140005
CREATED:20250410T211342Z
LAST-MODIFIED:20250410T211342Z
UID:29925-1745755200-1745773200@ibizafunfamily.com
SUMMARY:Circo on Ice\, el mayor espectáculo del mundo sobre hielo
DESCRIPTION:Del 17 de Abril al 4 de Mayo de 2025 en la Gran Carpa – Av Sant Jordi\, junto al polideportivo Es Viver \nCirco on Ice\, el mayor espectáculo del mundo sobre hielo \nUna experiencia única donde el circo tradicional se fusiona con la innovación y la belleza del hielo para ofrecer a los espectadores un show en el que los artistas realizan números circenses sobre la gélida pista. \nDomingo 27  a las 12:00 y a las 17:00 \nJueves 1 de Mayo a 17:00 \nViernes 2 a las 19:00 \nSábado 3 a las 17:00 \nDomingo 4 a las 12:00 y a las 17:00 \n\n				\n					\n						Más información\, comprar entradas
URL:https://ibizafunfamily.com/agenda/circo-on-ice-el-mayor-espectaculo-del-mundo-sobre-hielo-10/
LOCATION:Pabellón Municipal de Es Viver\, Carrer de la Sindicalista Margalida Roig\, 5\, Eivissa\, islas baleares\, 07800\, España
CATEGORIES:Circo
ATTACH;FMTTYPE=image/jpeg:https://ibizafunfamily.com/wp-content/uploads/2025/04/circo-alegria-e1744187669595.jpg
END:VEVENT
BEGIN:VEVENT
DTSTART;TZID=Europe/Madrid:20250427T170000
DTEND;TZID=Europe/Madrid:20250427T183000
DTSTAMP:20260419T140006
CREATED:20250421T212036Z
LAST-MODIFIED:20250421T212036Z
UID:30185-1745773200-1745778600@ibizafunfamily.com
SUMMARY:Espectáculo familiar de títeres de hilo
DESCRIPTION:El Domingo 27 de Abril de 2025 a las 17:00 en Cafetería Y Punto \nEspectáculo familiar de títeres de hilo\,  de Cabaret de La Maletitiritera \nEntrada para peque 18 peque\, incluye entrada más parque de bolas \nEntrada adulto 3€\, incluye bebida más entrada \nAforo limitado\, venta anticipada. \nInformación al wasap 639138583
URL:https://ibizafunfamily.com/agenda/espectaculo-familiar-de-titeres-de-hilo/
LOCATION:Y Punto\, Calle Rosalia\, n8 esquina calle Valencia\, Sant Antoni de Portmany\, Islas Baleares\, 07820\, España
CATEGORIES:Espectáculo
ATTACH;FMTTYPE=image/jpeg:https://ibizafunfamily.com/wp-content/uploads/2025/04/cabarel.jpg
END:VEVENT
END:VCALENDAR