BEGIN:VCALENDAR
VERSION:2.0
PRODID:-//Ibiza Fun Family - ECPv6.15.17.1//NONSGML v1.0//EN
CALSCALE:GREGORIAN
METHOD:PUBLISH
X-WR-CALNAME:Ibiza Fun Family
X-ORIGINAL-URL:https://ibizafunfamily.com
X-WR-CALDESC:Eventos para Ibiza Fun Family
REFRESH-INTERVAL;VALUE=DURATION:PT1H
X-Robots-Tag:noindex
X-PUBLISHED-TTL:PT1H
BEGIN:VTIMEZONE
TZID:Europe/Madrid
BEGIN:DAYLIGHT
TZOFFSETFROM:+0100
TZOFFSETTO:+0200
TZNAME:CEST
DTSTART:20240331T010000
END:DAYLIGHT
BEGIN:STANDARD
TZOFFSETFROM:+0200
TZOFFSETTO:+0100
TZNAME:CET
DTSTART:20241027T010000
END:STANDARD
BEGIN:DAYLIGHT
TZOFFSETFROM:+0100
TZOFFSETTO:+0200
TZNAME:CEST
DTSTART:20250330T010000
END:DAYLIGHT
BEGIN:STANDARD
TZOFFSETFROM:+0200
TZOFFSETTO:+0100
TZNAME:CET
DTSTART:20251026T010000
END:STANDARD
BEGIN:DAYLIGHT
TZOFFSETFROM:+0100
TZOFFSETTO:+0200
TZNAME:CEST
DTSTART:20260329T010000
END:DAYLIGHT
BEGIN:STANDARD
TZOFFSETFROM:+0200
TZOFFSETTO:+0100
TZNAME:CET
DTSTART:20261025T010000
END:STANDARD
END:VTIMEZONE
BEGIN:VEVENT
DTSTART;VALUE=DATE:20250109
DTEND;VALUE=DATE:20250322
DTSTAMP:20260423T013406
CREATED:20250114T212637Z
LAST-MODIFIED:20250114T212846Z
UID:28273-1736380800-1742601599@ibizafunfamily.com
SUMMARY:XXVIII Concurso Puig de Missa de Poesía 2025
DESCRIPTION:Del 9 de Enero hasta el  21 de Marzo de 2025 a las 14:00 \nAbierto el plazo para la inscripción \nXXVIII Concurso Puig de Missa de Poesía 2025 \nSe establecen dos categorías de premios en función de la edad de los participantes y dos modalidades según la lengua en la que las obras sean presentadas al concurso\, que será cualquiera de las dos lenguas oficiales de la Comunidad Autónoma de les Illes Balears. \nLos poemas se deben enviar por correo electrónico a cultura@santaeularia.com. Se adjuntarán dos archivos en word o pdf\, uno con el poema o poemas (sin datos personales\, solo un seudónimo) y el otro con los datos personales (nombre\, DNI\, dirección\, fecha de nacimiento\, teléfono de contacto\, correo electrónico\, título del poema\, seudónimo y categoría en la que participa). Los colegios participantes pueden presentar todos los poemas juntos y adjuntar una lista del alumnado con nombre\, seudónimo\, título del poema y curso. \nCategoría de adultos a partir de 18 años \nCategoría juvenil de 12 a 17 años \nEn su conjunto\, el Concurso Puig de Missa de Poesía repartirá 2.160 euros en premios \nLa entrega de premios se hará el día 23 de abril de 2025 a las 19 horas en el Teatro España de Santa Eulària. \nPueden consultar las bases en www.santaeulariadesriu.com
URL:https://ibizafunfamily.com/agenda/28273/
LOCATION:Islas Baleares
ATTACH;FMTTYPE=image/jpeg:https://ibizafunfamily.com/wp-content/uploads/2025/01/concurso-puig-de-missa.jpg
ORGANIZER;CN="Ajuntament de Santa Eul%C3%A0ria des Riu":MAILTO:alcaldia@santaeularia.com
END:VEVENT
BEGIN:VEVENT
DTSTART;VALUE=DATE:20250317
DTEND;VALUE=DATE:20250411
DTSTAMP:20260423T013406
CREATED:20250317T223051Z
LAST-MODIFIED:20250317T223051Z
UID:29192-1742169600-1744329599@ibizafunfamily.com
SUMMARY:XX Concurso de ilustración de puntos de libros
DESCRIPTION:Hasta el 10 de Abril de 2025 concurso de Ilustración XX de puntos de libro \nCategorias: \nA. Nacidos del 2019  hasta 6 años \nB. Nacidos entre 2016 y 2018 de 7 a 9 años \nC. Nacidos entre 2013 y 2015 de 10 a 12 años \nD. Nacidos entre 2008 y 2012 de 13 a 17 años \nDirigido a la población del municipio \nTemática\, propuestas relacionadas con el Patrimonio cultural y natural de nuestro municipio\, en la categoría A se acepta temática libre \nLos puntos de libros se podrán entregar en la biblioteca hasta el 10 de abril \nEn la parte de atrás tendrá que tener la categoría y los datos personales\, nombre y apellidos\, fecha de nacimiento\, teléfono y correo electrónico
URL:https://ibizafunfamily.com/agenda/xx-concurso-de-ilustracion-de-puntos-de-libros/
LOCATION:Islas Baleares
CATEGORIES:Concurso
ATTACH;FMTTYPE=image/jpeg:https://ibizafunfamily.com/wp-content/uploads/2025/03/concurso.jpg
ORGANIZER;CN="Ajuntament de Santa Eul%C3%A0ria des Riu":MAILTO:alcaldia@santaeularia.com
END:VEVENT
BEGIN:VEVENT
DTSTART;TZID=Europe/Madrid:20250317T160000
DTEND;TZID=Europe/Madrid:20250321T190000
DTSTAMP:20260423T013406
CREATED:20250216T220828Z
LAST-MODIFIED:20250216T220828Z
UID:28751-1742227200-1742583600@ibizafunfamily.com
SUMMARY:Patios abiertos\, manualidades\, talleres y actividades deportivas
DESCRIPTION:De Lunes a Viernes de Febrero a Mayo de 2025 de 16:00 a 19:00 en el Ceip Sant Jordi\, Ceip l’Urgell y Es Vedrá \nPatios abiertos Ven a jugar! \nActividades deportivas\, básquet\, futbol\, balonmano\, voley\, tannis\, juego libre. \nTalleres y manualidades educativos \nDestinado a niños y niñas escolarizados\, menores de 8 años acompañados por un adulto y familias
URL:https://ibizafunfamily.com/agenda/patios-abiertos-manualidades-talleres-y-actividades-deportivas-7/
LOCATION:Islas Baleares
ATTACH;FMTTYPE=image/jpeg:https://ibizafunfamily.com/wp-content/uploads/2025/02/ptis-oberts-l-a-v-e1739743451689.jpg
ORGANIZER;CN="Ajuntament de Sant Josep de Sa Talaia":MAILTO:alcaldia@santjosep.org
END:VEVENT
END:VCALENDAR