BEGIN:VCALENDAR
VERSION:2.0
PRODID:-//Ibiza Fun Family - ECPv6.15.17.1//NONSGML v1.0//EN
CALSCALE:GREGORIAN
METHOD:PUBLISH
X-ORIGINAL-URL:https://ibizafunfamily.com
X-WR-CALDESC:Eventos para Ibiza Fun Family
REFRESH-INTERVAL;VALUE=DURATION:PT1H
X-Robots-Tag:noindex
X-PUBLISHED-TTL:PT1H
BEGIN:VTIMEZONE
TZID:Europe/Madrid
BEGIN:DAYLIGHT
TZOFFSETFROM:+0100
TZOFFSETTO:+0200
TZNAME:CEST
DTSTART:20240331T010000
END:DAYLIGHT
BEGIN:STANDARD
TZOFFSETFROM:+0200
TZOFFSETTO:+0100
TZNAME:CET
DTSTART:20241027T010000
END:STANDARD
BEGIN:DAYLIGHT
TZOFFSETFROM:+0100
TZOFFSETTO:+0200
TZNAME:CEST
DTSTART:20250330T010000
END:DAYLIGHT
BEGIN:STANDARD
TZOFFSETFROM:+0200
TZOFFSETTO:+0100
TZNAME:CET
DTSTART:20251026T010000
END:STANDARD
BEGIN:DAYLIGHT
TZOFFSETFROM:+0100
TZOFFSETTO:+0200
TZNAME:CEST
DTSTART:20260329T010000
END:DAYLIGHT
BEGIN:STANDARD
TZOFFSETFROM:+0200
TZOFFSETTO:+0100
TZNAME:CET
DTSTART:20261025T010000
END:STANDARD
END:VTIMEZONE
BEGIN:VEVENT
DTSTART;VALUE=DATE:20250109
DTEND;VALUE=DATE:20250322
DTSTAMP:20260422T035735
CREATED:20250114T212637Z
LAST-MODIFIED:20250114T212846Z
UID:28273-1736380800-1742601599@ibizafunfamily.com
SUMMARY:XXVIII Concurso Puig de Missa de Poesía 2025
DESCRIPTION:Del 9 de Enero hasta el  21 de Marzo de 2025 a las 14:00 \nAbierto el plazo para la inscripción \nXXVIII Concurso Puig de Missa de Poesía 2025 \nSe establecen dos categorías de premios en función de la edad de los participantes y dos modalidades según la lengua en la que las obras sean presentadas al concurso\, que será cualquiera de las dos lenguas oficiales de la Comunidad Autónoma de les Illes Balears. \nLos poemas se deben enviar por correo electrónico a cultura@santaeularia.com. Se adjuntarán dos archivos en word o pdf\, uno con el poema o poemas (sin datos personales\, solo un seudónimo) y el otro con los datos personales (nombre\, DNI\, dirección\, fecha de nacimiento\, teléfono de contacto\, correo electrónico\, título del poema\, seudónimo y categoría en la que participa). Los colegios participantes pueden presentar todos los poemas juntos y adjuntar una lista del alumnado con nombre\, seudónimo\, título del poema y curso. \nCategoría de adultos a partir de 18 años \nCategoría juvenil de 12 a 17 años \nEn su conjunto\, el Concurso Puig de Missa de Poesía repartirá 2.160 euros en premios \nLa entrega de premios se hará el día 23 de abril de 2025 a las 19 horas en el Teatro España de Santa Eulària. \nPueden consultar las bases en www.santaeulariadesriu.com
URL:https://ibizafunfamily.com/agenda/28273/
LOCATION:Islas Baleares
ATTACH;FMTTYPE=image/jpeg:https://ibizafunfamily.com/wp-content/uploads/2025/01/concurso-puig-de-missa.jpg
ORGANIZER;CN="Ajuntament de Santa Eul%C3%A0ria des Riu":MAILTO:alcaldia@santaeularia.com
END:VEVENT
BEGIN:VEVENT
DTSTART;TZID=Europe/Madrid:20250310T160000
DTEND;TZID=Europe/Madrid:20250314T190000
DTSTAMP:20260422T035735
CREATED:20250216T220828Z
LAST-MODIFIED:20250216T220828Z
UID:28750-1741622400-1741978800@ibizafunfamily.com
SUMMARY:Patios abiertos\, manualidades\, talleres y actividades deportivas
DESCRIPTION:De Lunes a Viernes de Febrero a Mayo de 2025 de 16:00 a 19:00 en el Ceip Sant Jordi\, Ceip l’Urgell y Es Vedrá \nPatios abiertos Ven a jugar! \nActividades deportivas\, básquet\, futbol\, balonmano\, voley\, tannis\, juego libre. \nTalleres y manualidades educativos \nDestinado a niños y niñas escolarizados\, menores de 8 años acompañados por un adulto y familias
URL:https://ibizafunfamily.com/agenda/patios-abiertos-manualidades-talleres-y-actividades-deportivas-6/
LOCATION:Islas Baleares
ATTACH;FMTTYPE=image/jpeg:https://ibizafunfamily.com/wp-content/uploads/2025/02/ptis-oberts-l-a-v-e1739743451689.jpg
ORGANIZER;CN="Ajuntament de Sant Josep de Sa Talaia":MAILTO:alcaldia@santjosep.org
END:VEVENT
BEGIN:VEVENT
DTSTART;TZID=Europe/Madrid:20250311T163000
DTEND;TZID=Europe/Madrid:20250311T180000
DTSTAMP:20260422T035735
CREATED:20250310T221247Z
LAST-MODIFIED:20250310T221247Z
UID:29099-1741710600-1741716000@ibizafunfamily.com
SUMMARY:Arte y manualidades de marzo
DESCRIPTION:Los martes de marzo de 2025 de 16:30 a 18:00 en Mevak \nArte y manualidades de marzo \nEl martes 11 crearan en clase una obra de arte con Cereales \nMartes 18 \, diseñar un cuadro con flores secas \nY el martes 25 \, pintar y decorar un tiesto para plantar lindas flores \nA partir de 3 años de edad \nPrecios: Mes completo 3 talleres 45€ y taller un día puntual 20€
URL:https://ibizafunfamily.com/agenda/arte-y-manualidades-de-marzo/
LOCATION:Meva Kids Ibiza\, Carretera Es Canar km 1\, Santa Eulària des Riu\, Islas Baleares\, España
CATEGORIES:Talleres
ATTACH;FMTTYPE=image/jpeg:https://ibizafunfamily.com/wp-content/uploads/2025/03/arte-y-manualidades.jpg
ORGANIZER;CN="Mevak Kids Ibiza":MAILTO:mevakidsibiza@gmail.com
END:VEVENT
BEGIN:VEVENT
DTSTART;TZID=Europe/Madrid:20250311T170000
DTEND;TZID=Europe/Madrid:20250311T180000
DTSTAMP:20260422T035735
CREATED:20240930T211048Z
LAST-MODIFIED:20240930T211048Z
UID:25683-1741712400-1741716000@ibizafunfamily.com
SUMMARY:Club de lectura infantil
DESCRIPTION:Todos los martes de 17:00 a 18:00 de Octubre a Mayo de 2024 en la Biblioteca de Santa Eulària \nT’agraderia llegeir…Parlar de llibres?? \nClub de lectura infantil dirigido a niños y niñas de 8 a 11 años \nInscripciones en el teléfono 971338277 o a biblioteca@santaeularia.com \n\n				\n					\n						Correo electrónico
URL:https://ibizafunfamily.com/agenda/club-de-lectura-infantil-24/
LOCATION:Biblioteca Municipal de Santa Eulalia\, Carrer Joan Tur Tur\, n9\, Santa Eulària des Riu\, Islas Baleares\, 07840\, España
ATTACH;FMTTYPE=image/jpeg:https://ibizafunfamily.com/wp-content/uploads/2024/09/club-lectura.jpg
ORGANIZER;CN="Ajuntament de Santa Eul%C3%A0ria des Riu":MAILTO:alcaldia@santaeularia.com
END:VEVENT
BEGIN:VEVENT
DTSTART;TZID=Europe/Madrid:20250311T180000
DTEND;TZID=Europe/Madrid:20250311T190000
DTSTAMP:20260422T035736
CREATED:20241003T204146Z
LAST-MODIFIED:20241003T204146Z
UID:25831-1741716000-1741719600@ibizafunfamily.com
SUMMARY:Club de lectura juvenil
DESCRIPTION:Todos los martes de 18:00 a 19:00 de Octubre a Mayo de 2024 en la Biblioteca de Santa Eulària \nT’agraderia llegeir…Parlar de llibres?? \nClub de lecturajuvenil dirigido a niños y niñas de 12 a 15 años \nInscripciones en el teléfono 971338277 o a biblioteca@santaeularia.com \n\n				\n					\n						Correo electrónico
URL:https://ibizafunfamily.com/agenda/club-de-lectura-juvenil-23/
LOCATION:Biblioteca Municipal de Santa Eulalia\, Carrer Joan Tur Tur\, n9\, Santa Eulària des Riu\, Islas Baleares\, 07840\, España
ATTACH;FMTTYPE=image/jpeg:https://ibizafunfamily.com/wp-content/uploads/2024/10/juvenil.jpg
ORGANIZER;CN="Ajuntament de Santa Eul%C3%A0ria des Riu":MAILTO:alcaldia@santaeularia.com
END:VEVENT
END:VCALENDAR