BEGIN:VCALENDAR
VERSION:2.0
PRODID:-//Ibiza Fun Family - ECPv6.15.17.1//NONSGML v1.0//EN
CALSCALE:GREGORIAN
METHOD:PUBLISH
X-ORIGINAL-URL:https://ibizafunfamily.com
X-WR-CALDESC:Eventos para Ibiza Fun Family
REFRESH-INTERVAL;VALUE=DURATION:PT1H
X-Robots-Tag:noindex
X-PUBLISHED-TTL:PT1H
BEGIN:VTIMEZONE
TZID:Europe/Madrid
BEGIN:DAYLIGHT
TZOFFSETFROM:+0100
TZOFFSETTO:+0200
TZNAME:CEST
DTSTART:20240331T010000
END:DAYLIGHT
BEGIN:STANDARD
TZOFFSETFROM:+0200
TZOFFSETTO:+0100
TZNAME:CET
DTSTART:20241027T010000
END:STANDARD
BEGIN:DAYLIGHT
TZOFFSETFROM:+0100
TZOFFSETTO:+0200
TZNAME:CEST
DTSTART:20250330T010000
END:DAYLIGHT
BEGIN:STANDARD
TZOFFSETFROM:+0200
TZOFFSETTO:+0100
TZNAME:CET
DTSTART:20251026T010000
END:STANDARD
BEGIN:DAYLIGHT
TZOFFSETFROM:+0100
TZOFFSETTO:+0200
TZNAME:CEST
DTSTART:20260329T010000
END:DAYLIGHT
BEGIN:STANDARD
TZOFFSETFROM:+0200
TZOFFSETTO:+0100
TZNAME:CET
DTSTART:20261025T010000
END:STANDARD
END:VTIMEZONE
BEGIN:VEVENT
DTSTART;VALUE=DATE:20250109
DTEND;VALUE=DATE:20250322
DTSTAMP:20260421T224306
CREATED:20250114T212637Z
LAST-MODIFIED:20250114T212846Z
UID:28273-1736380800-1742601599@ibizafunfamily.com
SUMMARY:XXVIII Concurso Puig de Missa de Poesía 2025
DESCRIPTION:Del 9 de Enero hasta el  21 de Marzo de 2025 a las 14:00 \nAbierto el plazo para la inscripción \nXXVIII Concurso Puig de Missa de Poesía 2025 \nSe establecen dos categorías de premios en función de la edad de los participantes y dos modalidades según la lengua en la que las obras sean presentadas al concurso\, que será cualquiera de las dos lenguas oficiales de la Comunidad Autónoma de les Illes Balears. \nLos poemas se deben enviar por correo electrónico a cultura@santaeularia.com. Se adjuntarán dos archivos en word o pdf\, uno con el poema o poemas (sin datos personales\, solo un seudónimo) y el otro con los datos personales (nombre\, DNI\, dirección\, fecha de nacimiento\, teléfono de contacto\, correo electrónico\, título del poema\, seudónimo y categoría en la que participa). Los colegios participantes pueden presentar todos los poemas juntos y adjuntar una lista del alumnado con nombre\, seudónimo\, título del poema y curso. \nCategoría de adultos a partir de 18 años \nCategoría juvenil de 12 a 17 años \nEn su conjunto\, el Concurso Puig de Missa de Poesía repartirá 2.160 euros en premios \nLa entrega de premios se hará el día 23 de abril de 2025 a las 19 horas en el Teatro España de Santa Eulària. \nPueden consultar las bases en www.santaeulariadesriu.com
URL:https://ibizafunfamily.com/agenda/28273/
LOCATION:Islas Baleares
ATTACH;FMTTYPE=image/jpeg:https://ibizafunfamily.com/wp-content/uploads/2025/01/concurso-puig-de-missa.jpg
ORGANIZER;CN="Ajuntament de Santa Eul%C3%A0ria des Riu":MAILTO:alcaldia@santaeularia.com
END:VEVENT
BEGIN:VEVENT
DTSTART;TZID=Europe/Madrid:20250308T183000
DTEND;TZID=Europe/Madrid:20250309T190000
DTSTAMP:20260421T224306
CREATED:20250226T230949Z
LAST-MODIFIED:20250226T230949Z
UID:28942-1741458600-1741546800@ibizafunfamily.com
SUMMARY:El legado del Rey León\, el musical
DESCRIPTION:El Sábado 8 y domingo de Marzo de 2025 a las 18:30 en el Recinto Ferial \nEl legado del Rey León\, el musical \nPrecio de las entradas\, infantil a 8€ y adultos a 12€ \nVenta de entradas en conselldeivissa.es \n 
URL:https://ibizafunfamily.com/agenda/el-legado-del-rey-leon-el-musical/
LOCATION:Recinto Ferial Ibiza\, Carretera San Antonio\, Eivissa\, Islas Baleares\, 07800\, España
ATTACH;FMTTYPE=image/jpeg:https://ibizafunfamily.com/wp-content/uploads/2025/02/wl-legado-del-rey.jpg
ORGANIZER;CN="Consell d' Eivissa":MAILTO:oamr@conselldeivissa.es
END:VEVENT
BEGIN:VEVENT
DTSTART;TZID=Europe/Madrid:20250309T110000
DTEND;TZID=Europe/Madrid:20250309T160000
DTSTAMP:20260421T224306
CREATED:20250305T224436Z
LAST-MODIFIED:20250305T224502Z
UID:28997-1741518000-1741536000@ibizafunfamily.com
SUMMARY:Mercadillo de 2º mano infantil
DESCRIPTION:El Domingo 9 de Marzo de 2025 de 11:00 a 16:00 en el Cole Sant Ciriac \nMercadillo de 2ª mano infantil \nEncontráis juguetes\, bebidas\, palomitas de 11:00 a 16:00 \n 
URL:https://ibizafunfamily.com/agenda/mercadillo-de-2o-mano-infantil/
LOCATION:CEIP Sant Carles\, Calle Sant Carles\, 0\, Sant Carles de Peralta\, Islas Baleares\, 07840\, España
ATTACH;FMTTYPE=image/jpeg:https://ibizafunfamily.com/wp-content/uploads/2025/03/mercadillo-infantil.jpg
END:VEVENT
BEGIN:VEVENT
DTSTART;TZID=Europe/Madrid:20250309T113000
DTEND;TZID=Europe/Madrid:20250309T130000
DTSTAMP:20260421T224306
CREATED:20250226T231214Z
LAST-MODIFIED:20250226T231334Z
UID:28947-1741519800-1741525200@ibizafunfamily.com
SUMMARY:La mejor carrera\, el mejor objetivo
DESCRIPTION:¡Únete a la Carrera de la Mujer en Ibiza! \nEl  9 de marzo de 2025 a las 11:30 de Ibiza a Sant Jordi \nDistancia 4\,3 km \nCorre\, camina\, disfruta y apoya a la Asociación de Cáncer de Mama Metastásico. \nPorque juntas somos más fuertes \nEste año formamos parte del Circuito Nacional \ninscripción: solo 5 €\nwelcome pack +camiseta\n¡Corre la voz y ven con amigas\, hermanas\, madres e hijas! \nwww.carreradelamujeribiza.com
URL:https://ibizafunfamily.com/agenda/28947/
LOCATION:Islas Baleares
ATTACH;FMTTYPE=image/jpeg:https://ibizafunfamily.com/wp-content/uploads/2025/02/mjer.jpg
ORGANIZER;CN="Ajuntament de Sant Josep de Sa Talaia":MAILTO:alcaldia@santjosep.org
END:VEVENT
BEGIN:VEVENT
DTSTART;TZID=Europe/Madrid:20250309T183000
DTEND;TZID=Europe/Madrid:20250309T193000
DTSTAMP:20260421T224306
CREATED:20250305T225544Z
LAST-MODIFIED:20250305T225544Z
UID:29003-1741545000-1741548600@ibizafunfamily.com
SUMMARY:El legado del León\, el musical
DESCRIPTION:El Domingo 9 de Marzo de  2025 en el Recinto ferial a las 18:30 \nEl legado del León\, el musical dirigido para niños y niñas y familias \n\n				\n					\n						Comprar entrada
URL:https://ibizafunfamily.com/agenda/el-legado-del-leon-el-musical/
LOCATION:Recinto Ferial Ibiza\, Carretera San Antonio\, Eivissa\, Islas Baleares\, 07800\, España
ATTACH;FMTTYPE=image/jpeg:https://ibizafunfamily.com/wp-content/uploads/2025/03/el-legado.jpg
ORGANIZER;CN="Consell d' Eivissa":MAILTO:oamr@conselldeivissa.es
END:VEVENT
END:VCALENDAR