BEGIN:VCALENDAR
VERSION:2.0
PRODID:-//Ibiza Fun Family - ECPv6.15.17.1//NONSGML v1.0//EN
CALSCALE:GREGORIAN
METHOD:PUBLISH
X-WR-CALNAME:Ibiza Fun Family
X-ORIGINAL-URL:https://ibizafunfamily.com
X-WR-CALDESC:Eventos para Ibiza Fun Family
REFRESH-INTERVAL;VALUE=DURATION:PT1H
X-Robots-Tag:noindex
X-PUBLISHED-TTL:PT1H
BEGIN:VTIMEZONE
TZID:Europe/Madrid
BEGIN:DAYLIGHT
TZOFFSETFROM:+0100
TZOFFSETTO:+0200
TZNAME:CEST
DTSTART:20230326T010000
END:DAYLIGHT
BEGIN:STANDARD
TZOFFSETFROM:+0200
TZOFFSETTO:+0100
TZNAME:CET
DTSTART:20231029T010000
END:STANDARD
BEGIN:DAYLIGHT
TZOFFSETFROM:+0100
TZOFFSETTO:+0200
TZNAME:CEST
DTSTART:20240331T010000
END:DAYLIGHT
BEGIN:STANDARD
TZOFFSETFROM:+0200
TZOFFSETTO:+0100
TZNAME:CET
DTSTART:20241027T010000
END:STANDARD
BEGIN:DAYLIGHT
TZOFFSETFROM:+0100
TZOFFSETTO:+0200
TZNAME:CEST
DTSTART:20250330T010000
END:DAYLIGHT
BEGIN:STANDARD
TZOFFSETFROM:+0200
TZOFFSETTO:+0100
TZNAME:CET
DTSTART:20251026T010000
END:STANDARD
BEGIN:DAYLIGHT
TZOFFSETFROM:+0100
TZOFFSETTO:+0200
TZNAME:CEST
DTSTART:20260329T010000
END:DAYLIGHT
BEGIN:STANDARD
TZOFFSETFROM:+0200
TZOFFSETTO:+0100
TZNAME:CET
DTSTART:20261025T010000
END:STANDARD
END:VTIMEZONE
BEGIN:VEVENT
DTSTART;TZID=Europe/Madrid:20241122T170000
DTEND;TZID=Europe/Madrid:20250112T233000
DTSTAMP:20260420T131346
CREATED:20241129T223114Z
LAST-MODIFIED:20241210T000431Z
UID:27283-1732294800-1736724600@ibizafunfamily.com
SUMMARY:Feria de Navidad de Ibiza
DESCRIPTION:La Feria de Navidad vuelve a Ibiza y la podremos disfrutar desde el día 22 de Noviembre de 2024 hasta el 12 de Enero de 2025 \nAtracciones para todas las edades\, casetas con comida y bebidas \nAdemás todos los Martes y Miércoles (menos los festivos)\, todas las atracciones están al 50% de descuento por «El día del Niño» \nDiversión asegurada para los más pequeños y no tan pequeños. \nAbierto todos los días con actividades especiales \nHorarios:\nDe Lunes de Jueves de 17 a 23h\nFines de semana de 17 a 00:00h\nDomingos y Festivos a partir de las 11h\nDesde las 8 de la mañana todos los días disfruta de unos deliciosos churros con chocolate. \nTODOS LOS JUEVES DE 17:00 A 19:00 JORNADA INCLUSIVA CON REDUCCIÓN DEL IMPACTO VISUAL Y SONORO
URL:https://ibizafunfamily.com/agenda/feria-de-navidad-de-ibiza/
LOCATION:Feria de Navidad\, aparcamiento de la zona de Can Misses\, entre la des Cubells y lacalle de Albarca.\, Eivissa\, Islas Baleares\, 07800\, España
CATEGORIES:Feria
ATTACH;FMTTYPE=image/jpeg:https://ibizafunfamily.com/wp-content/uploads/2024/11/WhatsApp-Image-2024-11-29-at-23.21.55.jpeg
END:VEVENT
BEGIN:VEVENT
DTSTART;TZID=Europe/Madrid:20241201T190000
DTEND;TZID=Europe/Madrid:20250106T190000
DTSTAMP:20260420T131346
CREATED:20241129T224543Z
LAST-MODIFIED:20241130T082912Z
UID:27319-1733079600-1736190000@ibizafunfamily.com
SUMMARY:Tunel de iluminación
DESCRIPTION:«Querid@s tod@s\, \nNos encantaría invitaros a compartir con nosotros el encendido del alumbrado navideño del Puerto de Eivissa el sábado 30 de noviembre a las 20h en el nuevo túnel de iluminación instalado en los andenes del puerto. \nA esa hora se realizará por primera vez un espectáculo de luz y sonido en dicho túnel\, que nos encantaría que los niñ@s en edad de disfrutar la magia de la Navidad acompañarán a los hijos de los trabajadores de la Autoridad Portuaria siendo los primeros en disfrutar dentro del tunel de dicho espectáculo. \nEste espectáculo se realizará todos los días entre el 31 de noviembre y 6 de enero a las 19\,20\,21 y 22h. \nDeseamos de corazon que la magia de la Navidad vuelva al Puerto de Eivissa y al Barrio de La Marina\, y contamos con vosotr@s para ello. \nOs desea lo mejor\, \nIgnacio Revilla\nDelegado APB»
URL:https://ibizafunfamily.com/agenda/tunel-de-iluminacion/
LOCATION:Puerto Ibiza\, Avinguda de Santa Eulària des Riu\, 17\, Eivissa\, Baleares\, 07800\, España
CATEGORIES:Espectáculo
ATTACH;FMTTYPE=image/jpeg:https://ibizafunfamily.com/wp-content/uploads/2024/11/Logo_APB.jpg
END:VEVENT
BEGIN:VEVENT
DTSTART;TZID=Europe/Madrid:20241204T170000
DTEND;TZID=Europe/Madrid:20250104T210000
DTSTAMP:20260420T131346
CREATED:20241204T010440Z
LAST-MODIFIED:20241209T235644Z
UID:27606-1733331600-1736024400@ibizafunfamily.com
SUMMARY:HO HO HO HO HO HO!!! Actividades infantiles\, conciertos\, karaoke\, comida\, bebida
DESCRIPTION:De Miércoles a Sábados en el Passeo Salamera de Santa Eulària del 5 de Diciembre al 4 de enero \nMiércoles a Viernes de 17:00 a 21:00  y los sábados de 10:00 a 13:00 y de 17:00 a 21:00 \nFeria de Navidad \nActividades infantiles\, conciertos\, karaoke\, comida\, bebida \nY muchas sorpresas más…HO HO HO HO HO HO!!!
URL:https://ibizafunfamily.com/agenda/ho-ho-ho-ho-ho-ho-actividades-infantiles-conciertos-karaoke-comida-bebida/
LOCATION:Passeig Salamera\, Passeig Salamera\, del Ayuntamiento hacia la playa\, Santa Eulària des Riu\, Islas Baleares\, 07840\, España
ATTACH;FMTTYPE=image/jpeg:https://ibizafunfamily.com/wp-content/uploads/2024/12/ohohoho-santa-eula.jpg
ORGANIZER;CN="Ajuntament de Santa Eul%C3%A0ria des Riu":MAILTO:alcaldia@santaeularia.com
END:VEVENT
BEGIN:VEVENT
DTSTART;VALUE=DATE:20241214
DTEND;VALUE=DATE:20250107
DTSTAMP:20260420T131346
CREATED:20241219T213730Z
LAST-MODIFIED:20241219T213730Z
UID:27959-1734134400-1736207999@ibizafunfamily.com
SUMMARY:Pista de Patinaje en Sant Josep
DESCRIPTION:Del 14 de Diciembre de 2024  al 6 de Enero de 2025 \nPista de Patinaje  al lado del Ayuntamiento \nSábado 14 de 18:00 a 21:00 \nDomingo 15 de 12:00 a 18:00 \nLunes 16 de 16:00 a 20:00 \nMartes 17 de 16:00 a 20:00 \nMiércoles 18 de 16:00 a 20:00 \nJueves 19 de 16:00 a 20:00 \nViernes 20 de 16:00 a 20:00 \nSábad0 21 de Diciembre al 6 de Enero de 12:00 a 18:00 \nMIERCOLES 25 CERRADO \n 
URL:https://ibizafunfamily.com/agenda/pista-de-patinaje-en-sant-josep-2/
LOCATION:Plaza de Sant Josep\, Plaza de la Iglesia\, Sant Josep de Sa Talaia\, Islas Baleares\, 07830\, España
ATTACH;FMTTYPE=image/jpeg:https://ibizafunfamily.com/wp-content/uploads/2024/12/patinaje-hielo-e1734643831971.jpg
ORGANIZER;CN="Ajuntament de Sant Josep de Sa Talaia":MAILTO:alcaldia@santjosep.org
END:VEVENT
BEGIN:VEVENT
DTSTART;TZID=Europe/Madrid:20241224T100000
DTEND;TZID=Europe/Madrid:20241224T140000
DTSTAMP:20260420T131346
CREATED:20241129T233835Z
LAST-MODIFIED:20241130T002036Z
UID:27374-1735034400-1735048800@ibizafunfamily.com
SUMMARY:NadalFest by Cachirulo
DESCRIPTION:El Martes 24 de Diciembre de 2024 de 10:00 a 14:00 en la carpa de Sant Jordi \n10.00 -14.00 h NadalFest by Cachirulo. ¡Vive la magia de la Navidad con NadalFest! Este festival ofrece espectáculos\, /aser combat\, va dirigido a toda la familia. Únete a nosotros para celebrarlo en comunidad y disfrutar de una mañana llena de diversión y espíritu navideño. \n\n				\n					\n						Ver programa completo
URL:https://ibizafunfamily.com/agenda/nadalfest-by-cachirulo/
LOCATION:Plaza de Sant Jordi\, Carrer Cementeri\, 1\, Sant Jordi de ses Salines\, islas baleares\, 07817\, España
ATTACH;FMTTYPE=image/jpeg:https://ibizafunfamily.com/wp-content/uploads/2024/11/WhatsApp-Image-2024-11-29-at-22.13.13.jpeg
ORGANIZER;CN="Ajuntament de Sant Josep de Sa Talaia":MAILTO:alcaldia@santjosep.org
END:VEVENT
BEGIN:VEVENT
DTSTART;TZID=Europe/Madrid:20241224T100000
DTEND;TZID=Europe/Madrid:20241224T190000
DTSTAMP:20260420T131346
CREATED:20241023T231729Z
LAST-MODIFIED:20241023T231824Z
UID:26275-1735034400-1735066800@ibizafunfamily.com
SUMMARY:Smart Christmas
DESCRIPTION:El Martes 24 de Diciembre de 2024 de 10:00 a 13:00 y de 16:00 a 19:00 en Smartkids \nVelas aromáticas \n\n				\n					\n						Whatsapp
URL:https://ibizafunfamily.com/agenda/smart-christmas-2/
LOCATION:SmartKids\, C/ Sant Antoni\, n38\, Puig d'en Valls\, Islas Baleares\, 07819\, España
ATTACH;FMTTYPE=image/jpeg:https://ibizafunfamily.com/wp-content/uploads/2024/10/navidad-smart-kids.jpg
ORGANIZER;CN="Smart Kids":MAILTO:maite_duenas@hotmail.com
END:VEVENT
BEGIN:VEVENT
DTSTART;TZID=Europe/Madrid:20241224T110000
DTEND;TZID=Europe/Madrid:20241224T150000
DTSTAMP:20260420T131346
CREATED:20241223T231935Z
LAST-MODIFIED:20241223T232018Z
UID:28015-1735038000-1735052400@ibizafunfamily.com
SUMMARY:Visita de Papa Noel\, Fireta de Nadal y Tren del Piruleto
DESCRIPTION:El Martes 24  de Diciembre de 2024 en Sant Antoni \n11 h\, 11.45 h\, 12.30 h\, 13.15 h El tren de Piruleto. Un paseo muy divertido en tren por las calles del pueblo de la mano de Piruleto y su pandilla. \n12:00 a 14:00 Visita especial de Papa Noel\, los elfos te esperan en la caseta \n12:00 a 14:00 Fireta de Nadal\, diversión para los más pequeños \n14:00 concierto en el mercado\, gran fiesta de Navidad con Dj Nells\, Kevn Lion & Friends \n\n				\n					\n						Ver programa completo
URL:https://ibizafunfamily.com/agenda/28015/
LOCATION:Passeig de Ses Fonts\, Passeig de ses fonts\, Sant Antoni de Portmany\, Islas Baleares\, 07820\, España
ATTACH;FMTTYPE=image/jpeg:https://ibizafunfamily.com/wp-content/uploads/2024/11/sant-antoni-navidad.jpg
END:VEVENT
BEGIN:VEVENT
DTSTART;TZID=Europe/Madrid:20241224T110000
DTEND;TZID=Europe/Madrid:20241224T160000
DTSTAMP:20260420T131346
CREATED:20241223T223242Z
LAST-MODIFIED:20241223T223242Z
UID:28004-1735038000-1735056000@ibizafunfamily.com
SUMMARY:Castillos hinchables\, desfile de Papa Noel y entrega de cartas
DESCRIPTION:El Martes 24 de Diciembre de 2024 en Eivissa \n11:00  a14:00 Castillos hinchables en el Paseó de Vara de Rey \n11:00 Desfile de Papa Noel y su mágica comitiva por las calles de Ibiza\,  Puerto de Ibiza\, Bartolomeu Roselló\, Ignasi Wallis y Passeig de Vara de Rey \n12:00 a 14:000 Entrega de cartas a Papa Noel en la caseta de Vara de Rey \n12:00 a 16:00 en la Plaza del Parque\, Vermut 45 RPM\, ambientación musical con Javi Box y amigos \nEn esta web sólo mostramos eventos para familias y niños\, puedes consultar el programa completo de fiestas en el siguiente enlace\n\n				\n					\n						Ver programa completo de fiestas
URL:https://ibizafunfamily.com/agenda/castillos-hinchables-desfile-de-papa-noel-y-entrega-de-cartas/
LOCATION:Passeig de S’Alamera\, Vara de Rey\, Ibiza\, Passeig de s'Alamera\, Vara de Rey\, Eivissa\, Islas Baleares\, 07800\, España
ATTACH;FMTTYPE=image/jpeg:https://ibizafunfamily.com/wp-content/uploads/2024/11/WhatsApp-Image-2024-11-28-at-12.02.21.jpeg
END:VEVENT
BEGIN:VEVENT
DTSTART;TZID=Europe/Madrid:20241224T110000
DTEND;TZID=Europe/Madrid:20241224T183000
DTSTAMP:20260420T131346
CREATED:20241223T220456Z
LAST-MODIFIED:20241223T220456Z
UID:27993-1735038000-1735065000@ibizafunfamily.com
SUMMARY:Visita de Papa Noel y la magia de la Navidad
DESCRIPTION:El Martes 24 de Diciembre de 2024 en Santa Eulària \n11:00 Visita de Papa Noel con su carroza por las calles de Santa Eulària \n12:00″La magia de la Navidad «con el Mago Albert y visita de Papa Noel y recogida de cartas. Entrada gratuita. Teatro España \n16:30 Visita de Papa Noel con su carroza por las calles de Puig d’en Valls \n17:30 «La magia de la Navidad «con el Mago Albert y visita de Papa Noel y recogida de cartas. Entrada gratuita. En el Centro Cultural de Puig d’en Valls \n\n				\n					\n						Ver programa completo
URL:https://ibizafunfamily.com/agenda/visita-de-papa-noel-y-la-magia-de-la-navidad/
LOCATION:Islas Baleares
ATTACH;FMTTYPE=image/jpeg:https://ibizafunfamily.com/wp-content/uploads/2024/11/santa-eularia.jpg
ORGANIZER;CN="Ajuntament de Santa Eul%C3%A0ria des Riu":MAILTO:alcaldia@santaeularia.com
END:VEVENT
BEGIN:VEVENT
DTSTART;TZID=Europe/Madrid:20241224T123000
DTEND;TZID=Europe/Madrid:20241224T133000
DTSTAMP:20260420T131346
CREATED:20241207T213002Z
LAST-MODIFIED:20241207T213002Z
UID:27622-1735043400-1735047000@ibizafunfamily.com
SUMMARY:Música de los Aútomatas
DESCRIPTION:El 24 de Diciembre de 2024 a las 12:30 en la Asociación de San Pablo \nMúsica de los Autómatas\, animación con música rock y villancicos
URL:https://ibizafunfamily.com/agenda/musica-de-los-automatas/
LOCATION:AAVV de San Pablo\, Carrer des Jondal\, 26\,\, Eivissa\, Islas Baleares\, 07800\, España
ATTACH;FMTTYPE=image/jpeg:https://ibizafunfamily.com/wp-content/uploads/2024/12/SAN-PABLO.jpg
END:VEVENT
BEGIN:VEVENT
DTSTART;TZID=Europe/Madrid:20241224T170000
DTEND;TZID=Europe/Madrid:20241224T180000
DTSTAMP:20260420T131346
CREATED:20240930T211047Z
LAST-MODIFIED:20240930T211047Z
UID:25672-1735059600-1735063200@ibizafunfamily.com
SUMMARY:Club de lectura infantil
DESCRIPTION:Todos los martes de 17:00 a 18:00 de Octubre a Mayo de 2024 en la Biblioteca de Santa Eulària \nT’agraderia llegeir…Parlar de llibres?? \nClub de lectura infantil dirigido a niños y niñas de 8 a 11 años \nInscripciones en el teléfono 971338277 o a biblioteca@santaeularia.com \n\n				\n					\n						Correo electrónico
URL:https://ibizafunfamily.com/agenda/club-de-lectura-infantil-13/
LOCATION:Biblioteca Municipal de Santa Eulalia\, Carrer Joan Tur Tur\, n9\, Santa Eulària des Riu\, Islas Baleares\, 07840\, España
ATTACH;FMTTYPE=image/jpeg:https://ibizafunfamily.com/wp-content/uploads/2024/09/club-lectura.jpg
ORGANIZER;CN="Ajuntament de Santa Eul%C3%A0ria des Riu":MAILTO:alcaldia@santaeularia.com
END:VEVENT
BEGIN:VEVENT
DTSTART;TZID=Europe/Madrid:20241224T180000
DTEND;TZID=Europe/Madrid:20241224T190000
DTSTAMP:20260420T131346
CREATED:20241003T204145Z
LAST-MODIFIED:20241003T204145Z
UID:25820-1735063200-1735066800@ibizafunfamily.com
SUMMARY:Club de lectura juvenil
DESCRIPTION:Todos los martes de 18:00 a 19:00 de Octubre a Mayo de 2024 en la Biblioteca de Santa Eulària \nT’agraderia llegeir…Parlar de llibres?? \nClub de lecturajuvenil dirigido a niños y niñas de 12 a 15 años \nInscripciones en el teléfono 971338277 o a biblioteca@santaeularia.com \n\n				\n					\n						Correo electrónico
URL:https://ibizafunfamily.com/agenda/club-de-lectura-juvenil-12/
LOCATION:Biblioteca Municipal de Santa Eulalia\, Carrer Joan Tur Tur\, n9\, Santa Eulària des Riu\, Islas Baleares\, 07840\, España
ATTACH;FMTTYPE=image/jpeg:https://ibizafunfamily.com/wp-content/uploads/2024/10/juvenil.jpg
ORGANIZER;CN="Ajuntament de Santa Eul%C3%A0ria des Riu":MAILTO:alcaldia@santaeularia.com
END:VEVENT
END:VCALENDAR