BEGIN:VCALENDAR
VERSION:2.0
PRODID:-//Ibiza Fun Family - ECPv6.15.17.1//NONSGML v1.0//EN
CALSCALE:GREGORIAN
METHOD:PUBLISH
X-WR-CALNAME:Ibiza Fun Family
X-ORIGINAL-URL:https://ibizafunfamily.com
X-WR-CALDESC:Eventos para Ibiza Fun Family
REFRESH-INTERVAL;VALUE=DURATION:PT1H
X-Robots-Tag:noindex
X-PUBLISHED-TTL:PT1H
BEGIN:VTIMEZONE
TZID:Europe/Madrid
BEGIN:DAYLIGHT
TZOFFSETFROM:+0100
TZOFFSETTO:+0200
TZNAME:CEST
DTSTART:20230326T010000
END:DAYLIGHT
BEGIN:STANDARD
TZOFFSETFROM:+0200
TZOFFSETTO:+0100
TZNAME:CET
DTSTART:20231029T010000
END:STANDARD
BEGIN:DAYLIGHT
TZOFFSETFROM:+0100
TZOFFSETTO:+0200
TZNAME:CEST
DTSTART:20240331T010000
END:DAYLIGHT
BEGIN:STANDARD
TZOFFSETFROM:+0200
TZOFFSETTO:+0100
TZNAME:CET
DTSTART:20241027T010000
END:STANDARD
BEGIN:DAYLIGHT
TZOFFSETFROM:+0100
TZOFFSETTO:+0200
TZNAME:CEST
DTSTART:20250330T010000
END:DAYLIGHT
BEGIN:STANDARD
TZOFFSETFROM:+0200
TZOFFSETTO:+0100
TZNAME:CET
DTSTART:20251026T010000
END:STANDARD
END:VTIMEZONE
BEGIN:VEVENT
DTSTART;TZID=Europe/Madrid:20240906T183000
DTEND;TZID=Europe/Madrid:20240906T193000
DTSTAMP:20260419T154551
CREATED:20240830T154221Z
LAST-MODIFIED:20240830T154221Z
UID:24824-1725647400-1725651000@ibizafunfamily.com
SUMMARY:Maratón de slime
DESCRIPTION:El Viernes 6 de Septiembre de 2024 de 18:30 a 19:30 en Espai Momo Ibiza \nMaratón de slime. \nslime flyffy \n1 Taller 10€ / 2 talleres 18€ / 3 talleres 25€ a partir de 7 años \nReserva e información en C/ Pere Frances 32\, 07800 Eivissa \nTlf/ wp 657210726 \n\n				\n					\n						Whatsapp
URL:https://ibizafunfamily.com/agenda/maraton-de-slime-2/
LOCATION:Espai Momo Ibiza\, C/ Pere Francés n32\, Eivissa\, Islas Baleares\, 07800\, España
ATTACH;FMTTYPE=image/jpeg:https://ibizafunfamily.com/wp-content/uploads/2024/08/maraton-de-slime.jpg
END:VEVENT
BEGIN:VEVENT
DTSTART;TZID=Europe/Madrid:20240906T190000
DTEND;TZID=Europe/Madrid:20240906T220000
DTSTAMP:20260419T154551
CREATED:20240805T161658Z
LAST-MODIFIED:20240830T141829Z
UID:24547-1725649200-1725660000@ibizafunfamily.com
SUMMARY:Joves al carrer
DESCRIPTION:5a Edición de Joves al Carrer \nEscape room\, yincana\, laser combat\, torneos\, surfskate\, acrobacias\, talleres artísticos\, food trccks y mucho más \nKids Corner con talleres\, juegos gigantes inflables y maquillaje infantil con Sueños de Ibiza \n6 de Septiembre Santa Gertrudis en la Plaza \n14 de Septiembre  Puig d’en Valls ( cerca del Punt Jove) \n21 de Septiembre Santa Eulària ( Passeig Solidari) \n28 de Septiembre Sant Carles en la plaza \n5 de Octubre Jesús \nActividades gratuitas para jovenes de 11 a 18 años \nPara más información a instagram @joventutsantaeularia o en facebook
URL:https://ibizafunfamily.com/agenda/joves-al-carrer-6/
LOCATION:Plaza del Parque Santa Gertrudis\, Carrer Venda de sa Picassa\, 2\, Santa Gertrudis de Fruitera\, islas baleares\, 07814\, España
ATTACH;FMTTYPE=image/jpeg:https://ibizafunfamily.com/wp-content/uploads/2024/08/joves-al-carrer.jpg
ORGANIZER;CN="Ajuntament de Santa Eul%C3%A0ria des Riu":MAILTO:alcaldia@santaeularia.com
END:VEVENT
BEGIN:VEVENT
DTSTART;TZID=Europe/Madrid:20240906T190000
DTEND;TZID=Europe/Madrid:20240906T233000
DTSTAMP:20260419T154551
CREATED:20240830T221308Z
LAST-MODIFIED:20240830T221308Z
UID:24841-1725649200-1725665400@ibizafunfamily.com
SUMMARY:Miss Cas Serres\, y diferentes actuaciones
DESCRIPTION:Fiestas de Cas Serres \nEl Viernes 6 de Diciembre de 2024 en Cas Serres \n19:00 Elección de Miss Cas Serres \n21:00 Actuación de Verónica San Juan \n22:30 Actuación de Sebas de la Calle
URL:https://ibizafunfamily.com/agenda/miss-cas-serres-y-diferentes-actuaciones/
LOCATION:AAVV Cas Serres\, C/ Felip Curtois i Valls s/n\, Eivissa\, Islas Baleares\, 07800\, España
ATTACH;FMTTYPE=image/jpeg:https://ibizafunfamily.com/wp-content/uploads/2024/08/cas-serres.jpg
END:VEVENT
BEGIN:VEVENT
DTSTART;TZID=Europe/Madrid:20240906T210000
DTEND;TZID=Europe/Madrid:20240906T210000
DTSTAMP:20260419T154551
CREATED:20240611T084504Z
LAST-MODIFIED:20240611T084504Z
UID:23676-1725656400-1725656400@ibizafunfamily.com
SUMMARY:Ballades d'estiu
DESCRIPTION:El Viernes 6 de Septiembre de 2024 a las 21:00 en la Plaza Es Martell/ port d’Eivissa \nLa Colla de Sa Bodega hará una ballada d’estiu
URL:https://ibizafunfamily.com/agenda/ballades-destiu-6/
LOCATION:Plaça des Martell\, Port d'Eivissa\, Eivissa\, Islas Baleares\, 07800\, España
CATEGORIES:Baile
ATTACH;FMTTYPE=image/jpeg:https://ibizafunfamily.com/wp-content/uploads/2024/06/ballades-destiu.jpg
ORGANIZER;CN="Colla Sa Bodega":MAILTO:collasabodega.eivissa@yahoo.com
END:VEVENT
BEGIN:VEVENT
DTSTART;TZID=Europe/Madrid:20240906T210000
DTEND;TZID=Europe/Madrid:20240906T210000
DTSTAMP:20260419T154551
CREATED:20240813T152604Z
LAST-MODIFIED:20240813T152604Z
UID:24656-1725656400-1725656400@ibizafunfamily.com
SUMMARY:Fiesta de la Sandia
DESCRIPTION:El Viernes 6 de Septiembre de 2024 a las 21:00 en el Jardín del Bar Can Berri \nFiesta de la sandia con las actuaciones de Rosemay y Trio  Y Dr. Trapero \n\n				\n					\n						Ver programa completo
URL:https://ibizafunfamily.com/agenda/fiesta-de-la-sandia/
LOCATION:Bar Can Berri\, Placa Major 3\, Sant Josep de sa Talaia\, Islas Baleares\, 07839\, España
ATTACH;FMTTYPE=image/jpeg:https://ibizafunfamily.com/wp-content/uploads/2024/08/sant-agusti.jpg
ORGANIZER;CN="AAVV de Sant Agust%C3%AD":MAILTO:agustiners@hotmail.com
END:VEVENT
BEGIN:VEVENT
DTSTART;TZID=Europe/Madrid:20240906T210000
DTEND;TZID=Europe/Madrid:20240906T210000
DTSTAMP:20260419T154551
CREATED:20240815T093335Z
LAST-MODIFIED:20240815T093335Z
UID:24684-1725656400-1725656400@ibizafunfamily.com
SUMMARY:Visita Guiada por Bibo park
DESCRIPTION:El viernes 6 de Septiembre de 2024 a las 21:00 en Bibo Park \nAstro Magic Lights\, visita guiada gratuita\, donde podrás disfrutar de un espectáculo con la colaboración de Orión Madrid\, que conjuga mágicamente las luces y la naturaleza \nPlazas limitadas  a partir del 7 de Agosto en cultura@santantoni.net o en el parque Botánico Biotecnológico \n\n				\n					\n						Correo electrónico\n					\n				\n			  \n\n				\n					\n						Ver programa completo
URL:https://ibizafunfamily.com/agenda/visita-guiada-por-bibo-park-3/
LOCATION:Ibiza Botánico Biotecnológico\, Ctra. Eivissa-Sant Antoni\, Km 7.5\,\, Sant Antoni de Portmany\, islas baleares\, 07816\, España
ATTACH;FMTTYPE=image/jpeg:https://ibizafunfamily.com/wp-content/uploads/2024/08/SAnt-bartomeu.jpg
END:VEVENT
END:VCALENDAR