BEGIN:VCALENDAR
VERSION:2.0
PRODID:-//Ibiza Fun Family - ECPv6.15.17.1//NONSGML v1.0//EN
CALSCALE:GREGORIAN
METHOD:PUBLISH
X-WR-CALNAME:Ibiza Fun Family
X-ORIGINAL-URL:https://ibizafunfamily.com
X-WR-CALDESC:Eventos para Ibiza Fun Family
REFRESH-INTERVAL;VALUE=DURATION:PT1H
X-Robots-Tag:noindex
X-PUBLISHED-TTL:PT1H
BEGIN:VTIMEZONE
TZID:Europe/Madrid
BEGIN:DAYLIGHT
TZOFFSETFROM:+0100
TZOFFSETTO:+0200
TZNAME:CEST
DTSTART:20230326T010000
END:DAYLIGHT
BEGIN:STANDARD
TZOFFSETFROM:+0200
TZOFFSETTO:+0100
TZNAME:CET
DTSTART:20231029T010000
END:STANDARD
BEGIN:DAYLIGHT
TZOFFSETFROM:+0100
TZOFFSETTO:+0200
TZNAME:CEST
DTSTART:20240331T010000
END:DAYLIGHT
BEGIN:STANDARD
TZOFFSETFROM:+0200
TZOFFSETTO:+0100
TZNAME:CET
DTSTART:20241027T010000
END:STANDARD
BEGIN:DAYLIGHT
TZOFFSETFROM:+0100
TZOFFSETTO:+0200
TZNAME:CEST
DTSTART:20250330T010000
END:DAYLIGHT
BEGIN:STANDARD
TZOFFSETFROM:+0200
TZOFFSETTO:+0100
TZNAME:CET
DTSTART:20251026T010000
END:STANDARD
END:VTIMEZONE
BEGIN:VEVENT
DTSTART;TZID=Europe/Madrid:20240511T100000
DTEND;TZID=Europe/Madrid:20240511T140000
DTSTAMP:20260419T214320
CREATED:20240506T173703Z
LAST-MODIFIED:20240506T175552Z
UID:23008-1715421600-1715436000@ibizafunfamily.com
SUMMARY:Taller de tarro de la galaxia
DESCRIPTION:El Sábado 11 de Mayo de 2024 de 10:00 a 14:00 en Smartkids \nSmart Saturday Mornings- Taller de tarro de la galaxia \nPrecio del taller 25€ \n\n				\n					\n						Whatsapp
URL:https://ibizafunfamily.com/agenda/taller-de-tarro-de-la-galaxia/
LOCATION:SmartKids\, C/ Sant Antoni\, n38\, Puig d'en Valls\, Islas Baleares\, 07819\, España
CATEGORIES:Talleres
ATTACH;FMTTYPE=image/jpeg:https://ibizafunfamily.com/wp-content/uploads/2024/05/smart-saturday.jpg
ORGANIZER;CN="Smart Kids":MAILTO:maite_duenas@hotmail.com
END:VEVENT
BEGIN:VEVENT
DTSTART;TZID=Europe/Madrid:20240511T100000
DTEND;TZID=Europe/Madrid:20240511T234500
DTSTAMP:20260419T214320
CREATED:20240507T111203Z
LAST-MODIFIED:20240510T091300Z
UID:23050-1715421600-1715471100@ibizafunfamily.com
SUMMARY:XXIV Feria Medieval 2024
DESCRIPTION:XXIV Feria Medieval 2024 \nEl sábado 11 de Mayo de 2024 de 10:00 a 23:45 \n10:00 h. Espectáculo musical de marionetas gigantes. Ibiza\, una isla de leyendas. Idam Kids Ibiza. plaça del Parc. Zona 2. \n11:00 h a 14:00 h. Grupos de animación\, danza\, teatro y música en vivo itinerantes por nuestras calles. Ven a descubrirlos y envuélvete de la cultura de Eivissa medieval. \n11:00 h a 13:00 h. Talleres infantiles medievales a cargo de Sueños de Ibiza. Plaça del Parc. Zona 2. \n11:00 h. Cambio de guardia medieval. Teatre Pereira. Zona 3. \n11:00 h. Encantades. Agrupación de cámara. Repertorio musical de canciones medievales ambientadas en la época mozárabe. Catedral. Zona 9. \n11:00 h. Charlas explicativas. Cabalburr. Campament. Parc Reina Sofia. Zona 10. \n11:30 h. Espectáculo musical de marionetas gigantes. Ibiza\, una isla de leyendas. Idam Kids Ibiza. Plaça del Parc. Zona 2. \n11:45 h. Baile de banderas y pasacalles. Sbandieratori Città di Foligno. Des de la Catedral a la plaça de la Constitució. Zona 9 a Zona 3. \n12:00 h. Cambio de guardia medieval. Teatre Pereira. Zona 3. \n12:00 h. Justas medievales a caballo. Hípica Celta. Parc Reina Sofia. Zona 10. \n12:00 h. Dúo formado por Adolfo Villalonga y Lucía Herranz. Canciones andalusíes renacentistas y teclado español. Iglesia de Sant Domingo. Zona 6. \n12.00 h. Teatro. El Dragón glotón. Artes Pavón. Claustre de l’Ajuntament. Zona 6. \n12:15 h. Demostración de combates. Cabalburr. Campament. Parc Reina Sofia. Zona 10. \n12:15 h. Exhibición de cetreria. Plaça de la Catedral. Zona 9. \n13:00 h. Cambio de guardia medieval. Teatre Pereira. Zona 3. \n13.00 h. El sueño de volar. Maya Olín. Titelles. Títeres. Plaça del Parc. Zona 2. \n13:45 h. Justas medievales a caballo. Hípica Celta. Parc Reina Sofia. Zona 10. \n13:45 h. Exhibición de cetreria. Plaça de la Catedral. Zona 9. \n13:45 h. Baile de banderas y pasacalles. Sbandieratori Città di Foligno. Des de la Catedral a la plaça de la Constitució. Zona 9 a Zona 3. \n14.00 h.Disparos de cañones. Cabalburr. Campament. Parc Reina Sofia. Zona 10. \n17:30 h a 20:30 h. Talleres infantiles medievales a cargo de Sueños de Ibiza. Plaça del Parc. Zona 2. \n17:30 h. La bailarina y el dragón. Maya Olín. Títeres. Plaça del Parc. Zona 2. \n17.30 h. Cavallets de l’escola de Música i Dansa de Mallorca. Des de la Catedral a la plaça de la Constitució. Zona 9 a Zona 3. \n18:00 h a 23:45 h. Grupos de animación\, danza\, teatro y música en vivo itinerantes por nuestras calles. Ven a descubrirlos y envuélvete de la cultura de Eivissa medieval. \n18:00 h. Justas medievales a caballo. Hípica Celta. Parc Reina Sofia. Zona 10. \n18:00 h. Esgrima participativo. Cabalburr. Campament. Parc Reina Sofia. Zona 10. \n18.15 h. Concierto. Gálata. Passeig Vara de Rey. Zona 1. \n18.30 h. Teatro. La peste. Humor i ironia per a tota la família. Oasi teatre. Claustre de l’Ajuntament. Zona 6. \n18:30 h. Exhibición de cetreria. Plaça de la Catedral. Zona 9. \n18:30 h. Baile de banderas y pasacalles. Sbandieratori Città di Foligno. Des de la Catedral a la plaça de la Constitució. Zona 9 a Zona 3. \n19.00 h. Cuentacuentos. Míriam Navarro. Plaça del Parc. Zona 2. \n19.00 h. Colla de Vila. Ball pagès. Passeig Vara de Rey. Zona 1. \n19:00 h. Charlas explicativas. Cabalburr. Campament. Parc Reina Sofia. Zona 10. \n19:45 h. Justas medievales a caballo. Hípica Celta. Parc Reina Sofia. Zona 10. \n19:45 h. Demostración de combates. Cabalburr. Campament. Parc Reina Sofia. Zona 10. \n20:00 h. Pregón medieval y acompañamiento musical en el Teatre Pereira. Zona 3. \n20.00 h.Cuentacuentos. Míriam Navarro. Plaça del Parc. Zona 2. \n20:00 h. Exhibición de cetreria. Plaça de la Catedral. Zona 9. \n20:30 h. ¿Cómo se vestía un caballero? Cabalburr. Campament. Parc Reina Sofia. Zona 10. \n20.30 h. Petit Cor. Música nostra. Claustre de l’Ajuntament. Zona 6. \n20:30 h. Baile de banderas y pasacalles. Sbandieratori Città di Foligno. Des de la Catedral a la plaça de la Constitució. Zona 9 a Zona 3. \n21.15 h. Disparos de cañones. Cabalburr. Campament. Parc Reina Sofia. Zona 10. \n22:00 h. Demostración de combates. Cabalburr. Campament. Parc Reina Sofia. Zona 10. \n22.15 h. Concierto. Paula Yunnis i Kabayla. Baluard de Santa Llúcia. Zona 5. \n22:30 h. Espectáculo de fuego. Diosas Pole Dance. Baluard de Santa Llúcia. Zona 5. \n23.00 h.Concierto. Treefolk. Baluard de Santa Llúcia. Zona 5. \n23.45 h.Concierto. Upsala. Baluard de Santa Llúcia. Zona 5. \n\n				\n					\n						Ver programa completo \n					\n				\n			  \n  \n\n				\n					\n						Programa Talleres infantiles
URL:https://ibizafunfamily.com/agenda/xxiv-feria-medieval-2024/
LOCATION:Islas Baleares
CATEGORIES:Feria
ATTACH;FMTTYPE=image/jpeg:https://ibizafunfamily.com/wp-content/uploads/2024/05/medieval-2024-feria.jpg
END:VEVENT
BEGIN:VEVENT
DTSTART;TZID=Europe/Madrid:20240511T113000
DTEND;TZID=Europe/Madrid:20240511T220000
DTSTAMP:20260419T214320
CREATED:20240508T150839Z
LAST-MODIFIED:20240508T150839Z
UID:23065-1715427000-1715464800@ibizafunfamily.com
SUMMARY:Feria del pescado y del marisco
DESCRIPTION:El Sábado 11 de Mayo a partir de las  11:30 en el Puerto de San Antonio \nFeria del pescado y del marisco \nDegustación de tapas\, arroz popular de pescado y marisco \nJornadas gastronomicas \nShowcooking \nActividades musicales \nMercado de artesania \nBall pagès
URL:https://ibizafunfamily.com/agenda/feria-del-pescado-y-del-marisco/
LOCATION:Puerto de San Antonio\, Port de Sant Antoni\, Sant Antoni de Portmany\, Islas Baleares\, 07820\, España
ATTACH;FMTTYPE=image/jpeg:https://ibizafunfamily.com/wp-content/uploads/2024/05/peix-i-mariscs.jpg
END:VEVENT
BEGIN:VEVENT
DTSTART;TZID=Europe/Madrid:20240511T180000
DTEND;TZID=Europe/Madrid:20240511T203000
DTSTAMP:20260419T214320
CREATED:20240501T130956Z
LAST-MODIFIED:20240501T132604Z
UID:22837-1715450400-1715459400@ibizafunfamily.com
SUMMARY:La Reina de Hielo
DESCRIPTION:El día 11 y el 12 de Mayo de 2024 a las 18:00 a 20:30 en el Recinto Ferial de Ibiza \nLa Reina de hielo\, un espectáculo infantil y familiar \nLa obra “permitirá disfrutar de las aventuras de Elsa\, Ana y sus fieles amigos Olaf y Kristoff” \nRecomendado para niños de a partir de 2 años \nDuración 90 minutos \nUn precio de 8€ para niños y niñas y para adultos de 12 € \nA partir del Jueves 2 de Mayo se podrán comprar las entradas \n\n				\n					\n						Comprar entradas
URL:https://ibizafunfamily.com/agenda/la-reina-de-hielo/
LOCATION:Recinto Ferial Ibiza\, Carretera San Antonio\, Eivissa\, Islas Baleares\, 07800\, España
CATEGORIES:Espectáculo
ATTACH;FMTTYPE=image/jpeg:https://ibizafunfamily.com/wp-content/uploads/2024/05/reino-de-hielo.jpg
ORGANIZER;CN="Consell d' Eivissa":MAILTO:oamr@conselldeivissa.es
END:VEVENT
END:VCALENDAR