BEGIN:VCALENDAR
VERSION:2.0
PRODID:-//Ibiza Fun Family - ECPv6.15.17.1//NONSGML v1.0//EN
CALSCALE:GREGORIAN
METHOD:PUBLISH
X-ORIGINAL-URL:https://ibizafunfamily.com
X-WR-CALDESC:Eventos para Ibiza Fun Family
REFRESH-INTERVAL;VALUE=DURATION:PT1H
X-Robots-Tag:noindex
X-PUBLISHED-TTL:PT1H
BEGIN:VTIMEZONE
TZID:Europe/Madrid
BEGIN:DAYLIGHT
TZOFFSETFROM:+0100
TZOFFSETTO:+0200
TZNAME:CEST
DTSTART:20230326T010000
END:DAYLIGHT
BEGIN:STANDARD
TZOFFSETFROM:+0200
TZOFFSETTO:+0100
TZNAME:CET
DTSTART:20231029T010000
END:STANDARD
BEGIN:DAYLIGHT
TZOFFSETFROM:+0100
TZOFFSETTO:+0200
TZNAME:CEST
DTSTART:20240331T010000
END:DAYLIGHT
BEGIN:STANDARD
TZOFFSETFROM:+0200
TZOFFSETTO:+0100
TZNAME:CET
DTSTART:20241027T010000
END:STANDARD
BEGIN:DAYLIGHT
TZOFFSETFROM:+0100
TZOFFSETTO:+0200
TZNAME:CEST
DTSTART:20250330T010000
END:DAYLIGHT
BEGIN:STANDARD
TZOFFSETFROM:+0200
TZOFFSETTO:+0100
TZNAME:CET
DTSTART:20251026T010000
END:STANDARD
END:VTIMEZONE
BEGIN:VEVENT
DTSTART;TZID=Europe/Madrid:20240108T160000
DTEND;TZID=Europe/Madrid:20240131T183000
DTSTAMP:20260422T210953
CREATED:20240111T223324Z
LAST-MODIFIED:20240111T223546Z
UID:20056-1704729600-1706725800@ibizafunfamily.com
SUMMARY:Puertas abiertas Basquet Can CAntó
DESCRIPTION:Enero Puertas abiertas Can Cantó \nPequebasket (2016 a 2019) martes y jueves de 17 a 18.15h colegios portal nou y colegio sa graduada. \nViernes de 16.15 a 17.15h ceip can cantó Niñ@s de 2012 y 2013 lunes\, miércoles y viernes de 17 a 18.30h ceip portal nou. \nNiñ@s 2014 y 2015 martes\, jueves y viernes de 17 a 18.30h ceip sa graduada  y lunes\, miércoles y viernes de 17 a 18.30h ceip can cantó. \nMás información al 630111433 \n\n				\n					\n						Whatsapp
URL:https://ibizafunfamily.com/agenda/puertas-abiertas-basquet-can-canto/
LOCATION:Islas Baleares
CATEGORIES:Deportives
ATTACH;FMTTYPE=image/jpeg:https://ibizafunfamily.com/wp-content/uploads/2024/01/puertas-abiertas.jpg
ORGANIZER;CN="Club esportiu Can Cant%C3%B3":MAILTO:comunicacion.cancanto@gmail.com
END:VEVENT
BEGIN:VEVENT
DTSTART;TZID=Europe/Madrid:20240126T160000
DTEND;TZID=Europe/Madrid:20240126T190000
DTSTAMP:20260422T210953
CREATED:20240108T230631Z
LAST-MODIFIED:20240108T230631Z
UID:19988-1706284800-1706295600@ibizafunfamily.com
SUMMARY:Patios abierto en el Ceip Urgell
DESCRIPTION:Patios abiertos Enero en Sant Josep \nTodos los días desde las 16:00 a las 19:00 actividades para disfrutar y divertirse\, recordar que siempre se pueden hacer actividades libres y además podéis traer vuestras ruedas o material para jugar en el patio \nCeip Urgell \nViernes 12 hamma beads \nViernes 19 taller de cocina\, pizzas \nViernes 26 taller de experimentación \, nieve magica
URL:https://ibizafunfamily.com/agenda/patios-abierto-en-el-ceip-urgell-3/
LOCATION:CEIP Urgell\, Avgda del Diputat Josep Ribas s/n\, Sant Josep de Sa Talaia\, Islas Baleares\, 07830\, España
CATEGORIES:Talleres
ATTACH;FMTTYPE=image/jpeg:https://ibizafunfamily.com/wp-content/uploads/2024/01/patios-abiertos.jpg
ORGANIZER;CN="Ajuntament de Sant Josep de Sa Talaia":MAILTO:alcaldia@santjosep.org
END:VEVENT
BEGIN:VEVENT
DTSTART;TZID=Europe/Madrid:20240126T180000
DTEND;TZID=Europe/Madrid:20240126T180000
DTSTAMP:20260422T210953
CREATED:20240119T221916Z
LAST-MODIFIED:20240119T221916Z
UID:20229-1706292000-1706292000@ibizafunfamily.com
SUMMARY:Cuentacuento Quí Sóc jo?
DESCRIPTION:El Viernes 26 de Enero de 2024  a las 18:00 en el Casal de Igualdad de Ibiza \nCuentacuentos \nQui sóc jo? Dàmaris Gelabert y Sebastià Serra \nEl ultimo viernes de cada mes \nLas fechas puedes cambiar pero se avisa con tiempo \nEsta dirigido para peques de 2 a 12 años y sus familias\, después habrá un pequeño taller. \nParticipación gratuita\, inscripciones a igualtat@eivissa.es o al teléfono 971397600 extensión 24261 \n\n				\n					\n						Correo electrónico\n					\n				\n			  \n 
URL:https://ibizafunfamily.com/agenda/cuentacuento-qui-soc-jo/
LOCATION:Casal d’Igualtat\, Avinguda de la Pau\, 3\, Eivissa\, islas baleares\, 07800\, España
CATEGORIES:Cuenta cuentos
ATTACH;FMTTYPE=image/jpeg:https://ibizafunfamily.com/wp-content/uploads/2024/01/cuenta-cuentos.jpg
END:VEVENT
BEGIN:VEVENT
DTSTART;TZID=Europe/Madrid:20240126T183000
DTEND;TZID=Europe/Madrid:20240126T183000
DTSTAMP:20260422T210953
CREATED:20240124T104111Z
LAST-MODIFIED:20240124T104111Z
UID:20343-1706293800-1706293800@ibizafunfamily.com
SUMMARY:Kalòpsia: un planeta no tan difrente\, cuentacuentos
DESCRIPTION:El Viernes 26 de Enero de 2024 a las 18:30 en la Biblioteca de Sant Joan de Labritja \nCuentacuentos a cargo de Anakrònica \nKalòpsia: un planeta no tan diferente \nDirigido para peques de a partir de 6 años
URL:https://ibizafunfamily.com/agenda/kalopsia-un-planeta-no-tan-difrente-cuentacuentos/
LOCATION:Biblioteca de Sant Joan\, PM-811\, 3 Edificio polivalente del ayuntamiento\, Sant Joan de Labritja\, Islas Baleares\, 07810\, España
CATEGORIES:Cuenta cuentos
ATTACH;FMTTYPE=image/jpeg:https://ibizafunfamily.com/wp-content/uploads/2024/01/anakronica-1.jpg
END:VEVENT
END:VCALENDAR