BEGIN:VCALENDAR
VERSION:2.0
PRODID:-//Ibiza Fun Family - ECPv6.15.17.1//NONSGML v1.0//EN
CALSCALE:GREGORIAN
METHOD:PUBLISH
X-ORIGINAL-URL:https://ibizafunfamily.com
X-WR-CALDESC:Eventos para Ibiza Fun Family
REFRESH-INTERVAL;VALUE=DURATION:PT1H
X-Robots-Tag:noindex
X-PUBLISHED-TTL:PT1H
BEGIN:VTIMEZONE
TZID:Europe/Madrid
BEGIN:DAYLIGHT
TZOFFSETFROM:+0100
TZOFFSETTO:+0200
TZNAME:CEST
DTSTART:20250330T010000
END:DAYLIGHT
BEGIN:STANDARD
TZOFFSETFROM:+0200
TZOFFSETTO:+0100
TZNAME:CET
DTSTART:20251026T010000
END:STANDARD
BEGIN:DAYLIGHT
TZOFFSETFROM:+0100
TZOFFSETTO:+0200
TZNAME:CEST
DTSTART:20260329T010000
END:DAYLIGHT
BEGIN:STANDARD
TZOFFSETFROM:+0200
TZOFFSETTO:+0100
TZNAME:CET
DTSTART:20261025T010000
END:STANDARD
BEGIN:DAYLIGHT
TZOFFSETFROM:+0100
TZOFFSETTO:+0200
TZNAME:CEST
DTSTART:20270328T010000
END:DAYLIGHT
BEGIN:STANDARD
TZOFFSETFROM:+0200
TZOFFSETTO:+0100
TZNAME:CET
DTSTART:20271031T010000
END:STANDARD
END:VTIMEZONE
BEGIN:VEVENT
DTSTART;VALUE=DATE:20260415
DTEND;VALUE=DATE:20260531
DTSTAMP:20260421T172517
CREATED:20260416T222758Z
LAST-MODIFIED:20260416T222758Z
UID:36789-1776211200-1780185599@ibizafunfamily.com
SUMMARY:Inscripciones de la escuela de Verano de Can Kairos
DESCRIPTION:Inscripciones  a partir del 15 de Abril de 2026 para la escuela de Verano de Can Kairos en la escuela de Liceo Francés de Ibiza \nDirigido para peques de 3 a 2014 con posibilidad de matinera\, comedor y tardana \n\n				\n					\n						Inscripciones
URL:https://ibizafunfamily.com/agenda/inscripciones-de-la-escuela-de-verano-de-can-kairos/
LOCATION:Islas Baleares
ATTACH;FMTTYPE=image/jpeg:https://ibizafunfamily.com/wp-content/uploads/2026/04/karios-inscrip.jpg
ORGANIZER;CN="Kairos Ibiza Eventos":MAILTO:kairosibizaeventos@gmail.com
END:VEVENT
BEGIN:VEVENT
DTSTART;TZID=Europe/Madrid:20260421T160000
DTEND;TZID=Europe/Madrid:20260421T173000
DTSTAMP:20260421T172517
CREATED:20250919T220330Z
LAST-MODIFIED:20250919T220330Z
UID:33103-1776787200-1776792600@ibizafunfamily.com
SUMMARY:Club de lectura infantil
DESCRIPTION:Los Martes a partir del 7 de Octubre hasta el 26 de Mayo de 2025 de 16:00 a 17:30 en la Biblioteca de Ses Figueretes \nClub de lectura\, para peques de a partir de 6 años \nLos clubs de lectura son una herramienta para la promoción lectora en el ámbito académico y escolar. La asociación de vecinos nos propone un plan aceesible a través de la biblioteca y la dinamización a cargo de MaritzaTejecuentos
URL:https://ibizafunfamily.com/agenda/club-de-lectura-infantil-36-29/
LOCATION:Biblioteca de Ses Figueretes\, C/ de Navarra\, 26\, baixos\, Eivissa\, Islas Baleares\, 07800\, España
ATTACH;FMTTYPE=image/jpeg:https://ibizafunfamily.com/wp-content/uploads/2025/09/curso-de-lectura.jpeg
END:VEVENT
BEGIN:VEVENT
DTSTART;TZID=Europe/Madrid:20260421T183000
DTEND;TZID=Europe/Madrid:20260421T193000
DTSTAMP:20260421T172517
CREATED:20260407T220743Z
LAST-MODIFIED:20260407T220743Z
UID:36569-1776796200-1776799800@ibizafunfamily.com
SUMMARY:Taller de Sant Jordi\, piruletas de chocolate
DESCRIPTION:El Martes 21 de Abril de 2026 a las 18:30 en el Casal de Joves de Formentera \nTaller de Sant Jordi\, Piruletas de chocolate con formas de corazones\, dragones y rosas
URL:https://ibizafunfamily.com/agenda/taller-de-sant-jordi-piruletas-de-chocolate/
LOCATION:Casal de Joves de Formentera\, Avda. Portossalè\, 88\, Formentera\, Islas Baleares\, 07860\, España
ATTACH;FMTTYPE=image/jpeg:https://ibizafunfamily.com/wp-content/uploads/2026/04/sant-jordi.jpg
ORGANIZER;CN="Consell de Formentera":MAILTO:presidencia@conselldeformentera.cat
END:VEVENT
BEGIN:VEVENT
DTSTART;TZID=Europe/Madrid:20260422T170000
DTEND;TZID=Europe/Madrid:20260422T170000
DTSTAMP:20260421T172517
CREATED:20260323T213304Z
LAST-MODIFIED:20260323T213304Z
UID:35895-1776877200-1776877200@ibizafunfamily.com
SUMMARY:Contacontes de Primavera 2026
DESCRIPTION:El próximo Miércoles 22 de Abril en la Biblioteca Pública del CEIP Sant Carles Encarna de las Heras nos trae el cuenta cuentos de «Cuentos de antes de las pantallas» \nHorario: a las 17h\nEdad recomendada: 4 años.
URL:https://ibizafunfamily.com/agenda/contacontes-de-primavera-2026/
LOCATION:Biblioteca Pública CEIP Sant Carles\, Calle Sant Carles\, 0\, Sant Carles de Peralta\, Islas Baleares\, 07840\, España
CATEGORIES:Cuenta cuentos
ATTACH;FMTTYPE=image/jpeg:https://ibizafunfamily.com/wp-content/uploads/2026/03/cuenta-cuentos-primavera-santa-eularia-2026.jpeg
ORGANIZER;CN="Ajuntament de Santa Eul%C3%A0ria des Riu":MAILTO:alcaldia@santaeularia.com
END:VEVENT
BEGIN:VEVENT
DTSTART;TZID=Europe/Madrid:20260422T173000
DTEND;TZID=Europe/Madrid:20260422T183000
DTSTAMP:20260421T172517
CREATED:20260406T145942Z
LAST-MODIFIED:20260406T145942Z
UID:36519-1776879000-1776882600@ibizafunfamily.com
SUMMARY:Cuentacuentos infantil.  El coleccionista de rondalles
DESCRIPTION:El miércoles 22  de Abril de 2026 a las 17:30  en la Biblioteca de Vicent Serra Orvay \nCuentacuentos infantil. \nEl coleccionista de rondalles \nA partir de 4 años\,  plazas limitadas\, 17 familias \nInscripción previa en el teléfono 871554056 \nbibliosantjordi@santjosep.org
URL:https://ibizafunfamily.com/agenda/cuentacuentos-infantil-el-coleccionista-de-rondalles/
LOCATION:Biblioteca Vicent Serra Orvay\, C/ de la Plaça Major\, 9\, Sant Jordi de ses Salines\, Islas Baleares\, 07817\, España
ATTACH;FMTTYPE=image/jpeg:https://ibizafunfamily.com/wp-content/uploads/2026/04/biblio.jpg
ORGANIZER;CN="Ajuntament de Sant Josep de Sa Talaia":MAILTO:alcaldia@santjosep.org
END:VEVENT
BEGIN:VEVENT
DTSTART;TZID=Europe/Madrid:20260423T100000
DTEND;TZID=Europe/Madrid:20260423T150000
DTSTAMP:20260421T172517
CREATED:20260406T150918Z
LAST-MODIFIED:20260406T150918Z
UID:36523-1776938400-1776956400@ibizafunfamily.com
SUMMARY:Taller infantil de flores de papel\, parada de libros gratuita
DESCRIPTION:El jueves 23 de Abril de 2026 en la Biblioteca Vicent Serra Orvay \nParada de libros gratuita de 10:00 a 15:00 \nTaller infantil de flores de papel\, de 10:00 a 11:30 \n*La biblioteca cerrara a las 15:00 \nInscripción previa al 871554056 o a bibliosantjordi@santjosep.org
URL:https://ibizafunfamily.com/agenda/taller-infantil-de-flores-de-papel-parada-de-libros-gratuita/
LOCATION:Biblioteca Vicent Serra Orvay\, C/ de la Plaça Major\, 9\, Sant Jordi de ses Salines\, Islas Baleares\, 07817\, España
ATTACH;FMTTYPE=image/jpeg:https://ibizafunfamily.com/wp-content/uploads/2026/04/biblio.jpg
ORGANIZER;CN="Ajuntament de Sant Josep de Sa Talaia":MAILTO:alcaldia@santjosep.org
END:VEVENT
BEGIN:VEVENT
DTSTART;TZID=Europe/Madrid:20260423T173000
DTEND;TZID=Europe/Madrid:20260423T173000
DTSTAMP:20260421T172517
CREATED:20260401T224235Z
LAST-MODIFIED:20260401T225725Z
UID:36359-1776965400-1776965400@ibizafunfamily.com
SUMMARY:Taller de huevos de dragón con arcilla
DESCRIPTION:El Jueves 23 de Abril de 2026 a las 17:30 en la Biblioteca de Cala de Bou \nTaller de huevos de dragón con arcilla \nA cargo de Claudia Moreno \nCelebra Sant Jordi  creando tus propios huevos de dragón! \nPara jugar\, divertirte y descubrir nuevas aficiones \nInscripción previa al wasap 971348630 o biblioteca.caladebou@santjosep.org
URL:https://ibizafunfamily.com/agenda/taller-de-huevos-de-dragon-con-arcilla/
LOCATION:Biblioteca Municipal de Cala de Bou\, C/ es calo\, n 127\, Cala de Bou\, Islas Baleares\, 07829\, España
ATTACH;FMTTYPE=image/jpeg:https://ibizafunfamily.com/wp-content/uploads/2026/04/cala-de-bou.jpg
ORGANIZER;CN="Ajuntament de Sant Josep de Sa Talaia":MAILTO:alcaldia@santjosep.org
END:VEVENT
BEGIN:VEVENT
DTSTART;TZID=Europe/Madrid:20260424T163000
DTEND;TZID=Europe/Madrid:20260424T173000
DTSTAMP:20260421T172517
CREATED:20260405T185408Z
LAST-MODIFIED:20260405T185408Z
UID:36490-1777048200-1777051800@ibizafunfamily.com
SUMMARY:Taller de cerámica\, tesoros del mar
DESCRIPTION:El  Viernes 24 de Abril de 2026 de 16:30 a 17:30 en Es Jardinet \nTaller de cerámica \, coral marino\, tesoros del mar \nPara todas las edades \nImpartido por Camila
URL:https://ibizafunfamily.com/agenda/taller-de-ceramica-tesoros-del-mar/
LOCATION:Es Jardinet\, Avenida Vicente Serra nº 28 local 3\, Sant Jordi\, Islas Baleares\, 7817\, Spain
CATEGORIES:Talleres
ATTACH;FMTTYPE=image/jpeg:https://ibizafunfamily.com/wp-content/uploads/2026/04/es-jardninet.jpg
END:VEVENT
BEGIN:VEVENT
DTSTART;TZID=Europe/Madrid:20260424T170000
DTEND;TZID=Europe/Madrid:20260424T170000
DTSTAMP:20260421T172517
CREATED:20260323T213927Z
LAST-MODIFIED:20260323T213927Z
UID:35897-1777050000-1777050000@ibizafunfamily.com
SUMMARY:Contacontes de Primavera 2026
DESCRIPTION:El próximo Viernes 4 de Abril en la Biblioteca Pública del CEIP Santa Gertrudis Sonrisas Mágicas nos contará el cuento de «En busca de los libros perdidos» \nHorario: a las 17h\nEdad recomendada: 4 años.
URL:https://ibizafunfamily.com/agenda/contacontes-de-primavera-2026-2/
LOCATION:CEIP Santa Gertrudis\, C/ de ses escoles\, 6\, Santa Gertrudis de Fruitera\, Islas Baleares\, 07814\, España
CATEGORIES:Cuenta cuentos
ATTACH;FMTTYPE=image/jpeg:https://ibizafunfamily.com/wp-content/uploads/2026/03/cuenta-cuentos-primavera-santa-eularia-2026.jpeg
ORGANIZER;CN="Ajuntament de Santa Eul%C3%A0ria des Riu":MAILTO:alcaldia@santaeularia.com
END:VEVENT
BEGIN:VEVENT
DTSTART;TZID=Europe/Madrid:20260424T180000
DTEND;TZID=Europe/Madrid:20260424T180000
DTSTAMP:20260421T172517
CREATED:20260130T232405Z
LAST-MODIFIED:20260130T232405Z
UID:35128-1777053600-1777053600@ibizafunfamily.com
SUMMARY:Cuentacuentos\, "Soc una nena"
DESCRIPTION:El próximo 24 de Abril a las 18h en el Casal d’ Igualtat del Ayuntament d’ Eivissa tenéis una cita con un cuentacuentos dirigido a niños y niñas de 3 a 12 años y sus familias. \nDespués habrá un pequeño taller. \nInscripciones en igualtat@eivissa.es o al teléfono 971 397 626
URL:https://ibizafunfamily.com/agenda/cuentacuentos-soc-una-nena/
LOCATION:Casal d’Igualtat\, Avinguda de la Pau\, 3\, Eivissa\, islas baleares\, 07800\, España
CATEGORIES:Cuenta cuentos
ATTACH;FMTTYPE=image/jpeg:https://ibizafunfamily.com/wp-content/uploads/2026/01/cuentacuentos-coeducativos-casal-igualtat-2026.jpeg
END:VEVENT
BEGIN:VEVENT
DTSTART;TZID=Europe/Madrid:20260424T203000
DTEND;TZID=Europe/Madrid:20260424T233000
DTSTAMP:20260421T172517
CREATED:20260129T201047Z
LAST-MODIFIED:20260129T201047Z
UID:35008-1777062600-1777073400@ibizafunfamily.com
SUMMARY:Noche de sueños y risas
DESCRIPTION:Cada viernes de 20:30 a 23:30 en Espacio Creativo del Blanco Producciones \nNoche de sueños y risas \nCada semana será una temática diferente \, entre manualidades\, juegos\, peli y picoteo \nA partir de 6 años \nPrecio 30€ \nReservas a Miriam al 645149728
URL:https://ibizafunfamily.com/agenda/noche-de-suenos-y-risas-13/
LOCATION:Del Blanco Espacio Creativo\, Calle Murcia 10\, Eivissa\, Islas Baleares\, 07800\, España
ATTACH;FMTTYPE=image/jpeg:https://ibizafunfamily.com/wp-content/uploads/2026/01/noche-de-buo.jpg
ORGANIZER;CN="Del Blanco Producciones":MAILTO:delblanco.espaciocreativo@gmail.com
END:VEVENT
BEGIN:VEVENT
DTSTART;TZID=Europe/Madrid:20260425T100000
DTEND;TZID=Europe/Madrid:20260425T130000
DTSTAMP:20260421T172517
CREATED:20260416T215420Z
LAST-MODIFIED:20260416T215420Z
UID:36766-1777111200-1777122000@ibizafunfamily.com
SUMMARY:Taller de bienestar herbario familiar
DESCRIPTION:El sábado 25 de Abril de 2026 de 10:00 a 13:00 en Insulae Sant Antoni \nTaller de bienestar herbario familiar con plantas medicinales de Ibiza \nAportación€ por familia con materiales incluidos/ Plazas limitadas \nReserva tu plaza  660660207
URL:https://ibizafunfamily.com/agenda/taller-de-bienestar-herbario-familiar/
LOCATION:Insulae\, Carrer de Ramón y Cajal\, 12\, bajos\, Sant Antoni de Portmany\, islas baleares\, 07820\, España
ATTACH;FMTTYPE=image/jpeg:https://ibizafunfamily.com/wp-content/uploads/2026/04/herbario-en-familia.jpg
ORGANIZER;CN="Insulae":MAILTO:info@insulaeibiza.com
END:VEVENT
BEGIN:VEVENT
DTSTART;TZID=Europe/Madrid:20260425T110000
DTEND;TZID=Europe/Madrid:20260425T120000
DTSTAMP:20260421T172517
CREATED:20260228T214259Z
LAST-MODIFIED:20260228T214259Z
UID:35443-1777114800-1777118400@ibizafunfamily.com
SUMMARY:Taller de manga
DESCRIPTION:Los sábados de 11:00 a 12:00 en el Barco de Papel \nTaller de manga \nDirigido para niños y niñas de 7 a 15 años \nMás información al 623199837 \nPrecio 18 euros
URL:https://ibizafunfamily.com/agenda/taller-de-manga-8/
LOCATION:Barco de Papel\, Carrer de Balears\, 19\, Eivissa\, islas baleares\, 07800\, España
ATTACH;FMTTYPE=image/jpeg:https://ibizafunfamily.com/wp-content/uploads/2026/02/taller-manga.jpg
END:VEVENT
BEGIN:VEVENT
DTSTART;TZID=Europe/Madrid:20260425T120000
DTEND;TZID=Europe/Madrid:20260425T150000
DTSTAMP:20260421T172517
CREATED:20260416T223557Z
LAST-MODIFIED:20260416T223557Z
UID:36796-1777118400-1777129200@ibizafunfamily.com
SUMMARY:Apertura para peques \,festival de música
DESCRIPTION:El Sábado 25 de Abril de 2026 de 12:00 a 15:00 en Parco \nAPERTURA DE TEMPORADA EN IBIZA… ¡PARA PEQUES! \nDirigido a peques de 0 a 10 años \nDJs en directo pinchando música apta para toda la familia Apariciones de personajes interactivos que animarán la fiesta Zonas creativas de la mano de Paintpots Espacio de mindfulness “Little Explorers” por Alison’s Wonderland Zona sensorial para menores de 3 años por Once Upon Ibiza Actividades deportivas con Ibiza Kids Camp Percusión con Trace Harris — ¡siente el ritmo! Un regalo especial TinyRaver a la llegada¿Tienes hambre? Parco ofrece comida\, menú infantil y bar (no incluido en la entrada) \n\nEntradas en: tinyraversibiza.com
URL:https://ibizafunfamily.com/agenda/apertura-para-peques-festival-de-musica/
LOCATION:Islas Baleares
ATTACH;FMTTYPE=image/jpeg:https://ibizafunfamily.com/wp-content/uploads/2026/04/tiny-ravers.jpg
ORGANIZER;CN="Tiny Ravers":MAILTO:hello@tinyraversibiza.com
END:VEVENT
BEGIN:VEVENT
DTSTART;TZID=Europe/Madrid:20260425T120000
DTEND;TZID=Europe/Madrid:20260425T213000
DTSTAMP:20260421T172517
CREATED:20260413T115405Z
LAST-MODIFIED:20260413T115405Z
UID:36687-1777118400-1777152600@ibizafunfamily.com
SUMMARY:II Feria Rural de Fruitera\, con bailes populares\, talleres infantiles
DESCRIPTION:El sábado 25 de Abril de 2026 a partir de las 12:00 en Santa Gertrudis \n12:00 Inauguración de la Feria \n12:15 Pasacalles y baile con el Grupo de Balls Tradicionals de Santa Gertrudis \n13:00 Inicio de la primera jornada del Campeonato de Tirada de Bitlles \n14:00 Paella popular\, venta de tiquetes el mismo dia \n16:00 a 19:00 Talleres infantiles a cargo de la Colla de l’Horta \n16:30 Taller de elaboración de pan\, impartido por Mari de Can Rubió\, pa Artesà \n21:00 Concierto de Arredefolk
URL:https://ibizafunfamily.com/agenda/ii-feria-rural-de-fruitera-con-bailes-populares-talleres-infantiles/
LOCATION:Plaza del Parque Santa Gertrudis\, Carrer Venda de sa Picassa\, 2\, Santa Gertrudis de Fruitera\, islas baleares\, 07814\, España
ATTACH;FMTTYPE=image/jpeg:https://ibizafunfamily.com/wp-content/uploads/2026/04/fira-rutal.jpg
END:VEVENT
BEGIN:VEVENT
DTSTART;TZID=Europe/Madrid:20260425T160000
DTEND;TZID=Europe/Madrid:20260425T200000
DTSTAMP:20260421T172517
CREATED:20260407T221941Z
LAST-MODIFIED:20260407T221941Z
UID:36578-1777132800-1777147200@ibizafunfamily.com
SUMMARY:La Petita intercultural\, talleres y actividades
DESCRIPTION:El Sábado 25 de Abril de 2026 de 16:00 a 20:00 en el Espai Cultural de Sant Ferran\, Formentera \nLa Petita intercultural\, talleres y actividades \n 
URL:https://ibizafunfamily.com/agenda/la-petita-intercultural-talleres-y-actividades/
LOCATION:Espai Cultural del Sant Ferran\, Carrer de Tarragona\, n6\, Sant Ferrant\, Baleares\, 07871\, España
ATTACH;FMTTYPE=image/jpeg:https://ibizafunfamily.com/wp-content/uploads/2026/04/formentera.jpg
ORGANIZER;CN="Consell de Formentera":MAILTO:presidencia@conselldeformentera.cat
END:VEVENT
BEGIN:VEVENT
DTSTART;TZID=Europe/Madrid:20260425T203000
DTEND;TZID=Europe/Madrid:20260425T230000
DTSTAMP:20260421T172517
CREATED:20260417T063557Z
LAST-MODIFIED:20260417T063557Z
UID:36805-1777149000-1777158000@ibizafunfamily.com
SUMMARY:La noche del Búho\, fiesta flúor
DESCRIPTION:El sábado 25 de Abril de 2026 de 20:30  a 23:00 Espai Momo Ibiza \nLa noche del Búho\, fiesta flúor \nA partir de los 6 años \n20€ \nEntradas C/ Pere Francés 32\, 07800 Ibiza\, whassap 657210726
URL:https://ibizafunfamily.com/agenda/la-noche-del-buho-fiesta-fluor/
LOCATION:Espai Momo Ibiza\, C/ Pere Francés n32\, Eivissa\, Islas Baleares\, 07800\, España
ATTACH;FMTTYPE=image/jpeg:https://ibizafunfamily.com/wp-content/uploads/2026/04/noche-de-buaho.jpg
END:VEVENT
BEGIN:VEVENT
DTSTART;TZID=Europe/Madrid:20260426T100000
DTEND;TZID=Europe/Madrid:20260426T113000
DTSTAMP:20260421T172517
CREATED:20260416T213620Z
LAST-MODIFIED:20260416T215645Z
UID:36750-1777197600-1777203000@ibizafunfamily.com
SUMMARY:Taller de papiroflexia
DESCRIPTION:El Domingo 26 de Abril de 2026 de 10:00 a 11:30 a Can Curt \nTaller de papiroflexia \nMáximo 12 peques ( traer tijeras y estuche) \nInscripciones en la dirección avsantagusti@gmail.com
URL:https://ibizafunfamily.com/agenda/taller-de-papiroflexia-5/
LOCATION:Can Curt\, Carrer des Vedrà\, 4
ATTACH;FMTTYPE=image/jpeg:https://ibizafunfamily.com/wp-content/uploads/2026/04/papiroflexia.jpg
ORGANIZER;CN="AAVV de Sant Agust%C3%AD":MAILTO:agustiners@hotmail.com
END:VEVENT
BEGIN:VEVENT
DTSTART;TZID=Europe/Madrid:20260426T110000
DTEND;TZID=Europe/Madrid:20260426T170000
DTSTAMP:20260421T172517
CREATED:20260413T120012Z
LAST-MODIFIED:20260413T120012Z
UID:36690-1777201200-1777222800@ibizafunfamily.com
SUMMARY:II Feria Rural de Fruitera\, con juego tradicionales gigantes\, talleres...
DESCRIPTION:El Domingo 26 de Abril de 2026 a partir de las 11:00 en Santa Gertrudis \n11:00 Segunda jornada de la fira y del campeonato de Tirada de Bitlles \n11:00 a 17:00 Juegos infantiles gigantes con Jugueroix. \n11:00 Taller de elaboración de pan\, impartido por Mari de Can Rubió \n11:30 Taller de elaboración de orelletas \n11:40 a 12:30 y de 16:00 a 18:00 Talleres infantiles a cargo de la Colla de l’Horta \n12:30 Ballada popular abierta a todas las collas de Ibiza \n16:00 Frita de cerdo popular \n16:00 Xacotada pagesa \n17:00 Final del campeonato y entrega de premios
URL:https://ibizafunfamily.com/agenda/ii-feria-rural-de-fruitera-con-juego-tradicionales-gigantes-talleres/
LOCATION:Plaza Nova de Santa Gertrudis\, Plaza de la Iglesia\, 5\, Santa Gertrudis de Fruitera\, islas baleares\, 07814\, España
ATTACH;FMTTYPE=image/jpeg:https://ibizafunfamily.com/wp-content/uploads/2026/04/fira-rutal.jpg
END:VEVENT
BEGIN:VEVENT
DTSTART;TZID=Europe/Madrid:20260428T160000
DTEND;TZID=Europe/Madrid:20260428T173000
DTSTAMP:20260421T172517
CREATED:20250919T220330Z
LAST-MODIFIED:20250919T220330Z
UID:33104-1777392000-1777397400@ibizafunfamily.com
SUMMARY:Club de lectura infantil
DESCRIPTION:Los Martes a partir del 7 de Octubre hasta el 26 de Mayo de 2025 de 16:00 a 17:30 en la Biblioteca de Ses Figueretes \nClub de lectura\, para peques de a partir de 6 años \nLos clubs de lectura son una herramienta para la promoción lectora en el ámbito académico y escolar. La asociación de vecinos nos propone un plan aceesible a través de la biblioteca y la dinamización a cargo de MaritzaTejecuentos
URL:https://ibizafunfamily.com/agenda/club-de-lectura-infantil-36-30/
LOCATION:Biblioteca de Ses Figueretes\, C/ de Navarra\, 26\, baixos\, Eivissa\, Islas Baleares\, 07800\, España
ATTACH;FMTTYPE=image/jpeg:https://ibizafunfamily.com/wp-content/uploads/2025/09/curso-de-lectura.jpeg
END:VEVENT
BEGIN:VEVENT
DTSTART;TZID=Europe/Madrid:20260501T110000
DTEND;TZID=Europe/Madrid:20260501T153000
DTSTAMP:20260421T172517
CREATED:20260416T221209Z
LAST-MODIFIED:20260416T221209Z
UID:36779-1777633200-1777649400@ibizafunfamily.com
SUMMARY:Feria del Libro en Sant Llorenç
DESCRIPTION:El Viernes 1 de Mayo de 2026 de 11:00 a 15:30 en Sant Llorenç \nFeria del Libro
URL:https://ibizafunfamily.com/agenda/feria-del-libro-en-sant-llorenc/
LOCATION:Plaza de la Iglesia de Sant Llorenç\, Balàfia de Dalt\, Sant Joan de Labritja\, Islas Baleares\, 07812\, España
ATTACH;FMTTYPE=image/jpeg:https://ibizafunfamily.com/wp-content/uploads/2026/04/fira-de-sant-joan.jpg
END:VEVENT
BEGIN:VEVENT
DTSTART;TZID=Europe/Madrid:20260501T203000
DTEND;TZID=Europe/Madrid:20260501T233000
DTSTAMP:20260421T172517
CREATED:20260129T201047Z
LAST-MODIFIED:20260129T201047Z
UID:35009-1777667400-1777678200@ibizafunfamily.com
SUMMARY:Noche de sueños y risas
DESCRIPTION:Cada viernes de 20:30 a 23:30 en Espacio Creativo del Blanco Producciones \nNoche de sueños y risas \nCada semana será una temática diferente \, entre manualidades\, juegos\, peli y picoteo \nA partir de 6 años \nPrecio 30€ \nReservas a Miriam al 645149728
URL:https://ibizafunfamily.com/agenda/noche-de-suenos-y-risas-14/
LOCATION:Del Blanco Espacio Creativo\, Calle Murcia 10\, Eivissa\, Islas Baleares\, 07800\, España
ATTACH;FMTTYPE=image/jpeg:https://ibizafunfamily.com/wp-content/uploads/2026/01/noche-de-buo.jpg
ORGANIZER;CN="Del Blanco Producciones":MAILTO:delblanco.espaciocreativo@gmail.com
END:VEVENT
BEGIN:VEVENT
DTSTART;TZID=Europe/Madrid:20260502T110000
DTEND;TZID=Europe/Madrid:20260502T120000
DTSTAMP:20260421T172517
CREATED:20260228T214300Z
LAST-MODIFIED:20260228T214300Z
UID:35444-1777719600-1777723200@ibizafunfamily.com
SUMMARY:Taller de manga
DESCRIPTION:Los sábados de 11:00 a 12:00 en el Barco de Papel \nTaller de manga \nDirigido para niños y niñas de 7 a 15 años \nMás información al 623199837 \nPrecio 18 euros
URL:https://ibizafunfamily.com/agenda/taller-de-manga-9/
LOCATION:Barco de Papel\, Carrer de Balears\, 19\, Eivissa\, islas baleares\, 07800\, España
ATTACH;FMTTYPE=image/jpeg:https://ibizafunfamily.com/wp-content/uploads/2026/02/taller-manga.jpg
END:VEVENT
BEGIN:VEVENT
DTSTART;TZID=Europe/Madrid:20260505T160000
DTEND;TZID=Europe/Madrid:20260505T173000
DTSTAMP:20260421T172518
CREATED:20250919T220330Z
LAST-MODIFIED:20250919T220330Z
UID:33105-1777996800-1778002200@ibizafunfamily.com
SUMMARY:Club de lectura infantil
DESCRIPTION:Los Martes a partir del 7 de Octubre hasta el 26 de Mayo de 2025 de 16:00 a 17:30 en la Biblioteca de Ses Figueretes \nClub de lectura\, para peques de a partir de 6 años \nLos clubs de lectura son una herramienta para la promoción lectora en el ámbito académico y escolar. La asociación de vecinos nos propone un plan aceesible a través de la biblioteca y la dinamización a cargo de MaritzaTejecuentos
URL:https://ibizafunfamily.com/agenda/club-de-lectura-infantil-36-31/
LOCATION:Biblioteca de Ses Figueretes\, C/ de Navarra\, 26\, baixos\, Eivissa\, Islas Baleares\, 07800\, España
ATTACH;FMTTYPE=image/jpeg:https://ibizafunfamily.com/wp-content/uploads/2025/09/curso-de-lectura.jpeg
END:VEVENT
BEGIN:VEVENT
DTSTART;TZID=Europe/Madrid:20260505T170000
DTEND;TZID=Europe/Madrid:20260505T170000
DTSTAMP:20260421T172518
CREATED:20260323T214412Z
LAST-MODIFIED:20260323T214412Z
UID:35899-1778000400-1778000400@ibizafunfamily.com
SUMMARY:Contacontes de Primavera 2026
DESCRIPTION:El próximo Martes 5 de Mayo en el Centro Cultural de Jesús Encarna de las Heras nos trae el cuento «Tráete tus orejas» \nHorario: a las 17h\nEdad recomendada: 4 años.
URL:https://ibizafunfamily.com/agenda/contacontes-de-primavera-2026-3/
LOCATION:Centro Cultural de Jesús\, C del Faisán\, n7\, Santa Eulària des Riu\, Islas Baleares\, 07819\, España
CATEGORIES:Cuenta cuentos
ATTACH;FMTTYPE=image/jpeg:https://ibizafunfamily.com/wp-content/uploads/2026/03/cuenta-cuentos-primavera-santa-eularia-2026.jpeg
ORGANIZER;CN="Ajuntament de Santa Eul%C3%A0ria des Riu":MAILTO:alcaldia@santaeularia.com
END:VEVENT
BEGIN:VEVENT
DTSTART;VALUE=DATE:20260507
DTEND;VALUE=DATE:20260511
DTSTAMP:20260421T172518
CREATED:20260324T081858Z
LAST-MODIFIED:20260324T081858Z
UID:35947-1778112000-1778457599@ibizafunfamily.com
SUMMARY:Feria Medieval de Ibiza
DESCRIPTION:Ya tenemos las fechas para el Medieval de Ibiza\, este año se celebra los días 7\, 8\, 9 y 10 de Mayo de 2026 desde el paseo Vara de Rey\, Dalt Vila y la calle Antoni Palau (conocida calle de las Farmacias) y alrededores. \nOs traeremos todo la programación en cuanto se publique
URL:https://ibizafunfamily.com/agenda/feria-medieval-de-ibiza/
LOCATION:Dalt Vila\, Dalt Vila\, Eivissa\, Islas Baleares\, 07800\, España
CATEGORIES:Feria
ATTACH;FMTTYPE=image/png:https://ibizafunfamily.com/wp-content/uploads/2026/03/foto-medieval-ibiza-fecha-2026.png
END:VEVENT
BEGIN:VEVENT
DTSTART;TZID=Europe/Madrid:20260507T170000
DTEND;TZID=Europe/Madrid:20260507T170000
DTSTAMP:20260421T172518
CREATED:20260323T215028Z
LAST-MODIFIED:20260323T215028Z
UID:35907-1778173200-1778173200@ibizafunfamily.com
SUMMARY:Contacontes de Primavera 2026
DESCRIPTION:El próximo 7 de Mayo a las 17h en la Biblioteca Municipal de Santa Eulària tendremos el placer de disfrutar del cuento «Un mundo de cuentos» a cargo de Maritza TejeCuentos \nDirigido a niños y niñas a partir de 4 años \nNo te lo puedes perder!
URL:https://ibizafunfamily.com/agenda/contacontes-de-primavera-2026-6/
LOCATION:Biblioteca Municipal de Santa Eulalia\, Carrer Joan Tur Tur\, n9\, Santa Eulària des Riu\, Islas Baleares\, 07840\, España
CATEGORIES:Cuenta cuentos
ATTACH;FMTTYPE=image/jpeg:https://ibizafunfamily.com/wp-content/uploads/2026/03/cuenta-cuentos-primavera-santa-eularia-2026.jpeg
ORGANIZER;CN="Ajuntament de Santa Eul%C3%A0ria des Riu":MAILTO:alcaldia@santaeularia.com
END:VEVENT
BEGIN:VEVENT
DTSTART;TZID=Europe/Madrid:20260507T170000
DTEND;TZID=Europe/Madrid:20260507T183000
DTSTAMP:20260421T172518
CREATED:20260319T220024Z
LAST-MODIFIED:20260319T220545Z
UID:35793-1778173200-1778178600@ibizafunfamily.com
SUMMARY:Espai sala de llum\, Espais familiars 2026
DESCRIPTION:El próximo 7 de Mayo se llevará a cabo un taller para niños y niñas de 0-3 años «Espai sala de la llum» \nSe realizará en la Escoleta de Es Vedranell (zona escolar de Sant Agustí) en horario de 17 a 18:30h \nHabrá actividades y cuidado de  menores. \nPrecio total: 18€ las 6 sesiones\, merienda incluida.\nForma parte de «Espais Familiars del curso 2025-2026» abiertos para familias de todos los centros educativos (sea o no de la escoleta) \nApuntaros en la dirección del centro:\nemail: escoletaesvedranell@gmail.com\nTeléfono: 657 364 031 \nPlazas limitadas
URL:https://ibizafunfamily.com/agenda/espai-sala-de-llum/
LOCATION:Escoleta Es Vedranell\, Cami Pu den Mosson\, s/n\, Sant Agustí\, Islas Baleares\, 07830\, España
CATEGORIES:Talleres
ATTACH;FMTTYPE=image/jpeg:https://ibizafunfamily.com/wp-content/uploads/2026/03/talleres-familia-escoleta-es-vedranell-2026.jpeg
ORGANIZER;CN="Escoleta Es Vedranell":MAILTO:eiesvedranell@estudi6.com
END:VEVENT
BEGIN:VEVENT
DTSTART;TZID=Europe/Madrid:20260508T203000
DTEND;TZID=Europe/Madrid:20260508T233000
DTSTAMP:20260421T172518
CREATED:20260129T201047Z
LAST-MODIFIED:20260129T201047Z
UID:35010-1778272200-1778283000@ibizafunfamily.com
SUMMARY:Noche de sueños y risas
DESCRIPTION:Cada viernes de 20:30 a 23:30 en Espacio Creativo del Blanco Producciones \nNoche de sueños y risas \nCada semana será una temática diferente \, entre manualidades\, juegos\, peli y picoteo \nA partir de 6 años \nPrecio 30€ \nReservas a Miriam al 645149728
URL:https://ibizafunfamily.com/agenda/noche-de-suenos-y-risas-15/
LOCATION:Del Blanco Espacio Creativo\, Calle Murcia 10\, Eivissa\, Islas Baleares\, 07800\, España
ATTACH;FMTTYPE=image/jpeg:https://ibizafunfamily.com/wp-content/uploads/2026/01/noche-de-buo.jpg
ORGANIZER;CN="Del Blanco Producciones":MAILTO:delblanco.espaciocreativo@gmail.com
END:VEVENT
BEGIN:VEVENT
DTSTART;TZID=Europe/Madrid:20260509T110000
DTEND;TZID=Europe/Madrid:20260509T120000
DTSTAMP:20260421T172518
CREATED:20260228T214300Z
LAST-MODIFIED:20260228T214300Z
UID:35445-1778324400-1778328000@ibizafunfamily.com
SUMMARY:Taller de manga
DESCRIPTION:Los sábados de 11:00 a 12:00 en el Barco de Papel \nTaller de manga \nDirigido para niños y niñas de 7 a 15 años \nMás información al 623199837 \nPrecio 18 euros
URL:https://ibizafunfamily.com/agenda/taller-de-manga-10/
LOCATION:Barco de Papel\, Carrer de Balears\, 19\, Eivissa\, islas baleares\, 07800\, España
ATTACH;FMTTYPE=image/jpeg:https://ibizafunfamily.com/wp-content/uploads/2026/02/taller-manga.jpg
END:VEVENT
END:VCALENDAR